BEGIN:VCALENDAR
VERSION:2.0
PRODID:-//Comité de Bretagne de Cyclisme - ECPv6.15.20//NONSGML v1.0//EN
CALSCALE:GREGORIAN
METHOD:PUBLISH
X-WR-CALNAME:Comité de Bretagne de Cyclisme
X-ORIGINAL-URL:https://www.cyclisme.bzh
X-WR-CALDESC:Évènements pour Comité de Bretagne de Cyclisme
REFRESH-INTERVAL;VALUE=DURATION:PT1H
X-Robots-Tag:noindex
X-PUBLISHED-TTL:PT1H
BEGIN:VTIMEZONE
TZID:Europe/Paris
BEGIN:DAYLIGHT
TZOFFSETFROM:+0100
TZOFFSETTO:+0200
TZNAME:CEST
DTSTART:20210328T010000
END:DAYLIGHT
BEGIN:STANDARD
TZOFFSETFROM:+0200
TZOFFSETTO:+0100
TZNAME:CET
DTSTART:20211031T010000
END:STANDARD
BEGIN:DAYLIGHT
TZOFFSETFROM:+0100
TZOFFSETTO:+0200
TZNAME:CEST
DTSTART:20220327T010000
END:DAYLIGHT
BEGIN:STANDARD
TZOFFSETFROM:+0200
TZOFFSETTO:+0100
TZNAME:CET
DTSTART:20221030T010000
END:STANDARD
BEGIN:DAYLIGHT
TZOFFSETFROM:+0100
TZOFFSETTO:+0200
TZNAME:CEST
DTSTART:20230326T010000
END:DAYLIGHT
BEGIN:STANDARD
TZOFFSETFROM:+0200
TZOFFSETTO:+0100
TZNAME:CET
DTSTART:20231029T010000
END:STANDARD
END:VTIMEZONE
BEGIN:VEVENT
DTSTART;VALUE=DATE:20220501
DTEND;VALUE=DATE:20220502
DTSTAMP:20260420T003040
CREATED:20220419T142134Z
LAST-MODIFIED:20220420T114859Z
UID:10001226-1651363200-1651449599@www.cyclisme.bzh
SUMMARY:La Chapelle De Brain - Coupe de Bretagne XC
DESCRIPTION:départs : \n\n poussins : 9h 15 – pupilles : 9h35 – benjamins : 10h10 – engagement : 6 €\nminimes H/F : 11h – cadets H/F : 14h – engagement 10 €\nmasters 40-50 H : 12h – engagement : 11.50 €\ndépartementaux H : 12h02 – engagement : 11.50 €\njuniors H/F : 15h30 – engagement : 11.50 €\nPDJ : Daniel Le Port\n\n 
URL:https://www.cyclisme.bzh/epreuve-calendrier/la-chapelle-de-brain-coupe-de-bretagne-xc/
LOCATION:LA CHAPELLE DE BRAIN\, France
CATEGORIES:Cyclosportive
ATTACH;FMTTYPE=image/png:https://www.cyclisme.bzh/wp-content/uploads/2022/04/affiche.png
END:VEVENT
END:VCALENDAR