BEGIN:VCALENDAR
VERSION:2.0
PRODID:-//Comité de Bretagne de Cyclisme - ECPv6.15.20//NONSGML v1.0//EN
CALSCALE:GREGORIAN
METHOD:PUBLISH
X-WR-CALNAME:Comité de Bretagne de Cyclisme
X-ORIGINAL-URL:https://www.cyclisme.bzh
X-WR-CALDESC:Évènements pour Comité de Bretagne de Cyclisme
REFRESH-INTERVAL;VALUE=DURATION:PT1H
X-Robots-Tag:noindex
X-PUBLISHED-TTL:PT1H
BEGIN:VTIMEZONE
TZID:Europe/Paris
BEGIN:DAYLIGHT
TZOFFSETFROM:+0100
TZOFFSETTO:+0200
TZNAME:CEST
DTSTART:20210328T010000
END:DAYLIGHT
BEGIN:STANDARD
TZOFFSETFROM:+0200
TZOFFSETTO:+0100
TZNAME:CET
DTSTART:20211031T010000
END:STANDARD
BEGIN:DAYLIGHT
TZOFFSETFROM:+0100
TZOFFSETTO:+0200
TZNAME:CEST
DTSTART:20220327T010000
END:DAYLIGHT
BEGIN:STANDARD
TZOFFSETFROM:+0200
TZOFFSETTO:+0100
TZNAME:CET
DTSTART:20221030T010000
END:STANDARD
BEGIN:DAYLIGHT
TZOFFSETFROM:+0100
TZOFFSETTO:+0200
TZNAME:CEST
DTSTART:20230326T010000
END:DAYLIGHT
BEGIN:STANDARD
TZOFFSETFROM:+0200
TZOFFSETTO:+0100
TZNAME:CET
DTSTART:20231029T010000
END:STANDARD
END:VTIMEZONE
BEGIN:VEVENT
DTSTART;VALUE=DATE:20220618
DTEND;VALUE=DATE:20220619
DTSTAMP:20260422T092116
CREATED:20220516T132001Z
LAST-MODIFIED:20220613T080013Z
UID:10001324-1655510400-1655596799@www.cyclisme.bzh
SUMMARY:L'Hermitage - Championnats 35 2ème et 3ème catégories
DESCRIPTION:PC / PC Open + Féminines 17 + – Aucun engagement sur la ligne : \nD1 / D2 : Départ 13h – 13 tours x 4.85 km – Limité à 85 engagés \nD3 / D4  : Départ 13h01 – 11 tours x 4.85 km – Limité à 85 engagés \nFéminines : Départ 13h03 – 12 tours x 4.85 km – Limité à 30 engagées \nEngagement : 8.50€ \nPrix féminines : 91 / 5 – 1er prix : 29€ \n2/3ème catégories : \nDépart 16h \n13 tours x 8.479 km \nEngagement : 8.50€ \nPrix coureurs : 459 / 20 – 1er prix : 91€ \nPrix 3ème cat : 91 / 5 – 1er prix : 29€ \nEngagements : \nOuverture le 17/05/2022 à 18h \nFermeture le 15/06/2022 à 20h \nPrésident de jury : \nÉpreuve Pass : TRUTTIN Gaston \nÉpreuve 2/3 : PIETTE Jean-Louis
URL:https://www.cyclisme.bzh/epreuve-calendrier/lhermitage-championnats-35-2eme-3eme-categories/
LOCATION:L’HERMITAGE
ORGANIZER;CN="CC RENNAIS (4335078)":MAILTO:patrick.frin@orange.fr
END:VEVENT
END:VCALENDAR