BEGIN:VCALENDAR
VERSION:2.0
PRODID:-//Comité de Bretagne de Cyclisme - ECPv6.15.20//NONSGML v1.0//EN
CALSCALE:GREGORIAN
METHOD:PUBLISH
X-ORIGINAL-URL:https://www.cyclisme.bzh
X-WR-CALDESC:Évènements pour Comité de Bretagne de Cyclisme
REFRESH-INTERVAL;VALUE=DURATION:PT1H
X-Robots-Tag:noindex
X-PUBLISHED-TTL:PT1H
BEGIN:VTIMEZONE
TZID:Europe/Paris
BEGIN:DAYLIGHT
TZOFFSETFROM:+0100
TZOFFSETTO:+0200
TZNAME:CEST
DTSTART:20250330T010000
END:DAYLIGHT
BEGIN:STANDARD
TZOFFSETFROM:+0200
TZOFFSETTO:+0100
TZNAME:CET
DTSTART:20251026T010000
END:STANDARD
BEGIN:DAYLIGHT
TZOFFSETFROM:+0100
TZOFFSETTO:+0200
TZNAME:CEST
DTSTART:20260329T010000
END:DAYLIGHT
BEGIN:STANDARD
TZOFFSETFROM:+0200
TZOFFSETTO:+0100
TZNAME:CET
DTSTART:20261025T010000
END:STANDARD
BEGIN:DAYLIGHT
TZOFFSETFROM:+0100
TZOFFSETTO:+0200
TZNAME:CEST
DTSTART:20270328T010000
END:DAYLIGHT
BEGIN:STANDARD
TZOFFSETFROM:+0200
TZOFFSETTO:+0100
TZNAME:CET
DTSTART:20271031T010000
END:STANDARD
END:VTIMEZONE
BEGIN:VEVENT
DTSTART;VALUE=DATE:20260501
DTEND;VALUE=DATE:20260502
DTSTAMP:20260421T215652
CREATED:20260305T144944Z
LAST-MODIFIED:20260408T081851Z
UID:10003390-1777593600-1777679999@www.cyclisme.bzh
SUMMARY:Le Bran (Gaël)
DESCRIPTION:U15 H/F + U17 F: \n\ndépart: 13h30\n10 tours x 3.3 km = 33 km\nEngagements: 8€ sur le web – 10€ sur la ligne\n\n  \nAccess 1-2-3-4 H/F: \n\n2 départs:\n\n– Access 1-2: 15h15 – 10 tours x 7.8 km = 78 km \n– Access 3-4: 15h16 – 9 tours x 7.8 km = 70.2 km \n\nEngagements: 10€ sur le web – 12€ sur la ligne\n\n  \nOuverture des engagements: le 07/04/2026 à 18h\, clôture le mardi 28/04/2026 à 20h \nRenseignements: \n\nLELIEVRE Emilie – e-mail: jeje35290@hotmail.fr / Port: 06.71.50.99.72
URL:https://www.cyclisme.bzh/epreuve-calendrier/le-bran-gael-3/
LOCATION:LE BRAN GAEL\, France
CATEGORIES:Access 1,Access 2,Access 3,Access 4,U15,U17 F
ATTACH;FMTTYPE=image/jpeg:https://www.cyclisme.bzh/wp-content/uploads/2026/03/FB_IMG_1775106350601.jpg
END:VEVENT
END:VCALENDAR