BEGIN:VCALENDAR
VERSION:2.0
PRODID:-//Comité de Bretagne de Cyclisme - ECPv6.15.20//NONSGML v1.0//EN
CALSCALE:GREGORIAN
METHOD:PUBLISH
X-ORIGINAL-URL:https://www.cyclisme.bzh
X-WR-CALDESC:Évènements pour Comité de Bretagne de Cyclisme
REFRESH-INTERVAL;VALUE=DURATION:PT1H
X-Robots-Tag:noindex
X-PUBLISHED-TTL:PT1H
BEGIN:VTIMEZONE
TZID:Europe/Paris
BEGIN:DAYLIGHT
TZOFFSETFROM:+0100
TZOFFSETTO:+0200
TZNAME:CEST
DTSTART:20230326T010000
END:DAYLIGHT
BEGIN:STANDARD
TZOFFSETFROM:+0200
TZOFFSETTO:+0100
TZNAME:CET
DTSTART:20231029T010000
END:STANDARD
BEGIN:DAYLIGHT
TZOFFSETFROM:+0100
TZOFFSETTO:+0200
TZNAME:CEST
DTSTART:20240331T010000
END:DAYLIGHT
BEGIN:STANDARD
TZOFFSETFROM:+0200
TZOFFSETTO:+0100
TZNAME:CET
DTSTART:20241027T010000
END:STANDARD
BEGIN:DAYLIGHT
TZOFFSETFROM:+0100
TZOFFSETTO:+0200
TZNAME:CEST
DTSTART:20250330T010000
END:DAYLIGHT
BEGIN:STANDARD
TZOFFSETFROM:+0200
TZOFFSETTO:+0100
TZNAME:CET
DTSTART:20251026T010000
END:STANDARD
END:VTIMEZONE
BEGIN:VEVENT
DTSTART;VALUE=DATE:20240323
DTEND;VALUE=DATE:20240324
DTSTAMP:20260421T034716
CREATED:20240129T095439Z
LAST-MODIFIED:20240304T151934Z
UID:10002234-1711152000-1711238399@www.cyclisme.bzh
SUMMARY:Landivisiau - Grand Prix Gilbert Bousquet - Elite Nationale
DESCRIPTION:Elite + Open 1 H: \nLimité à 180 coureurs\, 10 par équipe \n\ndépart: 13h00\n113 km en ligne + 7 tours x 5 km = 148 km\nPrix coureurs: 1220/20\, 1er 246€\nPrix spéciaux Open 1: 427/10\, 1er 86€\nEngagements: 9€\n\n  \nOuverture des engagements: le 29/01/2024 à 18h\, clôture le mercredi 20/03/2024 à 17h \nRenseignements: CANN Jean-Pierre – e-mail: cann.jean-pierre@orange.fr / Port: 06.24.87.28.57 \nLire en plein écranAller au contenu PDF
URL:https://www.cyclisme.bzh/epreuve-calendrier/landivisiau-grand-prix-gilbert-bousquet-elite-nationale/
LOCATION:LANDIVISIAU\, LANDIVISIAU\, Bretagne\, France
CATEGORIES:Elite,Open 1
ATTACH;FMTTYPE=image/jpeg:https://www.cyclisme.bzh/wp-content/uploads/2024/01/landivisiau-prix-gilbert-bousquet-23-mars-2024-affichejpg-1.jpg
ORGANIZER;CN="UC Brestoise":MAILTO:cann.jean-pierre@orange.fr
END:VEVENT
BEGIN:VEVENT
DTSTART;VALUE=DATE:20240323
DTEND;VALUE=DATE:20240324
DTSTAMP:20260421T034716
CREATED:20240213T154249Z
LAST-MODIFIED:20240320T075543Z
UID:10002256-1711152000-1711238399@www.cyclisme.bzh
SUMMARY:Mégrit - Souvenir Jacky Drouet
DESCRIPTION:Access 3-4 H/F: \n\ndépart: 13h00\n10 tours x 6.2 km = 62 km\nEngagements: 9€\n\n  \nOpen 2-3 + Access 1-2 H/F: \n\ndépart: 15h00\n15 tours x 6.2 km = 93 km\nPrix coureurs: 183/10\, 1er 37€\nEngagements: 9€\n\n  \nOuverture des engagements: le 13/02/2024 à 18h\, clôture le mercredi 20/03/2024 à 20h / à 9h pour l’épreuve Open 2-3 + Access 1-2 \nRenseignements: LEBRAS Céline – e-mail: patrice.lebras@wanadoo.fr / Port: 06.32.29.94.52
URL:https://www.cyclisme.bzh/epreuve-calendrier/megrit-souvenir-jacky-drouet/
LOCATION:MEGRIT\, MEGRIT\, Bretagne\, France
CATEGORIES:Access 1,Access 2,Access 3,Access 4,Open 2,Open 3
ORGANIZER;CN="TEAM MEGRIT (4322459)":MAILTO:patrice.lebras@wanadoo.fr
END:VEVENT
BEGIN:VEVENT
DTSTART;VALUE=DATE:20240323
DTEND;VALUE=DATE:20240324
DTSTAMP:20260421T034716
CREATED:20240215T091941Z
LAST-MODIFIED:20240215T092011Z
UID:10002258-1711152000-1711238399@www.cyclisme.bzh
SUMMARY:Landivisiau - Souvenir Georges Tigreat
DESCRIPTION:Open 2-3 + Access 1-2 H/F: \n\ndépart: 13h15\n19 tours x 3.5 km = 66.5 km\nPrix coureurs: 259/15\, 1er 50€\nPrix spéciaux U19: 61/5\, 1er 21€\nEngagements: 9€\n\n  \nOuverture des engagements: le 15/02/2024 à 18h\, clôture le mercredi 20/03/2024 à 20h \nRenseignements: FLOCH Bernard – 06.64.70.18.74
URL:https://www.cyclisme.bzh/epreuve-calendrier/landivisiau-souvenir-georges-tigreat-3/
LOCATION:LANDIVISIAU\, LANDIVISIAU\, Bretagne\, France
CATEGORIES:Access 1,Access 2,Open 2,Open 3
ORGANIZER;CN="LANDIVISIENNE CYCLISTE (4329019)":MAILTO:landivisienne.c@laposte.net
END:VEVENT
BEGIN:VEVENT
DTSTART;VALUE=DATE:20240323
DTEND;VALUE=DATE:20240325
DTSTAMP:20260421T034716
CREATED:20240228T151627Z
LAST-MODIFIED:20240228T153332Z
UID:10002280-1711152000-1711324799@www.cyclisme.bzh
SUMMARY:Guégon - Les Boucles Guégonnaises
DESCRIPTION:Le 23/03/2024: \nRégularité route – U7 H/F à U13 H/F: \n\ndépart: 13h00\ndistance selon l’âge\nEngagements: 2€\n\n  \nCoupe de France Femmes N1 #1 – Elite Pro Femme à Open 3 \n\ndépart: 15h00\n 10 tours x 10 km = 100 km\nPrix coureurs: 1220/20\, 1ère 246€\nEngagements: 9€\n\n  \n************************************************************************ \nLe 24/03/2024: \nAccess 1-2-3-4 H/F: \n\ndépart: 13h35\n\n– Access 1-2: 10 tours x 6.88 km = 68.8 km \n– Access 3-4: 8 tours x 6.88 km = 55.04 km \n\nEngagements: 9€\n\n  \nFédérale Elite + Open 1 H: épreuve en ligne + circuit final \nLimité à 10 par équipe \n\ndépart: 13h30\n100 km en ligne + 7 tours x 10 km = 170 km\nPrix coureurs: 1220/20\, 1er 246€\nPrix spéciaux Open 1: 459/10\, 1er 93€\nEngagements: 9€\n\n  \nCoupe de France Femmes N2 #1 – Elite à Open 3 \n\ndépart: 9h30\n8 tours x 10 km = 80 km\nPrix coureurs: 750/20\, 1ère 150€\nEngagements: 9€\n\n  \nOuverture des engagements: le 28/02/2024 à 18h – 07/03/2024 à 18h pour la Fédérale hommes\, clôture le mercredi 20/03/2024 à 19h pour tous \nRenseignements: BELLANGER Gaëtan – e-mail: ucpjosselin@gmail.com / Port: 06.73.35.77.43 \ncourses@bouclesguegonnaises.fr \n 
URL:https://www.cyclisme.bzh/epreuve-calendrier/guegon-les-boucles-guegonnaises/
LOCATION:GUEGON\, GUEGON\, Bretagne\, France
CATEGORIES:Access 1,Access 2,Access 3,Access 4,Elite,Elite Pro,Open 1,Open 2,Open 3,U11,U13,U7,U9
ATTACH;FMTTYPE=image/jpeg:https://www.cyclisme.bzh/wp-content/uploads/2024/02/unnamed.jpg
ORGANIZER;CN="UC PAYS DE JOSSELIN (4356215)":MAILTO:ucjosselin@hotmail.fr
END:VEVENT
BEGIN:VEVENT
DTSTART;VALUE=DATE:20240324
DTEND;VALUE=DATE:20240325
DTSTAMP:20260421T034716
CREATED:20240124T112613Z
LAST-MODIFIED:20240227T105647Z
UID:10002224-1711238400-1711324799@www.cyclisme.bzh
SUMMARY:Gourin - la Pass du Printemps
DESCRIPTION:U17 H/F:  \n\ndépart: 13h00\n16 tours x 3.37 km = 53.92 km\nEngagements: 6.50€\n\n  \nAccess 1-2-3-4 H/F: \n\ndépart: 15h30\n19 tours x 3.37 km = 64.03 km\nEngagements: 9€\n\n  \nOuverture des engagements: le 24/01/2024 à 18h\, clôture le jeudi 21/03/2024 à 20h \nRenseignements: CANEVET Jocelyn – canevetjocelyn29@gmail.com / Port: 06.36.12.35.18 ou CALVE Sébastien – calve.seb@gmail.com / Port: 06.62.69.29.94 \n 
URL:https://www.cyclisme.bzh/epreuve-calendrier/gourin-la-pass-du-printemps-2/
LOCATION:GOURIN\, France
CATEGORIES:Access 1,Access 2,Access 3,Access 4,U17
ATTACH;FMTTYPE=image/jpeg:https://www.cyclisme.bzh/wp-content/uploads/2024/01/gourin-24-mars-2024-affiche.jpg
ORGANIZER;CN="CHASSEURS DE GOURIN (4356096)":MAILTO:clubcyclistegourin@gmail.com
END:VEVENT
BEGIN:VEVENT
DTSTART;VALUE=DATE:20240324
DTEND;VALUE=DATE:20240325
DTSTAMP:20260421T034716
CREATED:20240130T110010Z
LAST-MODIFIED:20240319T140336Z
UID:10002238-1711238400-1711324799@www.cyclisme.bzh
SUMMARY:Callac - U15 H/F + U17 F - 1ère manche de la Coupe de Bretagne - Crédit Agricole pour les U17 H et U19 H
DESCRIPTION:U15 H/F + U17 F: \n\ndépart: 13h30\n6 tours x 5.1 km = 30.6 km\nPrix coureurs: 107/10\, 1er 20€\nEngagements: 6.50€\n\n  \nU17 H/F – Coupe de Bretagne-Crédit Agricole pour les U17 H \n\ndépart: 10h00\n7 tours x 8 km = 56 km\nPrix coureurs: 107/10\, 1er 20€\nEngagements: 7€\n\n  \nU19 H/F – Coupe de Bretagne-Crédit Agricole pour les U19 H \n\ndépart: 15h00\n13 tours x 8 km =  104 km\nPrix coureurs: 259/15\, 1er 50€\nEngagements: 9€\n\n  \nOuverture des engagements: le 30/01/2024 à 18h\, clôture le jeudi 21/03/2024 à 20h \nRenseignements: ROBIN Jean-Marc – j.robin@cyclisme.bzh / Port: 06.07.62.72.38 \nLire en plein écranAller au contenu PDF\n 
URL:https://www.cyclisme.bzh/epreuve-calendrier/callac-u15-h-f-u17-f-1ere-manche-de-la-coupe-de-bretagne-credit-agricole-pour-les-u17-h-et-u19-h/
LOCATION:CALLAC\, CALLAC\, Bretagne\, France
CATEGORIES:U15,U17,U19
END:VEVENT
BEGIN:VEVENT
DTSTART;VALUE=DATE:20240324
DTEND;VALUE=DATE:20240325
DTSTAMP:20260421T034716
CREATED:20240209T085358Z
LAST-MODIFIED:20240213T083535Z
UID:10002252-1711238400-1711324799@www.cyclisme.bzh
SUMMARY:La Bouexière - Grand Prix Cycliste des Commerçants et Artisans
DESCRIPTION:PAS D’ENGAGEMENT SUR LA LIGNE \nOuverture des engagements: le 09/02/2024 à 18h\, clôture le mercredi 20/03/2024 à 20h \nRenseignements: BOURDINIERE Florent – e-mail: bourdiniereflorent@gmail.com \nLire en plein écranAller au contenu PDF
URL:https://www.cyclisme.bzh/epreuve-calendrier/la-bouexiere-grand-prix-cycliste-des-commercants-et-artisans/
LOCATION:LA BOUEXIÈRE\, LA BOUEXIÈRE\, Bretagne\, France
CATEGORIES:Access 1,Access 2,Access 3,Access 4,Femmes 17 ans et +,Open 2,Open 3
ORGANIZER;CN="COC FOUGERAIS (4335256)":MAILTO:cocfougerais@gmail.com
END:VEVENT
BEGIN:VEVENT
DTSTART;VALUE=DATE:20240324
DTEND;VALUE=DATE:20240325
DTSTAMP:20260421T034716
CREATED:20240215T084922Z
LAST-MODIFIED:20240215T085054Z
UID:10002257-1711238400-1711324799@www.cyclisme.bzh
SUMMARY:Bourg Blanc - Course de St Urfold
DESCRIPTION:Open 1-2-3 + Access 1 H/F: \n\ndépart: 14h00\n13 tours x 7.7 km = 100.1 km\nPrix coureurs: 366/15\, 1er 73€\nEngagements: 9€\n\n  \nOuverture des engagements: le 15/02/2024 à 18h\, clôture le jeudi 21/03/2024 à 20h \nRenseignements: CAER Ronan – e-mail: ronancaer@gmail.com
URL:https://www.cyclisme.bzh/epreuve-calendrier/bourg-blanc-course-de-st-urfold/
LOCATION:Bourg Blanc
CATEGORIES:Access 1,Open 1,Open 2,Open 3
ORGANIZER;CN="CC BOURG BLANC (4329330)":MAILTO:president.ccbb29@gmail.com
END:VEVENT
BEGIN:VEVENT
DTSTART;VALUE=DATE:20240324
DTEND;VALUE=DATE:20240325
DTSTAMP:20260421T034716
CREATED:20240219T141208Z
LAST-MODIFIED:20240228T110513Z
UID:10002261-1711238400-1711324799@www.cyclisme.bzh
SUMMARY:Lamballe - Challenge 22 des Ecoles de cyclisme
DESCRIPTION:U7 H/F à U15 H/F 1ère année: \n\ndépart: 11h00\ndistance selon l’âge\nEngagement 2 €\n\n  \nOuverture des engagements: le 19/02/2024 à 18h\, clôture le jeudi 21/03/2024 à 20h \nRenseignements: BREDIN Corinne – e-mail: codebredin@orange.fr / Port: 06.14.10.81.80 \n 
URL:https://www.cyclisme.bzh/epreuve-calendrier/lamballe-challenge-22-des-ecoles-de-cyclisme/
LOCATION:LAMBALLE\, 22400\, France
CATEGORIES:U11,U13,U15,U7,U9
END:VEVENT
BEGIN:VEVENT
DTSTART;VALUE=DATE:20240324
DTEND;VALUE=DATE:20240325
DTSTAMP:20260421T034716
CREATED:20240219T145046Z
LAST-MODIFIED:20240226T160002Z
UID:10002262-1711238400-1711324799@www.cyclisme.bzh
SUMMARY:St Malo de Phily - Souvenir Roger Clouet - Circuit du Pont Monvoisin
DESCRIPTION:U17 H/F: \n\ndépart: 13h00\n9 tours x 6 km = 54 km\nPrix coureurs: 107/10\, 1er 20€\nEngagements: 6.50€\n\n  \nAccess 1-2-3-4 H/F: \n\n2 départs:\n\n– Access 1-2: 15h00 – 12 tours x 6 km = 72 km \n– Access 3-4: 15h01 – 10 tours x 6 km = 60 km \n\nEngagements: 9€\n\n  \nOuverture des engagements: le 19/02/2024 à 18h\, clôture le jeudi 21/03/2024 à 20h \nRenseignements: LEBACLE Sylvain – e-mail: sylvainlebacle@hotmail.fr / Port: 06.25.16.41.86
URL:https://www.cyclisme.bzh/epreuve-calendrier/st-malo-de-phily-souvenir-roger-clouet-circuit-du-pont-monvoisin-2/
LOCATION:SAINT MALO DE PHILY\, SAINT MALO DE PHILY\, Bretagne\, France
CATEGORIES:Access 1,Access 2,Access 3,Access 4,U17
ATTACH;FMTTYPE=image/jpeg:https://www.cyclisme.bzh/wp-content/uploads/2024/02/st-malo-de-phily-24-mars-2024-affichejpg.jpg
ORGANIZER;CN="AC ST MALO PHILY (4335293)":MAILTO:ac5malo2phily@gmail.com
END:VEVENT
BEGIN:VEVENT
DTSTART;VALUE=DATE:20240324
DTEND;VALUE=DATE:20240325
DTSTAMP:20260421T034716
CREATED:20240220T103332Z
LAST-MODIFIED:20240301T123147Z
UID:10002264-1711238400-1711324799@www.cyclisme.bzh
SUMMARY:Bignan - TRJV #1 XC/DH - U9 à U17
DESCRIPTION:Matin: DH \nAprès-midi: XC \n  \nU9 H/F à U17 H/F: \n\nEngagements: 6€ pour les U9\, U11 et U13 / 8€ pour les U15 et U17\n\n  \nOuverture des engagements: le 20/02/2024 à 18h\, clôture le jeudi 21/03/2024 à 20h \nRenseignements: CHENIER Guillaume – e-mail: crazywoodvtt@gmail.com / Port: 06.80.45.76.23
URL:https://www.cyclisme.bzh/epreuve-calendrier/bignan-trjv-1-xc-dh-u9-a-u17/
LOCATION:BIGNAN\, France
CATEGORIES:U11,U13,U15,U17,U9
ORGANIZER;CN="CRAZY WOOD VTT (4356394)":MAILTO:crazywoodvtt@gmail.com
END:VEVENT
BEGIN:VEVENT
DTSTART;VALUE=DATE:20240324
DTEND;VALUE=DATE:20240325
DTSTAMP:20260421T034716
CREATED:20240228T100515Z
LAST-MODIFIED:20240228T100630Z
UID:10002279-1711238400-1711324799@www.cyclisme.bzh
SUMMARY:Trégunc - Souvenir Jean-Pierre Tanguy - Challenge de Cornouaille Sud
DESCRIPTION:Ouverture des engagements: le 28/02/2024 à 18h\, clôture le jeudi 21/03/2024 à 20h \nRenseignements: LE RAZAVET Aline – e-mail: associationcyclistedetregunc@gmail.com / Port: 06.71.45.21.72 \n  \nLire en plein écranAller au contenu PDF
URL:https://www.cyclisme.bzh/epreuve-calendrier/tregunc-souvenir-jean-pierre-tanguy-challenge-de-cornouaille-sud-2/
LOCATION:TREGUNC\, TREGUNC\, Bretagne\, France
CATEGORIES:U11,U13,U15,U17,U7,U9
ORGANIZER;CN="AC TREGUNCOISE (4329169)":MAILTO:associationcyclistedetregunc@gmail.com
END:VEVENT
BEGIN:VEVENT
DTSTART;VALUE=DATE:20240324
DTEND;VALUE=DATE:20240325
DTSTAMP:20260421T034716
CREATED:20240304T103527Z
LAST-MODIFIED:20240314T084123Z
UID:10002287-1711238400-1711324799@www.cyclisme.bzh
SUMMARY:Auray - Critérium des Jeunes d'Auray
DESCRIPTION:Régularité route – U7 H/F à U13 H/F: \n\ndépart: 13h00\ndistance selon l’âge\nEngagements: 2€\n\n  \nU15 H/F: \n\ndépart: 15h00\n14 tours x 1.96 km = 27.44 km\nPrix coureurs: 107/10\, 1er 20€\nEngagements: 6.50€\n\n  \nOuverture des engagements: le 04/03/2024 à 18h\, clôture le jeudi 21/03/2024 à 18h \nRenseignements: LE FALHER Jean Pierre – e-mail: organisations@uc-auray.com / Port: 06.98.77.81.14
URL:https://www.cyclisme.bzh/epreuve-calendrier/auray-criterium-des-jeunes-dauray/
LOCATION:AURAY
CATEGORIES:U11,U13,U15,U17 F,U7,U9
END:VEVENT
END:VCALENDAR