BEGIN:VCALENDAR
VERSION:2.0
PRODID:-//Comité de Bretagne de Cyclisme - ECPv6.15.20//NONSGML v1.0//EN
CALSCALE:GREGORIAN
METHOD:PUBLISH
X-ORIGINAL-URL:https://www.cyclisme.bzh
X-WR-CALDESC:Évènements pour Comité de Bretagne de Cyclisme
REFRESH-INTERVAL;VALUE=DURATION:PT1H
X-Robots-Tag:noindex
X-PUBLISHED-TTL:PT1H
BEGIN:VTIMEZONE
TZID:Europe/Paris
BEGIN:DAYLIGHT
TZOFFSETFROM:+0100
TZOFFSETTO:+0200
TZNAME:CEST
DTSTART:20230326T010000
END:DAYLIGHT
BEGIN:STANDARD
TZOFFSETFROM:+0200
TZOFFSETTO:+0100
TZNAME:CET
DTSTART:20231029T010000
END:STANDARD
BEGIN:DAYLIGHT
TZOFFSETFROM:+0100
TZOFFSETTO:+0200
TZNAME:CEST
DTSTART:20240331T010000
END:DAYLIGHT
BEGIN:STANDARD
TZOFFSETFROM:+0200
TZOFFSETTO:+0100
TZNAME:CET
DTSTART:20241027T010000
END:STANDARD
BEGIN:DAYLIGHT
TZOFFSETFROM:+0100
TZOFFSETTO:+0200
TZNAME:CEST
DTSTART:20250330T010000
END:DAYLIGHT
BEGIN:STANDARD
TZOFFSETFROM:+0200
TZOFFSETTO:+0100
TZNAME:CET
DTSTART:20251026T010000
END:STANDARD
END:VTIMEZONE
BEGIN:VEVENT
DTSTART;VALUE=DATE:20240316
DTEND;VALUE=DATE:20240317
DTSTAMP:20260421T051003
CREATED:20240129T102741Z
LAST-MODIFIED:20240131T091504Z
UID:10002235-1710547200-1710633599@www.cyclisme.bzh
SUMMARY:Lamballe - TDJV
DESCRIPTION:Lire en plein écranAller au contenu PDF\nOuverture des engagements: le 29/01/2024 à 18h\, clôture le mercredi 13/03/2024 à 20h \nRenseignements: HOURDIN Daniel – e-mail: daniel.hourdin@hotmail.fr / Port: 06.03.20.46.77 \n 
URL:https://www.cyclisme.bzh/epreuve-calendrier/lamballe-tdjv/
LOCATION:LAMBALLE\, 22400\, France
CATEGORIES:U11,U13,U15,U17,U9
ATTACH;FMTTYPE=image/jpeg:https://www.cyclisme.bzh/wp-content/uploads/2024/01/TDJV-Lamballe-16-mars-20242.jpg
END:VEVENT
BEGIN:VEVENT
DTSTART;VALUE=DATE:20240317
DTEND;VALUE=DATE:20240318
DTSTAMP:20260421T051003
CREATED:20240123T150219Z
LAST-MODIFIED:20240123T150219Z
UID:10002218-1710633600-1710719999@www.cyclisme.bzh
SUMMARY:Le Folgoët - Circuit de la Basilique - Open 1-2-3 + Access 1 H/F
DESCRIPTION:Open 1-2-3 + Access 1 H/F: \n\ndépart: 14h00\n24 tours x 4.5 km = 108 km\nPrix coureurs: 518/20\, 1er 102€\nPrix spéciaux Open 3 + Access 1: 91/10\, 1er 17€\nEngagements: 9€\n\n  \nOuverture des engagements: le 23/01/2024 à 18h\, clôture le jeudi 14/03/2024 à 20h \nRenseignements: KERBIRIOU Laurence – e-mail: kerbiriou.laurence777@gmail.com / tél: 02.98.68.08.12
URL:https://www.cyclisme.bzh/epreuve-calendrier/le-folgoet-circuit-de-la-basilique-open-1-2-3-access-1-h-f/
LOCATION:LE FOLGOET\, LE FOLGOET\, Bretagne\, France
CATEGORIES:Access 1,Open 1,Open 2,Open 3
ORGANIZER;CN="VS DRENNECOIS (4329116)":MAILTO:philippe.tel5929@orange.fr
END:VEVENT
BEGIN:VEVENT
DTSTART;VALUE=DATE:20240317
DTEND;VALUE=DATE:20240318
DTSTAMP:20260421T051003
CREATED:20240123T154745Z
LAST-MODIFIED:20240125T140343Z
UID:10002219-1710633600-1710719999@www.cyclisme.bzh
SUMMARY:Grâce Uzel - Trophée Assos'Bike CX
DESCRIPTION:Régularité Route U7 H/F à U13 H/F: \n\ndépart: 11h30\ndistance selon l’âge\nEngagements: 2€\n\n  \nU15 H/F + U17 F: \n\ndépart: 13h30\n5 tours x 4.6 km = 23 km\nPrix coureurs: 107/10\, 1er 20€\nEngagements: 6.50€\n\n  \nOpen 2-3 + Access 1-2 H/F: \n\ndépart: 15h00\n19 tours x 4.6 km = 87.4 km\nPrix coureurs: 381/15\, 1er 78€\nEngagements: 9€\n\n  \nOuverture des engagements: le 23/01/2024 à 18h\, clôture le jeudi 14/03/2024 à 20h \nRenseignements: LUCAS Julien – e-mail: julienlucas612@gmail.com / Port: 06.88.89.20.40
URL:https://www.cyclisme.bzh/epreuve-calendrier/grace-uzel-trophee-assosbike-cx/
LOCATION:grace uzel\, 22460\, France
CATEGORIES:Access 1,Access 2,Open 2,Open 3,U11,U13,U15,U17 F,U7,U9
ATTACH;FMTTYPE=image/jpeg:https://www.cyclisme.bzh/wp-content/uploads/2024/01/b10e5c71-617b-4f06-8ebd-c56061473cc2.jpg
ORGANIZER;CN="CC UZELAIS (4322074)":MAILTO:tyttia83@gmail.com
END:VEVENT
BEGIN:VEVENT
DTSTART;VALUE=DATE:20240317
DTEND;VALUE=DATE:20240318
DTSTAMP:20260421T051003
CREATED:20240124T094753Z
LAST-MODIFIED:20240312T104442Z
UID:10002221-1710633600-1710719999@www.cyclisme.bzh
SUMMARY:Locminé - La Flèche de Locminé (L) Elite+Open 1 et course d'attente Open 2-3 + Access 1
DESCRIPTION:Open 2-3 + Access 1 : Départ 13h30 – 7.5 km x 11 tours – Prix coureurs : 259/15 1er 50 € – 91/5 1er 29 € ps Open 3 – Engagements 9 € \nLa Flèche de Locminé\, Elite + Open 1 : Départ 13h45 – 93.6 km en ligne + 7.5 km x 9 tours – Prix coureurs : 1220/25 1er 197 € – 305/10 1er 62 € PS Open 1 – Engagements 9 € – limité à 12 coureurs par équipe \nOuverture des engagements le 27/01 à 18h00\, Clôture le 14/03 à 20h00. \nRenseignements : Stéphane LE CLAINCHE – 06.89.33.39.49 – sleclainche@hotmail.com \nou Arnaud ROBIN – 06.09.38.57.94 – arnaud.robin38@sfr.fr \n 
URL:https://www.cyclisme.bzh/epreuve-calendrier/locmine-la-fleche-de-locmine-l-eliteopen-1-et-course-dattente-open-2-3-access-1/
LOCATION:Locminé
CATEGORIES:Access 1,Elite,Open,Open 1,Open 2,Open 3
ATTACH;FMTTYPE=image/jpeg:https://www.cyclisme.bzh/wp-content/uploads/2024/01/fleche-de-locmine-17-mars-2024-affichejpg.jpg
ORGANIZER;CN="OC LOCMINE (4356009)":MAILTO:henrimoreac@gmail.com
END:VEVENT
BEGIN:VEVENT
DTSTART;VALUE=DATE:20240317
DTEND;VALUE=DATE:20240318
DTSTAMP:20260421T051003
CREATED:20240124T110118Z
LAST-MODIFIED:20240229T081430Z
UID:10002223-1710633600-1710719999@www.cyclisme.bzh
SUMMARY:Guipavas - La Kiclos Jeunes - 1ère manche du Challenge Pen Ar Bed pour les U17
DESCRIPTION:Régularité Route – U7 H/F à U13 H/F: \n\ndépart: 14h45\ndistance selon l’âge\nEngagements: 2€\n\n  \nU15 H/F + U17 F: \n\ndépart: 13h45\n13 tours x 1.9 km = 24.7 km\nPrix coureurs: 107/10\, 1er 20€\nEngagements: 6.50€\n\n  \nU17 H/F – 1ère manche du Challenge Pen Ar Bed \n\ndépart: 16h00\n26 tours x 1.9 km = 49.4 km\nPrix coureurs: 138/10\, 1er 28€\nEngagements: 6.50€\n\n  \nOuverture des engagements: le 24/01/2024 à 18h\, clôture le jeudi 14/03/2024 à 20h \nRenseignements: BOUDINOT Philippe – e-mail: philippeboudinot@hotmail.fr / Port: 06.62.75.73.91
URL:https://www.cyclisme.bzh/epreuve-calendrier/guipavas-la-kiclos-jeunes-2/
LOCATION:GUIPAVAS
CATEGORIES:U11,U13,U15,U17,U7,U9
ORGANIZER;CN="KICLOS BREST METROPOLE CYCLISME (4329455)":MAILTO:ppierre@brestmetropolecyclisme.com
END:VEVENT
BEGIN:VEVENT
DTSTART;VALUE=DATE:20240317
DTEND;VALUE=DATE:20240318
DTSTAMP:20260421T051003
CREATED:20240124T143501Z
LAST-MODIFIED:20240124T151440Z
UID:10002226-1710633600-1710719999@www.cyclisme.bzh
SUMMARY:Ploërmel - Grand Prix de Ploërmel St Maur
DESCRIPTION:Access 3-4 : Dép 9h45 – 5 km x 12 t – Sans prix coureurs – Engagements 9 € \nU17 H/F : Dép 11h45 – 5 km x 10 t –  Sans prix coureurs – Engagements 6.50 € \nU15H/F + U17F : Dép 13h30 – 5 km x 6 t – Sans prix coureurs – Engagements 6.50 € \nFemmes 17ans et + Elite\, Open 1-2-3\, Access 1-2-3-4 ‘ : Dép 13h31 – 5 km x 12 t – Sans prix coureurs – Engagements 9 € \nAccess 1-2 : Dép 15h30 – 5 km x 15 t – Sans prix coureurs – Engagements 9 € \nOuverture des engagements le 27/01 à 18h00\, clôture le 14/03 à 20h00. \nRenseignements : Jean-François CARLACH – jeff.carlach@orange.fr – 06 86 97 74 73
URL:https://www.cyclisme.bzh/epreuve-calendrier/ploermel-grand-prix-de-ploermel-st-maur/
LOCATION:PLOËRMEL\, PLOËRMEL\, Bretagne\, France
CATEGORIES:Access,Access 1,Access 2,Access 3,Access 4,Femmes 17 ans et +,U15,U17
ORGANIZER;CN="VELO SPORT PLOERMEL (4356411)":MAILTO:jroturier@sfr.fr
END:VEVENT
BEGIN:VEVENT
DTSTART;VALUE=DATE:20240317
DTEND;VALUE=DATE:20240318
DTSTAMP:20260421T051003
CREATED:20240126T143404Z
LAST-MODIFIED:20240305T154759Z
UID:10002233-1710633600-1710719999@www.cyclisme.bzh
SUMMARY:Plélan le Grand - 1ère épreuve Challenge Julien Simon
DESCRIPTION:Régularité route – U7 H/F à U13 H/F: \n\ndépart: 12h30\ndistance selon l’âge\nEngagements: 2€\n\n  \nU15 H/F + U17 F: \n\ndépart: 14h00\n4 tours x 6 km = 24 km\nPrix coureurs: 107/10\, 1er 20€\nPrix spéciaux U15 F et U17 F: 30/3\, 1ère 15€\nEngagements: 6.50€\n\n  \nOpen 3 + Access 1-2-3-4 H/F: \n\ndépart: 15h15\n14 tours x 6 km = 84 km\nPrix coureurs: 259/15\, 1er 50€\nEngagements: 9€\n\n  \nOuverture des engagements: le 26/01/2024 à 18h\, clôture le jeudi 14/03/2024 à 20h \nRenseignements: GOULU Nicolas – e-mail: nicolas.goulu@yahoo.fr / Port: 06.84.64.67.61 \n 
URL:https://www.cyclisme.bzh/epreuve-calendrier/plelan-le-grand-1ere-epreuve-challenge-julien-simon/
LOCATION:PLÉLAN LE GRAND\, France
CATEGORIES:Access 1,Access 2,Access 3,Access 4,Open 3,U11,U13,U15,U17 F,U7,U9
ATTACH;FMTTYPE=image/jpeg:https://www.cyclisme.bzh/wp-content/uploads/2024/01/plelan-le-grand-17-mars-2024-affiche.jpg
ORGANIZER;CN="VC PLELANAIS (4335037)":MAILTO:gmenage@laposte.net vcplelan@outlook.fr
END:VEVENT
BEGIN:VEVENT
DTSTART;VALUE=DATE:20240317
DTEND;VALUE=DATE:20240318
DTSTAMP:20260421T051003
CREATED:20240201T124613Z
LAST-MODIFIED:20240201T124732Z
UID:10002243-1710633600-1710719999@www.cyclisme.bzh
SUMMARY:Vitré (gare) - Circuit des Gais Lurons - 1ère manche de la Coupe de Bretagne des Clubs Overstims
DESCRIPTION:Open 1-2-3 H/F: \n\ndépart: 14h30\n12 tours x 8.3 km = 99.6 km\nPrix coureurs: 518/20\, 1er 102€\nPrix spéciaux Open 2-3: 91/10\, 1er 17€\nEngagements: 9€\n\n  \nOuverture des engagements: le 01/02/2024 à 18h\, clôture le jeudi 14/03/2024 à 20h \nRenseignements: GROUSSARD Eric – e-mail: eric.groussard@wanadoo.fr / Port: 06.78.85.30.35
URL:https://www.cyclisme.bzh/epreuve-calendrier/vitre-gare-circuit-des-gais-lurons-1ere-manche-de-la-coupe-de-bretagne-des-clubs-overstims/
LOCATION:VITRÉ\, VITRÉ\, Bretagne\, France
CATEGORIES:Open 1,Open 2,Open 3
END:VEVENT
BEGIN:VEVENT
DTSTART;VALUE=DATE:20240317
DTEND;VALUE=DATE:20240318
DTSTAMP:20260421T051003
CREATED:20240201T141833Z
LAST-MODIFIED:20240306T085030Z
UID:10002244-1710633600-1710719999@www.cyclisme.bzh
SUMMARY:Plancoët - Ronde du Printemps Emballages Samson - Fédérale U19 H (L) et courses d'attente
DESCRIPTION:U15 H/F + U17 F: \n\ndépart: 13h00\n8 tours x 4 km = 32 km\nPrix coureurs: 107/10\, 1er 20€\nEngagements: 6.50€\n\n  \nU17 H/F: \n\ndépart: 14h45\n10 tours x 5 km = 50 km\nPrix coureurs: 138/10\, 1er 28€\nEngagements: 6.50€\n\n  \nFédérale U19 H: \n\ndépart: 14h30\n99 km en ligne + 4 tours x 5 km = 119 km\nPrix coureurs: 610/20\, 1er 117€\nEngagements: 9€\n\n  \nOuverture des engagements: le 09/02/2024 à 18h\, clôture le mercredi 13/03/2024 à 20h \nRenseignements: COLIN Yves – 06.14.24.33.04 \n  \nLire en plein écranAller au contenu PDF
URL:https://www.cyclisme.bzh/epreuve-calendrier/plancoet-ronde-du-printemps-emballages-samson-federale-u19-h-l-et-courses-dattente/
LOCATION:PLANCOET\, PLANCOET\, Bretagne\, France
CATEGORIES:Elite,Open 1,Open 2,Open 3,U15,U17
ATTACH;FMTTYPE=application/pdf:https://www.cyclisme.bzh/wp-content/uploads/2024/02/Affiche.pdf
ORGANIZER;CN="CC PLANCOETIN (4322069)":MAILTO:ccycloclubplancoetin@sfr.fr
END:VEVENT
BEGIN:VEVENT
DTSTART;VALUE=DATE:20240317
DTEND;VALUE=DATE:20240318
DTSTAMP:20260421T051003
CREATED:20240207T105714Z
LAST-MODIFIED:20240207T105714Z
UID:10002250-1710633600-1710719999@www.cyclisme.bzh
SUMMARY:St Brice en Coglès - Maen Roch - Challenge Couesnon Marches de Bretagne
DESCRIPTION:Access 3-4 H + Femmes 17 ans et + \n\ndépart: 10h00\n8 tours x 6.6 km = 52.8 km\nEngagements: 9€\n\n  \nOpen 2-3 + Access 1-2 H: \n\ndépart: 14h30\n13 tours x 6.6 km = 85.8 km\nPrix coureurs: 259/15\, 1er 50€\nPrix spéciaux U19: 28/3\, 1er 15€\nEngagements: 9€\n\n  \nOuverture des engagements: le 07/02/2024 à 18h\, clôture le jeudi 14/03/2024 à 20h \nRenseignements: MELLIER Frank – e-mail:frank.mellier@wanadoo.fr / Port: 06.11.25.25.96
URL:https://www.cyclisme.bzh/epreuve-calendrier/st-brice-en-cogles-maen-roch-challenge-couesnon-marches-de-bretagne/
LOCATION:SAINT BRICE EN COGLES\, France
CATEGORIES:Access 1,Access 2,Access 3,Access 4,Femmes 17 ans et +,Open 2,Open 3
ORGANIZER;CN="TEAM TED DIT AUTISME (4335450)":MAILTO:teamtedditautisme@yahoo.com
END:VEVENT
END:VCALENDAR