BEGIN:VCALENDAR
VERSION:2.0
PRODID:-//Comité de Bretagne de Cyclisme - ECPv6.15.20//NONSGML v1.0//EN
CALSCALE:GREGORIAN
METHOD:PUBLISH
X-WR-CALNAME:Comité de Bretagne de Cyclisme
X-ORIGINAL-URL:https://www.cyclisme.bzh
X-WR-CALDESC:Évènements pour Comité de Bretagne de Cyclisme
REFRESH-INTERVAL;VALUE=DURATION:PT1H
X-Robots-Tag:noindex
X-PUBLISHED-TTL:PT1H
BEGIN:VTIMEZONE
TZID:Europe/Paris
BEGIN:DAYLIGHT
TZOFFSETFROM:+0100
TZOFFSETTO:+0200
TZNAME:CEST
DTSTART:20210328T010000
END:DAYLIGHT
BEGIN:STANDARD
TZOFFSETFROM:+0200
TZOFFSETTO:+0100
TZNAME:CET
DTSTART:20211031T010000
END:STANDARD
BEGIN:DAYLIGHT
TZOFFSETFROM:+0100
TZOFFSETTO:+0200
TZNAME:CEST
DTSTART:20220327T010000
END:DAYLIGHT
BEGIN:STANDARD
TZOFFSETFROM:+0200
TZOFFSETTO:+0100
TZNAME:CET
DTSTART:20221030T010000
END:STANDARD
BEGIN:DAYLIGHT
TZOFFSETFROM:+0100
TZOFFSETTO:+0200
TZNAME:CEST
DTSTART:20230326T010000
END:DAYLIGHT
BEGIN:STANDARD
TZOFFSETFROM:+0200
TZOFFSETTO:+0100
TZNAME:CET
DTSTART:20231029T010000
END:STANDARD
END:VTIMEZONE
BEGIN:VEVENT
DTSTART;VALUE=DATE:20221230
DTEND;VALUE=DATE:20221231
DTSTAMP:20260423T002134
CREATED:20221208T152703Z
LAST-MODIFIED:20221220T075338Z
UID:10001615-1672358400-1672444799@www.cyclisme.bzh
SUMMARY:La Chapelle Neuve - Clairvivre
DESCRIPTION:régularité cc : \nPré licenciés U7 : Départ 12h45 – Durée 5′\nPoussins U9 : Départ 13h00 – Durée 5′\nPupilles U11 : Départ 13h15 – Durée 10′\nBenjamins U13 : Départ 13h25 – Durée 10′ \nEngagements 2€ \népreuve minimes H/G U15 : \ndépart : 13h45 – durée : 20′ – pc : 28/3 – Engagements : 6. 50 € \népreuve cadets/cadettes U17 : \ndépart : 14h30 – durée : 30′ – pc : 61/5 – Engagements 6.50 € \népreuve juniors H U19: \ndépart : 14h30 – durée : 40′ – pc : 76/5 – Engagements 8.50 € \népreuve dames 17 ans et + : \ndépart : 14h30 – durée : 40′ – pc : 30/3 – Engagements 8.50 € \népreuve espoirs/seniors : \ndépart : 15h30 – durée : 50′ – pc : 320/15 – Engagements 8.50 € \nRenseignements : Franck CHARRIER  – franck.charrier@sfr.fr – 06 32 26 71 19
URL:https://www.cyclisme.bzh/epreuve-calendrier/la-chapelle-neuve-claivivre/
LOCATION:LA CHAPELLE NEUVE\, LA CHAPELLE NEUVE\, Bretagne\, France
ORGANIZER;CN="AC PAYS DE BAUD (4356342)":MAILTO:acpbaud@laposte.net
END:VEVENT
END:VCALENDAR