BEGIN:VCALENDAR
VERSION:2.0
PRODID:-//Comité de Bretagne de Cyclisme - ECPv6.15.20//NONSGML v1.0//EN
CALSCALE:GREGORIAN
METHOD:PUBLISH
X-ORIGINAL-URL:https://www.cyclisme.bzh
X-WR-CALDESC:Évènements pour Comité de Bretagne de Cyclisme
REFRESH-INTERVAL;VALUE=DURATION:PT1H
X-Robots-Tag:noindex
X-PUBLISHED-TTL:PT1H
BEGIN:VTIMEZONE
TZID:Europe/Paris
BEGIN:DAYLIGHT
TZOFFSETFROM:+0100
TZOFFSETTO:+0200
TZNAME:CEST
DTSTART:20210328T010000
END:DAYLIGHT
BEGIN:STANDARD
TZOFFSETFROM:+0200
TZOFFSETTO:+0100
TZNAME:CET
DTSTART:20211031T010000
END:STANDARD
BEGIN:DAYLIGHT
TZOFFSETFROM:+0100
TZOFFSETTO:+0200
TZNAME:CEST
DTSTART:20220327T010000
END:DAYLIGHT
BEGIN:STANDARD
TZOFFSETFROM:+0200
TZOFFSETTO:+0100
TZNAME:CET
DTSTART:20221030T010000
END:STANDARD
BEGIN:DAYLIGHT
TZOFFSETFROM:+0100
TZOFFSETTO:+0200
TZNAME:CEST
DTSTART:20230326T010000
END:DAYLIGHT
BEGIN:STANDARD
TZOFFSETFROM:+0200
TZOFFSETTO:+0100
TZNAME:CET
DTSTART:20231029T010000
END:STANDARD
END:VTIMEZONE
BEGIN:VEVENT
DTSTART;VALUE=DATE:20221211
DTEND;VALUE=DATE:20221212
DTSTAMP:20260423T094803
CREATED:20221116T083429Z
LAST-MODIFIED:20221202T074754Z
UID:10001611-1670716800-1670803199@www.cyclisme.bzh
SUMMARY:Châteaugiron Domloup - Championnat de Bretagne   - Souvenir Cyril Tigeot
DESCRIPTION:Châteaugiron Domloup – Championnat de Bretagne – Souvenir Cyril Tigeot \n– 10h30 : Minimes Garçons et Minimes Filles (20 minutes) – (deux podiums : Minimes Garçons et Minimes Filles) – Prix coureurs : 61/5 1er 21 € Minimes garçons  – 30/3 1ère 15 € Minimes Filles \n– 11h 15 : Cadets G (30 minutes) – (un podium : Cadets) –  Prix coureurs : 122/10 1er 24 € \n– 13h10 : Juniors H (40 minutes) – (un podium : Juniors) – Gr 152/10 1er 30 € \n– 14h15 : Femmes\, Femmes Juniors (40 minutes) et Cadettes (30 minutes) – (trois podiums : Femmes\, Femmes Juniors et Cadettes) – Gr 152/5 1ère 54 € ps Femmes 17ans et +  – Gr 61/5 1ère 21 € ps Juniors F – Gr 47/5 1ère 18 € ps cadettes \n– 15h30 : Seniors – Espoirs (50 minutes) – (deux podiums: scratch Seniors/Espoirs et Espoirs) – Gr 762/20 1er 155 € – Gr 228/10 1er 46 € ps espoirs. \nEngagements Minimes/Cadets : Engagements 6.50 € \nEngagements Juniors/Seniors : Engagements 8.50 € \nEngagements clos le mardi 6 décembre à 22h00\, pas d’engagements sur la ligne et après la clôture  \nChampionnat ouverts aux licenciés français dans un club breton \n  \nLa règle des 80% ne sera pas appliquée.  Les doublés seront invités à descendre dans le dernier tour et ils seront classés. \nRenseignements : Jean-Claude MADIOT – 06 63 73 95 38 – jeanclaude.madiot1@orange.fr
URL:https://www.cyclisme.bzh/epreuve-calendrier/chateaugiron-domloup-championnat-de-bretagne-souvenir-cyril-tigeot/
LOCATION:CHÂTEAUGIRON\, France
CATEGORIES:Ecole de cyclisme
ATTACH;FMTTYPE=image/jpeg:https://www.cyclisme.bzh/wp-content/uploads/2022/11/Affiche-CC-2022-v2-5_page-0001-1.jpg
END:VEVENT
END:VCALENDAR