BEGIN:VCALENDAR
VERSION:2.0
PRODID:-//Comité de Bretagne de Cyclisme - ECPv6.15.20//NONSGML v1.0//EN
CALSCALE:GREGORIAN
METHOD:PUBLISH
X-WR-CALNAME:Comité de Bretagne de Cyclisme
X-ORIGINAL-URL:https://www.cyclisme.bzh
X-WR-CALDESC:Évènements pour Comité de Bretagne de Cyclisme
REFRESH-INTERVAL;VALUE=DURATION:PT1H
X-Robots-Tag:noindex
X-PUBLISHED-TTL:PT1H
BEGIN:VTIMEZONE
TZID:Europe/Paris
BEGIN:DAYLIGHT
TZOFFSETFROM:+0100
TZOFFSETTO:+0200
TZNAME:CEST
DTSTART:20210328T010000
END:DAYLIGHT
BEGIN:STANDARD
TZOFFSETFROM:+0200
TZOFFSETTO:+0100
TZNAME:CET
DTSTART:20211031T010000
END:STANDARD
BEGIN:DAYLIGHT
TZOFFSETFROM:+0100
TZOFFSETTO:+0200
TZNAME:CEST
DTSTART:20220327T010000
END:DAYLIGHT
BEGIN:STANDARD
TZOFFSETFROM:+0200
TZOFFSETTO:+0100
TZNAME:CET
DTSTART:20221030T010000
END:STANDARD
BEGIN:DAYLIGHT
TZOFFSETFROM:+0100
TZOFFSETTO:+0200
TZNAME:CEST
DTSTART:20230326T010000
END:DAYLIGHT
BEGIN:STANDARD
TZOFFSETFROM:+0200
TZOFFSETTO:+0100
TZNAME:CET
DTSTART:20231029T010000
END:STANDARD
END:VTIMEZONE
BEGIN:VEVENT
DTSTART;VALUE=DATE:20221119
DTEND;VALUE=DATE:20221120
DTSTAMP:20260424T002558
CREATED:20220921T073200Z
LAST-MODIFIED:20221116T153259Z
UID:10001582-1668816000-1668902399@www.cyclisme.bzh
SUMMARY:Trémel - nouveau circuit
DESCRIPTION:Horaires modifiés le 16/11/2022 \nRégularité route Cyclo-Cross \nDépart :  10 h 00 – Circuit d’1 km – distance et durée selon l’âge – Poussins \, Pupilles \, Benjamins – Engagement : 2 € \nMINIMES – H / F           \nDépart  : 11 h 30  – Circuit de 1\,700 km – Durée  20 mn   – Engagement : 6\,50 €  Prix Coureurs  : 61 / 5  1er Prix 21 € \nCADETS  / CADETTES \nDépart : 13 h 30  – Circuit de  1\,700 km – Durée  30 mn  – Engagement  : 6\,50 €   Prix Coureurs : 91 / 5 1er ;29 € Cadettes :30/3 1ère 15 € \nDAMES 17 ans et  + / JUNIORS / PASS’CYCLISME  – \nDépart : 15h01 – Circuit  de 1\,700 km   –  Durée : 40 mn  Engagement : 8\,50 € \nPrix Coureurs : 107 / 5  1er Prix 35 €      Prix Dames : 47/ 3  1ère – 24 € \nESPOIRS /  SENIORS  H \nDépart : 15 h00  – Circuit de 1\,700 km  –  Durée  :  50 mn        Engagement   :  8\,50 € \nPRIX  Coureurs ; 320  /  15   –  1er  Prix  62 €   PRIX  espoirs  :  61 /  5    1er Prix   21 € \nEngagements :  Mercredi  16 novembre  à   20 heures \nRenseignements : Stéphane BOILEAU – stephane.boileau0804@orange.fr
URL:https://www.cyclisme.bzh/epreuve-calendrier/tremel-nouveau-circuit/
LOCATION:TREMEL\, TREMEL\, Bretagne\, France
CATEGORIES:Ecole de cyclisme
ATTACH;FMTTYPE=image/jpeg:https://www.cyclisme.bzh/wp-content/uploads/2022/09/TREMELL-1-sur-1-scaled.jpg
ORGANIZER;CN="EC PLESTIN PAYS TREGOR (4322163)":MAILTO:gilbert.lacelle@orange.fr
END:VEVENT
END:VCALENDAR