BEGIN:VCALENDAR
VERSION:2.0
PRODID:-//Comité de Bretagne de Cyclisme - ECPv6.15.20//NONSGML v1.0//EN
CALSCALE:GREGORIAN
METHOD:PUBLISH
X-ORIGINAL-URL:https://www.cyclisme.bzh
X-WR-CALDESC:Évènements pour Comité de Bretagne de Cyclisme
REFRESH-INTERVAL;VALUE=DURATION:PT1H
X-Robots-Tag:noindex
X-PUBLISHED-TTL:PT1H
BEGIN:VTIMEZONE
TZID:Europe/Paris
BEGIN:DAYLIGHT
TZOFFSETFROM:+0100
TZOFFSETTO:+0200
TZNAME:CEST
DTSTART:20210328T010000
END:DAYLIGHT
BEGIN:STANDARD
TZOFFSETFROM:+0200
TZOFFSETTO:+0100
TZNAME:CET
DTSTART:20211031T010000
END:STANDARD
BEGIN:DAYLIGHT
TZOFFSETFROM:+0100
TZOFFSETTO:+0200
TZNAME:CEST
DTSTART:20220327T010000
END:DAYLIGHT
BEGIN:STANDARD
TZOFFSETFROM:+0200
TZOFFSETTO:+0100
TZNAME:CET
DTSTART:20221030T010000
END:STANDARD
BEGIN:DAYLIGHT
TZOFFSETFROM:+0100
TZOFFSETTO:+0200
TZNAME:CEST
DTSTART:20230326T010000
END:DAYLIGHT
BEGIN:STANDARD
TZOFFSETFROM:+0200
TZOFFSETTO:+0100
TZNAME:CET
DTSTART:20231029T010000
END:STANDARD
END:VTIMEZONE
BEGIN:VEVENT
DTSTART;VALUE=DATE:20221111
DTEND;VALUE=DATE:20221112
DTSTAMP:20260423T195419
CREATED:20221004T094631Z
LAST-MODIFIED:20221024T145545Z
UID:10001593-1668124800-1668211199@www.cyclisme.bzh
SUMMARY:Saint Jacques de la Lande - Challenge des sous bois
DESCRIPTION:Régularité : \nDépart 11h – Circuit 1 km – Durée selon l’âge \nEngagement 2€ \nMinimes H/F : \nDépart 11h45 – Circuit 1 km – Durée 20 minutes \nEngagement 6.50€ \nCadets H/F : \nDépart 13h30 – Circuit 2km100 – Durée 30 minutes \nEngagement 6.50€ \nPrix coureurs : 61/5 – 1er prix 21€ \nDames 17 + / Juniors H/Pass Cyclisme H : \nDépart 14h30 – Circuit 2km100 \nEngagement 8.50€ \nPrix coureurs : 76/5 – 1er prix 27€ \nPrix féminines : 47/3 – 1er prix 24€ \nEspoirs / Seniors : \nDépart 15h30 – Circuit 2km100 – Durée 50 minutes \nEngagement 8.50€ \nPrix coureurs : 320/15 – 1er prix 62€ \nEngagements : \nOuverture le 05/10/2022 à 18h \nFermeture le 08/11/2022 à 20h \nPrésident de jury : \nPEDRON Loïc
URL:https://www.cyclisme.bzh/epreuve-calendrier/saint-jacques-de-la-lande-challenge-des-sous-bois/
LOCATION:ST JACQUES DE LA LANDE\, ST JACQUES DE LA LANDE\, Bretagne\, France
ORGANIZER;CN="ASPTT RENNES CYCLISME (4335114)":MAILTO:aspttrennescycling@gmail.com
END:VEVENT
BEGIN:VEVENT
DTSTART;VALUE=DATE:20221111
DTEND;VALUE=DATE:20221112
DTSTAMP:20260423T195419
CREATED:20221024T094734Z
LAST-MODIFIED:20221107T153822Z
UID:10001604-1668124800-1668211199@www.cyclisme.bzh
SUMMARY:PLONÉOUR-LANVERN – STADE DE FOOT NOUVEAU CIRCUIT
DESCRIPTION:Régularité : Dép 14H15 – Durée selon l’âge – Sans prix – Engagements 2 €\n\n\n\nJuniors/Espoirs/Seniors : Dép 15h30 – Durée 40′ pour les juniors et Dames – Gr 47/5 1er 18 € – Durée 50′ pour les espoirs/seniors – Gr 274/15 1er 53 € – Engagements 8.50 € \nLes tracés ont été modifiés en raison de travaux sur l’un des stades.\nLe parking du stade du Plonéour Football Club sera utilisé par l’organisation et ne pourra être utilisé par les concurrents et les spectateurs. Nous invitons donc ceux-ci à se stationner sur les parkings 1 ou 2.\n\n 
URL:https://www.cyclisme.bzh/epreuve-calendrier/ploneour-lanvern-stade-de-foot-nouveau-circuit-2/
LOCATION:PLONEOUR LANVERN\, PLONEOUR LANVERN\, Bretagne\, France
CATEGORIES:Ecole de cyclisme
ATTACH;FMTTYPE=image/jpeg:https://www.cyclisme.bzh/wp-content/uploads/2022/10/2022-Ploneour-Lanvern_page-0001.jpg
ORGANIZER;CN="CC BIGOUDEN (4329088)":MAILTO:ccbigouden@gmail.com
END:VEVENT
BEGIN:VEVENT
DTSTART;VALUE=DATE:20221111
DTEND;VALUE=DATE:20221112
DTSTAMP:20260423T195419
CREATED:20221026T112536Z
LAST-MODIFIED:20221026T112536Z
UID:10001606-1668124800-1668211199@www.cyclisme.bzh
SUMMARY:Cranne en Baud
DESCRIPTION:épreuve prélicenciés : Dép 13h00 – Durée 5′ \npoussins : Dép 13h10 – Durée 5′ \npupilles : Dép 13h25 – Durée 10′ \nbenjamins : Dép 13h35 – Durée 10′ \nEngagements 2 € \népreuve minimes H/F : \ndépart : 14h – durée : 20′ – pc : 28/3 – Engagements 6.50 € \népreuve cadets/cadettes – juniors H – dames 17 ans et + : \ndépart : 14h30 – durée  cadets 30 ‘ juniors et dames 40’  –  pc  cadets : 61/5 –  pc juniors : 76/5 – pc dames : 30/3 \népreuve espoirs seniors : \ndépart : 15h30 – durée 50′ – pc : 320/15 \n 
URL:https://www.cyclisme.bzh/epreuve-calendrier/cranne-en-baud-2/
LOCATION:CRANNE EN BAUD\, CRANNE EN BAUD\, Bretagne\, France
CATEGORIES:Ecole de cyclisme
ORGANIZER;CN="AC PAYS DE BAUD (4356342)":MAILTO:acpbaud@laposte.net
END:VEVENT
BEGIN:VEVENT
DTSTART;VALUE=DATE:20221113
DTEND;VALUE=DATE:20221114
DTSTAMP:20260423T195419
CREATED:20221012T121112Z
LAST-MODIFIED:20221109T121607Z
UID:10001599-1668297600-1668383999@www.cyclisme.bzh
SUMMARY:Brandivy - Championnat De Bretagne Masters et Coupe Du Conseil Départemental 56
DESCRIPTION:Régularité : \nDépart 10h30 – Durée selon l’âge \nEngagement 2€ \nMinimes H / F : \nDépart 11h30 – Durée 20 minutes \nEngagement 6.50€ \nCadets / Cadettes : \nDépart 12h30 – Durée 30 minutes \nEngagement 6.50€ \nPrix coureurs : 47/ 5 \nPrix cadettes : 47 / 5 \nJuniors H / Dames 17 + : \nDépart 13h15 – Durée 40 minutes \nEngagement 8.50€ \nPrix coureurs : 61 / 5 \nPrix dames : 61 / 5 \nChampionnat de Bretagne Masters : \nDépart 14h15 \nMasters 1 : 35-39 ans/ 1988-1984 – Durée 50 minutes + Masters 2 : 40-44 ans/ 1983-1979 – Durée 50 minutes \nMasters 3 : 45-49 ans/ 1978-1974 – Durée 50 minutes + Masters 4 : 50-54 ans/ 1973-1969 – Durée 50 minutes avec départ différé \nMasters 5 : 55-59 ans/ 1968-1964 – Durée 40 minutes + Masters 6 : 60-64 ans/ 1963-1959 – Durée 40 minutes + Masters 7 : 65-69 ans/ 1958-1954 – Durée 40 minutes + Masters 8 : 70 ans et +/ 1953 et avant – Durée 40 minutes \nFemmes Masters : 30 minutes avec départ différé \nLes récompenses suivantes seront remises lors du protocole de ces Championnats de Bretagne : \n– Femmes Masters (35 ans et plus): 1 maillot + 3 médailles \n– Hommes Masters (35 ans à 44 ans): 1 maillot + 3 médailles \n– Hommes Masters (45 ans à 54 ans): 1 maillot + 3 médailles \n– Hommes Masters (55 ans et plus): 1 maillot + 3 médailles \nL’attribution d’un maillot de « Champion de Bretagne » est conditionnée à la participation minimale de 5 coureurs par tranches d’âge (hommes 35-44 ; hommes 45-54 ; hommes 55 et plus) et de 3 coureurs (femmes 35 ans et plus).    \nLe championnat est ouvert aux licencié(e)s français dans un club breton  \nIl n’y aura pas d’engagement sur ligne pour cette épreuve  \nEspoirs / Seniors : \nDépart 15h30 – Durée 50 minutes \nEngagement 8.50€ \nPrix coureurs : 320 / 15 – 1er prix 62€ \nEngagements : \nOuverture le 11/10/2022 à 18h (Sauf pour les Masters) \nFermeture le 10/11/2022 à 20h \nInformations complémentaires : \nCYCLO CROSS BRANDIVY 2022 (1) \n \n  \n \n 
URL:https://www.cyclisme.bzh/epreuve-calendrier/brandivy-championnat-de-bretagne-masters-et-coupe-du-conseil-departemental-56/
LOCATION:BRANDIVY\, BRANDIVY\, Bretagne\, France
ORGANIZER;CN="EC PLUVIGNOISE (4356136)":MAILTO:ecp56330@gmail.com
END:VEVENT
BEGIN:VEVENT
DTSTART;VALUE=DATE:20221113
DTEND;VALUE=DATE:20221114
DTSTAMP:20260423T195419
CREATED:20221025T092001Z
LAST-MODIFIED:20221025T092415Z
UID:10001605-1668297600-1668383999@www.cyclisme.bzh
SUMMARY:Trégunc - Challenge de Cornouaille Sud
DESCRIPTION:Régularité : Dép 13h15 – Durée selon l’âge – sans prix – Engagements 2 € \nMinimes H et F : Dép 14h45 – Durée 20′ – sans prix – Engagements 6.50 € \nCadets-Cadettes : Dép 15h30 – Durée 30′ – sans prix – Engagements 6.50 € \nRenseignements : Aline LE RAZAVET associationcyclistedetregunc@gmail.com 06 71 45 21 72 \nLire en plein écranAller au contenu PDF
URL:https://www.cyclisme.bzh/epreuve-calendrier/tregunc-challenge-de-cornouaille-sud-2/
LOCATION:TREGUNC\, TREGUNC\, Bretagne\, France
CATEGORIES:Ecole de cyclisme
ATTACH;FMTTYPE=image/jpeg:https://www.cyclisme.bzh/wp-content/uploads/2022/10/details-cyclocross-2022-la-maison-de-la-mer_page-0001.jpg
ORGANIZER;CN="AC TREGUNCOISE (4329169)":MAILTO:associationcyclistedetregunc@gmail.com
END:VEVENT
END:VCALENDAR