BEGIN:VCALENDAR
VERSION:2.0
PRODID:-//Comité de Bretagne de Cyclisme - ECPv6.15.20//NONSGML v1.0//EN
CALSCALE:GREGORIAN
METHOD:PUBLISH
X-WR-CALNAME:Comité de Bretagne de Cyclisme
X-ORIGINAL-URL:https://www.cyclisme.bzh
X-WR-CALDESC:Évènements pour Comité de Bretagne de Cyclisme
REFRESH-INTERVAL;VALUE=DURATION:PT1H
X-Robots-Tag:noindex
X-PUBLISHED-TTL:PT1H
BEGIN:VTIMEZONE
TZID:Europe/Paris
BEGIN:DAYLIGHT
TZOFFSETFROM:+0100
TZOFFSETTO:+0200
TZNAME:CEST
DTSTART:20210328T010000
END:DAYLIGHT
BEGIN:STANDARD
TZOFFSETFROM:+0200
TZOFFSETTO:+0100
TZNAME:CET
DTSTART:20211031T010000
END:STANDARD
BEGIN:DAYLIGHT
TZOFFSETFROM:+0100
TZOFFSETTO:+0200
TZNAME:CEST
DTSTART:20220327T010000
END:DAYLIGHT
BEGIN:STANDARD
TZOFFSETFROM:+0200
TZOFFSETTO:+0100
TZNAME:CET
DTSTART:20221030T010000
END:STANDARD
BEGIN:DAYLIGHT
TZOFFSETFROM:+0100
TZOFFSETTO:+0200
TZNAME:CEST
DTSTART:20230326T010000
END:DAYLIGHT
BEGIN:STANDARD
TZOFFSETFROM:+0200
TZOFFSETTO:+0100
TZNAME:CET
DTSTART:20231029T010000
END:STANDARD
END:VTIMEZONE
BEGIN:VEVENT
DTSTART;VALUE=DATE:20221101
DTEND;VALUE=DATE:20221102
DTSTAMP:20260423T140847
CREATED:20220922T133036Z
LAST-MODIFIED:20220922T133139Z
UID:10001588-1667260800-1667347199@www.cyclisme.bzh
SUMMARY:Ergué-Gabéric - Challenge de Cornouaille Sud
DESCRIPTION:Régularité\, Challenge de Cornouaille Sud: Dép 12h30 – Durée selon l’âge – Sans Prix -Engagements 2 € \nMinimes H/F\, Challenge de Cornouaille Sud : Dép 13h45 – Durée 20′ – Sans Prix – Engagements 6.50 € \nCadets H et F\, Challenge de Cornouaille Sud et Dames 17ans et + : Dép 14h30 Cadets  – Durée  30′ pour les cadets  – Grille 61/5 1er 21 € ps cadets – Engagements 6.50 € – Durée 40′ pour les dames – Grille 30/3 1ère 15 € – Engagements 8.50 € \nJuniors/Espoirs/Seniors : Dép 15h30 – Durée 50′ pour les espoirs/seniors et 40′ pour les juniors – Gr 259/15 1er 50€ – Gr 47/5 1er 18€ ps juniors. – Engagements 8.50 € \nRenseignements : Julien CARPON – julien.carpon@laposte.net – 06 88 04 19 09
URL:https://www.cyclisme.bzh/epreuve-calendrier/ergue-gaberic-challenge-de-cornouaille-sud/
LOCATION:Ergué Gabéric\, Ergué Gabéric\, France
CATEGORIES:Ecole de cyclisme
ORGANIZER;CN="CC ERGUE GABERIC (4329232)":MAILTO:julien.carpon@laposte.net
END:VEVENT
BEGIN:VEVENT
DTSTART;VALUE=DATE:20221106
DTEND;VALUE=DATE:20221107
DTSTAMP:20260423T140847
CREATED:20221007T134129Z
LAST-MODIFIED:20221102T140506Z
UID:10001597-1667692800-1667779199@www.cyclisme.bzh
SUMMARY:Landerneau Lanrinou - Coupe de Bretagne Camping-cars Jacqueline #2
DESCRIPTION:Minimes H/F  : Dép 11h30 – Durée 20′ – Gr 47/5 1er 18 € – Gr 28/3 1ère 15 € ps minimes filles  – Engagements 6.50 € \nCadets/Cadettes : Dép 12h15 – Durée 30′ – Gr 107/10 1er 20€ – Gr 47/5 1ère 18 € ps cadettes – Engagements 6.50 € \nJuniors H/ Dames 17ans et + : Dép 14h15 – Durée 40 ‘ – Gr 152/10 1er 30 € ps juniors h – Gr 91/5 1ère 29 € ps dames 17ans et + – Engagements 8.50 € \nEspoirs/Seniors H : Dép 15h30 – Durée 50′ – Gr 610/20 1er 122€ – Engagements 8.50 € \nEngagements clos le mardi 1er novembre à 20h00\, edit du 02/11 : Engagements prolongées jusqu’au 02/11 20h00 \nRenseignements : Jérôme LE GALL – legalljerome.ecl@orange.fr – 06 88 75 52 72 \nLire en plein écranAller au contenu PDF
URL:https://www.cyclisme.bzh/epreuve-calendrier/landerneau-lanrinou-coupe-de-bretagne-camping-cars-jacqueline-2/
LOCATION:Landerneau Lanrinou
ATTACH;FMTTYPE=image/jpeg:https://www.cyclisme.bzh/wp-content/uploads/2022/10/affiche-cyclo-cross-2022-def_page-0001.jpg
ORGANIZER;CN="EC Landerneau":MAILTO:legalljerome.ecl@orange.fr
END:VEVENT
END:VCALENDAR