BEGIN:VCALENDAR
VERSION:2.0
PRODID:-//Comité de Bretagne de Cyclisme - ECPv6.15.20//NONSGML v1.0//EN
CALSCALE:GREGORIAN
METHOD:PUBLISH
X-WR-CALNAME:Comité de Bretagne de Cyclisme
X-ORIGINAL-URL:https://www.cyclisme.bzh
X-WR-CALDESC:Évènements pour Comité de Bretagne de Cyclisme
REFRESH-INTERVAL;VALUE=DURATION:PT1H
X-Robots-Tag:noindex
X-PUBLISHED-TTL:PT1H
BEGIN:VTIMEZONE
TZID:Europe/Paris
BEGIN:DAYLIGHT
TZOFFSETFROM:+0100
TZOFFSETTO:+0200
TZNAME:CEST
DTSTART:20210328T010000
END:DAYLIGHT
BEGIN:STANDARD
TZOFFSETFROM:+0200
TZOFFSETTO:+0100
TZNAME:CET
DTSTART:20211031T010000
END:STANDARD
BEGIN:DAYLIGHT
TZOFFSETFROM:+0100
TZOFFSETTO:+0200
TZNAME:CEST
DTSTART:20220327T010000
END:DAYLIGHT
BEGIN:STANDARD
TZOFFSETFROM:+0200
TZOFFSETTO:+0100
TZNAME:CET
DTSTART:20221030T010000
END:STANDARD
BEGIN:DAYLIGHT
TZOFFSETFROM:+0100
TZOFFSETTO:+0200
TZNAME:CEST
DTSTART:20230326T010000
END:DAYLIGHT
BEGIN:STANDARD
TZOFFSETFROM:+0200
TZOFFSETTO:+0100
TZNAME:CET
DTSTART:20231029T010000
END:STANDARD
END:VTIMEZONE
BEGIN:VEVENT
DTSTART;VALUE=DATE:20220102
DTEND;VALUE=DATE:20220103
DTSTAMP:20260425T123708
CREATED:20211217T151543Z
LAST-MODIFIED:20211217T153410Z
UID:10001038-1641081600-1641167999@www.cyclisme.bzh
SUMMARY:La Chapelle Neuve
DESCRIPTION:régularité cc : \ndépart : 13 h – durée : selon l’âge \népreuve minimes H/G : \ndépart : 13h45 – durée : 20′ – pc : 28/3 \népreuve cadets/cadettes : \ndépart : 14h30 – durée : 30′ – pc : 61/5 \népreuve juniors H : \ndépart : 14h30 – durée : 40′ – pc : 76/5 \népreuve dames 17 ans et + : \ndépart : 14h30 – durée : 40′ – pc : 30/3 \népreuve espoirs/seniors : \ndépart : 15h30 – durée : 50′ – pc : 320/15 \n  \n 
URL:https://www.cyclisme.bzh/epreuve-calendrier/la-chapelle-neuve/
LOCATION:LA CHAPELLE NEUVE\, LA CHAPELLE NEUVE\, Bretagne\, France
CATEGORIES:Ecole de cyclisme
END:VEVENT
END:VCALENDAR