BEGIN:VCALENDAR
VERSION:2.0
PRODID:-//Comité de Bretagne de Cyclisme - ECPv6.15.20//NONSGML v1.0//EN
CALSCALE:GREGORIAN
METHOD:PUBLISH
X-ORIGINAL-URL:https://www.cyclisme.bzh
X-WR-CALDESC:Évènements pour Comité de Bretagne de Cyclisme
REFRESH-INTERVAL;VALUE=DURATION:PT1H
X-Robots-Tag:noindex
X-PUBLISHED-TTL:PT1H
BEGIN:VTIMEZONE
TZID:Europe/Paris
BEGIN:DAYLIGHT
TZOFFSETFROM:+0100
TZOFFSETTO:+0200
TZNAME:CEST
DTSTART:20200329T010000
END:DAYLIGHT
BEGIN:STANDARD
TZOFFSETFROM:+0200
TZOFFSETTO:+0100
TZNAME:CET
DTSTART:20201025T010000
END:STANDARD
BEGIN:DAYLIGHT
TZOFFSETFROM:+0100
TZOFFSETTO:+0200
TZNAME:CEST
DTSTART:20210328T010000
END:DAYLIGHT
BEGIN:STANDARD
TZOFFSETFROM:+0200
TZOFFSETTO:+0100
TZNAME:CET
DTSTART:20211031T010000
END:STANDARD
BEGIN:DAYLIGHT
TZOFFSETFROM:+0100
TZOFFSETTO:+0200
TZNAME:CEST
DTSTART:20220327T010000
END:DAYLIGHT
BEGIN:STANDARD
TZOFFSETFROM:+0200
TZOFFSETTO:+0100
TZNAME:CET
DTSTART:20221030T010000
END:STANDARD
END:VTIMEZONE
BEGIN:VEVENT
DTSTART;VALUE=DATE:20211111
DTEND;VALUE=DATE:20211112
DTSTAMP:20260426T020028
CREATED:20211012T141406Z
LAST-MODIFIED:20211012T143819Z
UID:10001006-1636588800-1636675199@www.cyclisme.bzh
SUMMARY:St Jacques de la Lande (Parc de la Morinais) - Challenge des Sous-Bois
DESCRIPTION:Régularité : Dép 11h00 – Durée selon l’âge – Sans prix – Engagements 2 € \nMinimes G et F : Dép 11h45 – Durée 20′ – Sans prix – Engagements 6.50 € \nCadets et Cadettes : Dép 13h30 – Durée 30′ – Gr 61/5 1er 21 € – Engagements 6.50 € \nJuniors H/dames 17ans et +/Pass Cyclisme : Dép 14h30 – Durée 40′ – Gr 76/5 ps juniors – Gr 47/3 ps dames – Engagements 8.50 € \nEspoirs/Seniors : Dép 15h30 – Durée 50′ – Gr 320/15 1er 62 € – Engagements 8.50 € \n  \n 
URL:https://www.cyclisme.bzh/epreuve-calendrier/st-jacques-de-la-lande-parc-de-la-morinais-challenge-des-sous-bois/
LOCATION:ST JACQUES DE LA LANDE\, ST JACQUES DE LA LANDE\, Bretagne\, France
CATEGORIES:Ecole de cyclisme
END:VEVENT
BEGIN:VEVENT
DTSTART;VALUE=DATE:20211111
DTEND;VALUE=DATE:20211112
DTSTAMP:20260426T020028
CREATED:20211026T080507Z
LAST-MODIFIED:20211026T080507Z
UID:10001017-1636588800-1636675199@www.cyclisme.bzh
SUMMARY:Plonéour-Lanvern - Stade de Foot nouveau circuit
DESCRIPTION:Régularité : Dép 14H15 – Durée selon l’âge – Sans prix – Engagements 2 € \nJuniors/Espoirs/Seniors : Dép 15h30 – Durée 40′ pour les juniors – Gr 47/5 1er 18 € – Durée 50′ pour les espoirs/seniors – Gr 274/15 1er 53 € – Engagements 8.50 €
URL:https://www.cyclisme.bzh/epreuve-calendrier/ploneour-lanvern-stade-de-foot-nouveau-circuit/
LOCATION:Ploneour-Lanvern
CATEGORIES:Ecole de cyclisme
ORGANIZER;CN="CC Bigouden":MAILTO:ccbigouden@gmail.com
END:VEVENT
BEGIN:VEVENT
DTSTART;VALUE=DATE:20211113
DTEND;VALUE=DATE:20211114
DTSTAMP:20260426T020028
CREATED:20211013T092244Z
LAST-MODIFIED:20211014T113059Z
UID:10001009-1636761600-1636847999@www.cyclisme.bzh
SUMMARY:Bégard - Bois de Gwerun
DESCRIPTION:Régularité poussins à benjamins : Dép 13h30 – Durée selon l’âge  – Sans prix – Engagements 2 € \nMinimes : Dép 14h45 – Durée 20′ – Sans prix – Engagements 6.50 € \nCadets/Cadettes : Dép 15h30 – Durée 30′ – Sans prix – Engagements 6.50 €
URL:https://www.cyclisme.bzh/epreuve-calendrier/begard-bois-de-gwerun/
LOCATION:BEGARD\, BEGARD\, Bretagne\, France
END:VEVENT
BEGIN:VEVENT
DTSTART;VALUE=DATE:20211114
DTEND;VALUE=DATE:20211115
DTSTAMP:20260426T020028
CREATED:20211022T125010Z
LAST-MODIFIED:20211022T130921Z
UID:10001015-1636848000-1636934399@www.cyclisme.bzh
SUMMARY:Cranne en Baud
DESCRIPTION:épreuve prélicenciés poussins pupilles benjamins : \ndépart : 13h – distance selon l’âge \népreuve minimes H/F : \ndépart : 14h – durée : 20′ – pc : 28/3 \népreuve cadets/cadettes – juniors H – dames 17 ans et + : \ndépart : 14h30 – durée  cadets 30 ‘ juniors et dames 40’  –  pc  cadets : 61/5 –  pc juniors : 76/5 – pc dames : 30/3 \népreuve espoirs seniors : \ndépart : 15h30 – durée 50′ – pc : 320/15 \nPDJ : non communiqué à ce jour \n  \n 
URL:https://www.cyclisme.bzh/epreuve-calendrier/cranne-en-baud/
LOCATION:CRANNE EN BAUD\, CRANNE EN BAUD\, Bretagne\, France
CATEGORIES:Ecole de cyclisme
END:VEVENT
BEGIN:VEVENT
DTSTART;VALUE=DATE:20211114
DTEND;VALUE=DATE:20211115
DTSTAMP:20260426T020028
CREATED:20211029T122149Z
LAST-MODIFIED:20211031T122615Z
UID:10001021-1636848000-1636934399@www.cyclisme.bzh
SUMMARY:Trégunc - Challenge de Cornouaille Sud
DESCRIPTION:Régularité : Dép 13h15 – Durée selon l’âge – sans prix – Engagements 2 € \nMinimes H et F : Dép 14h45 – Durée 20′ – sans prix – Engagements 6.50 € \nCadets-Cadettes : Dép 15h30 – Durée 30′ – sans prix – Engagements 6.50 € \nRèglement du challenge :https://www.cyclisme.bzh/challenge-cyclo-cross-de-cornouaille-sud-le-reglement-2021/
URL:https://www.cyclisme.bzh/epreuve-calendrier/tregunc-challenge-de-cornouaille-sud/
LOCATION:TREGUNC\, TREGUNC\, Bretagne\, France
CATEGORIES:Ecole de cyclisme
ATTACH;FMTTYPE=image/png:https://www.cyclisme.bzh/wp-content/uploads/2021/10/affiche-cyclo-ACT5.png
ORGANIZER;CN="AC Tr%C3%A9gunc":MAILTO:associationcyclistedetregunc@gmail.com
END:VEVENT
END:VCALENDAR