BEGIN:VCALENDAR
VERSION:2.0
PRODID:-//Comité de Bretagne de Cyclisme - ECPv6.15.20//NONSGML v1.0//EN
CALSCALE:GREGORIAN
METHOD:PUBLISH
X-ORIGINAL-URL:https://www.cyclisme.bzh
X-WR-CALDESC:Évènements pour Comité de Bretagne de Cyclisme
REFRESH-INTERVAL;VALUE=DURATION:PT1H
X-Robots-Tag:noindex
X-PUBLISHED-TTL:PT1H
BEGIN:VTIMEZONE
TZID:Europe/Paris
BEGIN:DAYLIGHT
TZOFFSETFROM:+0100
TZOFFSETTO:+0200
TZNAME:CEST
DTSTART:20200329T010000
END:DAYLIGHT
BEGIN:STANDARD
TZOFFSETFROM:+0200
TZOFFSETTO:+0100
TZNAME:CET
DTSTART:20201025T010000
END:STANDARD
BEGIN:DAYLIGHT
TZOFFSETFROM:+0100
TZOFFSETTO:+0200
TZNAME:CEST
DTSTART:20210328T010000
END:DAYLIGHT
BEGIN:STANDARD
TZOFFSETFROM:+0200
TZOFFSETTO:+0100
TZNAME:CET
DTSTART:20211031T010000
END:STANDARD
BEGIN:DAYLIGHT
TZOFFSETFROM:+0100
TZOFFSETTO:+0200
TZNAME:CEST
DTSTART:20220327T010000
END:DAYLIGHT
BEGIN:STANDARD
TZOFFSETFROM:+0200
TZOFFSETTO:+0100
TZNAME:CET
DTSTART:20221030T010000
END:STANDARD
END:VTIMEZONE
BEGIN:VEVENT
DTSTART;VALUE=DATE:20210925
DTEND;VALUE=DATE:20210926
DTSTAMP:20260426T020028
CREATED:20210730T120654Z
LAST-MODIFIED:20210730T120654Z
UID:10000931-1632528000-1632614399@www.cyclisme.bzh
SUMMARY:Médréac
DESCRIPTION:Régularité\, Trophée Frédéric Guesdon : Dép 11h – Durée selon l’âge – SP – Engagements 2 € \nMinimes H et F\, Trophée Frédéric Guesdon : Dép 12h00 – Durée 20 min – Gr 47/5 1er 18 € – Gr 28/3 1ère 15 € ps filles – Engagements : 6.50 € \nCadets et cadettes\, 1ère manche du challenge des Sous-Bois : Dép 13h00 – Durée 30 min – Gr 61/5 1er 21 € – Gr 30/3 1ère 15 € ps filles – Engagements : 6.50 € \nJuniors H et Dames 17ans et +\, 1ère manche du challenge des Sous-Bois : Dép 14h00 – Durée 40 min – Gr 76/5 1er 27 € – Gr 47/3 1ère 24 € ps dames. – Engagements : 8.50 € \nEspoirs/Seniors H\, 1ère manche du challenge des Sous-Bois : Dép 15h15 – Durée 50 min – Gr 320/15 1er 62 € – Engagements : 8.50 €
URL:https://www.cyclisme.bzh/epreuve-calendrier/medreac/
LOCATION:MEDREAC
CATEGORIES:Ecole de cyclisme
ORGANIZER;CN="Team Pays de Dinan":MAILTO:colombel.teampaysdinan@outlook.fr
END:VEVENT
BEGIN:VEVENT
DTSTART;VALUE=DATE:20210926
DTEND;VALUE=DATE:20210927
DTSTAMP:20260426T020028
CREATED:20210820T103101Z
LAST-MODIFIED:20210820T103216Z
UID:10000972-1632614400-1632700799@www.cyclisme.bzh
SUMMARY:Pleyben - St Laurent
DESCRIPTION:épreuve régularité cyclocross : \ndépart : 13h30 \népreuve minimes h/f : \ndépart : 14h45 \népreuve cadets/cadettes : \ndépart : 15h30 \npas de pc pour ces 3 épreuves \n  \n 
URL:https://www.cyclisme.bzh/epreuve-calendrier/pleyben-st-laurent/
LOCATION:Pleyben
CATEGORIES:Ecole de cyclisme
END:VEVENT
BEGIN:VEVENT
DTSTART;VALUE=DATE:20210926
DTEND;VALUE=DATE:20210927
DTSTAMP:20260426T020028
CREATED:20210820T123812Z
LAST-MODIFIED:20210914T124619Z
UID:10000974-1632614400-1632700799@www.cyclisme.bzh
SUMMARY:Argentré du Plessis- 12ème trophée des champions
DESCRIPTION:épreuve régularité : \ndépart : 11h30 – longueur circuit : 1km200 – nombre tours : suivant l’âge – pas de pc \népreuve minimes : \ndépart : 12h15 – durée : 20 mn – pas de pc \népreuve cadets/cadettes : \ndépart : 13h – durée : 30 mn – pc : 61/5 – pc cadettes : 30/3 \népreuve juniors – dames 17 ans et plus : \ndépart : 14h15 – durée : 40 mn – pc juniors  : 76/5  – pc dames 17 ans et + : 47/3 \népreuve espoirs/seniors : \ndépart : 15h30 – durée : 50 mn – pc 320/15 – pc espoirs : 61/5 \nlongueur circuit pour les 4 épreuves : 2kms250 \nPDJ : Jean Claude Madiot \n 
URL:https://www.cyclisme.bzh/epreuve-calendrier/argentre-du-plessis-12eme-trophee-des-champions/
LOCATION:ARGENTRE DU PLESSIS\, ARGENTRE DU PLESSIS\, Bretagne\, France
CATEGORIES:Ecole de cyclisme
END:VEVENT
BEGIN:VEVENT
DTSTART;VALUE=DATE:20210926
DTEND;VALUE=DATE:20210927
DTSTAMP:20260426T020028
CREATED:20210908T140011Z
LAST-MODIFIED:20210911T114822Z
UID:10000956-1632614400-1632700799@www.cyclisme.bzh
SUMMARY:Grand Champ
DESCRIPTION:17 ème coupe du conseil départemental 56 de cyclocross 2021-2022 \népreuve minimes G/F : \ndépart : 12h30 – durée : 20′ – pc : 28/3 \népreuve cadets/cadettes : \ndépart : 14h30 – durée : 30′ – pc : 61/5 cadets – pc : 30/3 cadettes \népreuve juniors H – dames 17 ans et plus : \ndépart : 14h30 – durée : 40′ – pc juniors : 76/5 – pc dames : 47/5 \népreuve espoirs -séniors : \ndépart : 15h30 – durée 50′ – pc seniors : 259/15 – pc espoirs : 107/5 \nPDJ : non communiqué à ce jour \n précision : épreuve seniors – espoirs  \nheure départ : 13h – CLM \nl’ordre de départ de la 1ère manche pour les catégories espoirs et seniors sera déterminé à l’issue d’1 tour de circuit contre la montre
URL:https://www.cyclisme.bzh/epreuve-calendrier/grand-champ-2/
LOCATION:GRAND CHAMP\, GRAND CHAMP\, Bretagne\, France
ATTACH;FMTTYPE=image/jpeg:https://www.cyclisme.bzh/wp-content/uploads/2021/09/241175275_2999489596964675_6458034668580184933_n.jpg
END:VEVENT
END:VCALENDAR