BEGIN:VCALENDAR
VERSION:2.0
PRODID:-//Comité de Bretagne de Cyclisme - ECPv6.15.20//NONSGML v1.0//EN
CALSCALE:GREGORIAN
METHOD:PUBLISH
X-WR-CALNAME:Comité de Bretagne de Cyclisme
X-ORIGINAL-URL:https://www.cyclisme.bzh
X-WR-CALDESC:Évènements pour Comité de Bretagne de Cyclisme
REFRESH-INTERVAL;VALUE=DURATION:PT1H
X-Robots-Tag:noindex
X-PUBLISHED-TTL:PT1H
BEGIN:VTIMEZONE
TZID:Europe/Paris
BEGIN:DAYLIGHT
TZOFFSETFROM:+0100
TZOFFSETTO:+0200
TZNAME:CEST
DTSTART:20220327T010000
END:DAYLIGHT
BEGIN:STANDARD
TZOFFSETFROM:+0200
TZOFFSETTO:+0100
TZNAME:CET
DTSTART:20221030T010000
END:STANDARD
BEGIN:DAYLIGHT
TZOFFSETFROM:+0100
TZOFFSETTO:+0200
TZNAME:CEST
DTSTART:20230326T010000
END:DAYLIGHT
BEGIN:STANDARD
TZOFFSETFROM:+0200
TZOFFSETTO:+0100
TZNAME:CET
DTSTART:20231029T010000
END:STANDARD
BEGIN:DAYLIGHT
TZOFFSETFROM:+0100
TZOFFSETTO:+0200
TZNAME:CEST
DTSTART:20240331T010000
END:DAYLIGHT
BEGIN:STANDARD
TZOFFSETFROM:+0200
TZOFFSETTO:+0100
TZNAME:CET
DTSTART:20241027T010000
END:STANDARD
END:VTIMEZONE
BEGIN:VEVENT
DTSTART;VALUE=DATE:20231202
DTEND;VALUE=DATE:20231203
DTSTAMP:20260420T134614
CREATED:20231106T092248Z
LAST-MODIFIED:20231123T142502Z
UID:10002178-1701475200-1701561599@www.cyclisme.bzh
SUMMARY:Pencran (Stade) - Souvenir Bebert Mellouët
DESCRIPTION:Régularité – U7 H/F à U13 H/F: \n\nDépart: 13h00\nDistance selon l’âge\nEngagements: 2€\n\n  \nU15 H/F: \n\nDépart: 14h00\n20 mn\nPrix coureurs: 47/5 1er 18 € – 28/3 1ère 15 € ps U15 F\nEngagements: 6.50€\n\n  \nU17 H/F: \n\nDépart: 14h30\n30 mn\nPrix coureurs: 76/5 1er 27€ – 30/3 1ère 15 ps U17 F\nEngagements: 6.50€\n\n  \nU19 H: \n\nDépart: 14h30\n40 mn\nPrix coureurs: 107/5 1er 35 €\nEngagements: 8.50€\n\n  \nFemmes 17 ans et +: \n\nDépart: 14h30\n40 mn\nPrix coureurs: 107/5 1ère 35 €\nEngagements: 8.50€\n\n  \nU23 H + SENIORS H: \n\nDépart: 15h30\n50 mn\nPrix coureurs: 259/15 1er 50 €\nEngagements: 8.50€\n\n  \nclôture  des engagements le 30/11/2023 à 20h00 \nRenseignements: Jérôme LE GALL – legalljerome.ecl@orange.fr – 06.88.75.52.72
URL:https://www.cyclisme.bzh/epreuve-calendrier/pencran-stade-souvenir-bebert-mellouet/
LOCATION:Pencran\, France
ATTACH;FMTTYPE=image/png:https://www.cyclisme.bzh/wp-content/uploads/2023/11/affiche-cyclo-cross-1-couleur_.png
ORGANIZER;CN="EC Landerneau":MAILTO:legalljerome.ecl@orange.fr
END:VEVENT
BEGIN:VEVENT
DTSTART;VALUE=DATE:20231203
DTEND;VALUE=DATE:20231204
DTSTAMP:20260420T134614
CREATED:20231031T140954Z
LAST-MODIFIED:20231115T101850Z
UID:10002175-1701561600-1701647999@www.cyclisme.bzh
SUMMARY:Locminé - Cyclo-cross du Bois d'Amour
DESCRIPTION:Régularité de U7 à U13 H/F : Départ 12h00 – Durée selon l’âge – Sans prix coureurs – Engagements 2 €\nU15 H/F : Départ 13h00 – Durée 20′ – Sans prix coureurs – Engagements 6.50 €\nU17 H/F : Départ 13h45 – Durée 30′ – Prix coureurs : 61/5 1er 21 €  – Engagements 6.50 €\nU19 H/Dames 17ans et + : Départ 14h30 – Durée 40′ – Prix coureurs : 76/5 1er 27 €  ps U19 H – 30/3 1ère 15 € Ps Dames  – Engagements 8.50 €\nU23/Seniors H : Départ 15h30 – Durée 50 ‘ – Prix coureurs : 259/15 1er 50 € – 61/5 1er 21 € ps U23  – Engagements 8.50 €\nRenseignements : Arnaud ROBIN – 02 97 44 16 39 – 06 09 38 57 94 – arnaud.robin38@sfr.fr
URL:https://www.cyclisme.bzh/epreuve-calendrier/locmine-cyclo-cross-du-bois-damour/
LOCATION:Locminé
ORGANIZER;CN="OC LOCMINE (4356009)":MAILTO:henrimoreac@gmail.com
END:VEVENT
BEGIN:VEVENT
DTSTART;VALUE=DATE:20231203
DTEND;VALUE=DATE:20231204
DTSTAMP:20260420T134614
CREATED:20231121T140256Z
LAST-MODIFIED:20231121T140256Z
UID:10002181-1701561600-1701647999@www.cyclisme.bzh
SUMMARY:Cranne en Baud - cyclo-cross
DESCRIPTION:Ecole de cyclisme – U7 H/F à U13 H/F: \n\nDépart: 12h45 à 13h25\nDistance selon l’âge\nEngagements: 2€\n\n  \nU15 H/F: \n\nDépart: 13h45\n20 mn\nPrix coureurs: 28/3\, 1er 15€\nEngagements: 6.50€\n\n  \nU17 H/F: \n\nDépart: 14h30\n30 mn\nPrix coureurs: 61/5\, 1er 21€\nEngagements: 6.50€\n\n  \nU19 H: \n\nDépart: 14h30\n40 mn\nPrix coureurs: 76/5\, 1er 27€\nEngagements: 8.50€\n\n  \nFemmes 17 ans et +: \n\nDépart: 14h30\n40 mn\nPrix coureurs: 30/3\, 1ère 15€\nEngagements: 8.50€\n\n  \nU23 H + SENIORS H: \n\nDépart: 15h30\n50 mn\nPrix coureurs: 320/15\, 1er 62€\nEngagements: 8.50€\n\n  \nOuverture des engagements: le 21/11/2023 à 16h\, clôture le jeudi 30/11/2023 à 20h \nRenseignements: CHARRIER Franck – e-mail: franck.charrier@sfr.fr / Port: 06.32.26.71.19
URL:https://www.cyclisme.bzh/epreuve-calendrier/cranne-en-baud-cyclo-cross-2/
LOCATION:CRANNE EN BAUD\, CRANNE EN BAUD\, Bretagne\, France
CATEGORIES:Access,Elite,Elite Pro,Femmes 17 ans et +,Open,U11,U13,U15,U17,U19,U7,U9
ORGANIZER;CN="AC PAYS DE BAUD (4356342)":MAILTO:acpbaud@laposte.net
END:VEVENT
BEGIN:VEVENT
DTSTART;VALUE=DATE:20231209
DTEND;VALUE=DATE:20231210
DTSTAMP:20260420T134614
CREATED:20231031T143341Z
LAST-MODIFIED:20231031T144756Z
UID:10002176-1702080000-1702166399@www.cyclisme.bzh
SUMMARY:Scaër
DESCRIPTION:Régularité de U7 à U13 H/F : Départ 12h00 – Durée selon l’âge – Sans prix coureurs – Engagements 2 €\nU15 H/F : Départ 13h45 – Durée 20′ – Prix coureurs : 39/3 1er 20 € – 39/3 1ère 20 € ps U15 F – Engagements 6.50 €\nU17 H/F : Départ 14h30 – Durée 30′ – Prix coureurs : 47/3 1er 24 € – 47/3 1ère 24 € ps U17 F  – Engagements 6.50 €\nU19 H/Dames 17ans et +/U23/Seniors H : Départ 15h30 – Durée 40′ pour les U19 et Dames – Durée 50′ pour les U23/Seniors H – Prix coureurs : 259/15 1er 50 €  – 47/3 1ère 24 € ps dames – Engagements 8.50 €\nRenseignements : Ronan LE BOURHIS – velosportscaerois@gmail.com – 06.80.44.06.36
URL:https://www.cyclisme.bzh/epreuve-calendrier/scaer-3/
LOCATION:SCAER\, SCAER\, Bretagne\, France
ORGANIZER;CN="VS SCAEROIS (4329055)":MAILTO:velosportscaerois@gmail.com
END:VEVENT
BEGIN:VEVENT
DTSTART;VALUE=DATE:20231210
DTEND;VALUE=DATE:20231211
DTSTAMP:20260420T134614
CREATED:20231011T093643Z
LAST-MODIFIED:20231108T141740Z
UID:10002167-1702166400-1702252799@www.cyclisme.bzh
SUMMARY:St Maugan
DESCRIPTION:U15 H/F: \n\nDépart: 13h00\n20 mn\nEngagements: 6.50€\n\n  \nU17 H/F: \n\nDépart: 13h30\n30 mn\nEngagements: 6.50€\n\n  \nU19 H: \n\nDépart: 14h15\n40 mn\nPrix coureurs: 138/10\, 1er 28€\nEngagements: 8.50€\n\n  \nFemmes 17 ans et +: \n\nDépart: 14h15\n40 mn\nPrix coureurs: 30/3\, 1ère 15€\nEngagements: 8.50€\n\n  \nU23 H + SENIORS H: \n\nDépart: 15h25\n50 mn\nPrix coureurs: 259/15\, 1er 50€\nEngagements: 8.50€\n\n  \nOuverture des engagements: le 08/11/2023 à 16h\, clôture le jeudi 07/12/2023 à 20h \nRenseignements: LOCHET Annick – e-mail: annicklochet@orange.fr / Port: 06.66.54.16.97 \n 
URL:https://www.cyclisme.bzh/epreuve-calendrier/st-maugan-2/
LOCATION:SAINT MAUGAN
CATEGORIES:Access,Elite,Elite Pro,Femmes 17 ans et +,Open,U15,U17,U19
ORGANIZER;CN="VC MEVENNAIS (4335001)":MAILTO:simonlaur@wanadoo.fr
END:VEVENT
BEGIN:VEVENT
DTSTART;VALUE=DATE:20231210
DTEND;VALUE=DATE:20231211
DTSTAMP:20260420T134614
CREATED:20231115T143512Z
LAST-MODIFIED:20231115T143512Z
UID:10002180-1702166400-1702252799@www.cyclisme.bzh
SUMMARY:Séglien
DESCRIPTION:Ecole de cyclisme – U7 H/F à U13 H/F: \n\nDépart: 12h45\nDistance selon l’âge\nEngagements: 2€\n\n  \nU15 H/F: \n\nDépart: 13h45\n20 mn\nEngagements: 6.50€\n\n  \nU17 H/F: \n\nDépart: 14h30\n30 mn\nEngagements: 6.50€\n\n  \nU19 H: \n\nDépart: 15h30\n40 mn\nEngagements: 8.50€\n\n  \nFemmes 17 ans et +: \n\nDépart: 15h30\n40 mn\nEngagements: 8.50€\n\n  \nU23 H + SENIORS H: \n\nDépart: 15h30\n50 mn\nEngagements: 8.50€\n\n  \nOuverture des engagements: le 15/11/2023 à 18h\, clôture le jeudi 07/12/2023 à 20h \nRenseignements: CONTOR Emeline – e-mail: emeline.uci@orange.fr / Port: 06.10.72.82.94
URL:https://www.cyclisme.bzh/epreuve-calendrier/seglien/
LOCATION:SEGLIEN\, SEGLIEN\, Bretagne\, France
CATEGORIES:Access,Elite,Elite Pro,Femmes 17 ans et +,Open,U11,U13,U15,U17,U19,U7,U9
ORGANIZER;CN="UC INGUINIEL (4356125)":MAILTO:emeline.uci@orange.fr
END:VEVENT
BEGIN:VEVENT
DTSTART;VALUE=DATE:20231217
DTEND;VALUE=DATE:20231218
DTSTAMP:20260420T134614
CREATED:20231206T213214Z
LAST-MODIFIED:20231207T113256Z
UID:10002185-1702771200-1702857599@www.cyclisme.bzh
SUMMARY:Cruguel - Championnat de Bretagne
DESCRIPTION:10h30 : U15 Garçons et U15 Filles (20 minutes) – (deux podiums : U15 Garçons et U15 Filles) – Sans prix coureurs.\n11h 15 : U17 G (30 minutes) – (un podium : U17 G) –  Prix coureurs : 107/10 1er 20€\n13h10 : U19 H (40 minutes) – (un podium : U19 H) – Gr 228/10 1er 46 €\n14h15 : Femmes\, Femmes U19 (40 minutes) et U17 F (30 minutes) – (trois podiums : Femmes\, Femmes U19 et U17 F) – Gr 200/5 1ère 75 € ps Femmes 17ans et +  – Gr 30/3 1ère 15 € ps U17 F\n15h30 : U23/Seniors (50 minutes) – (deux podiums: scratch Seniors/Espoirs et Espoirs) – Gr 915/15 1er 184 €\n\nEngagements U15/U17 H/F : Engagements 6.50 € \nEngagements 17ans et + H/F : Engagements 8.50 € \nATTENTION CLOTURE DES ENGAGEMENTS LE MARDI 12 DECEMBRE A 20H00 \nPAS D’ENGAGEMENTS APRES LA CLOTURE ET SUR LA LIGNE \nChampionnat ouvert aux licenciés français dans un club breton \n  \nRenseignements : Gaëtan BELLANGER – ucpjosselin@gmail.com  \nRetrouvez toutes les informations ainsi que les demandes d’accréditation sur leur site : https://cyclocrosscruguel.wixsite.com/cyclocruguel \nLire en plein écranAller au contenu PDF\n  \n 
URL:https://www.cyclisme.bzh/epreuve-calendrier/cruguel-championnat-de-bretagne/
LOCATION:CRUGUEL\, CRUGUEL\, Bretagne\, France
ATTACH;FMTTYPE=image/jpeg:https://www.cyclisme.bzh/wp-content/uploads/2023/12/405404087_840263711432061_8064393341310417027_n.jpg
END:VEVENT
BEGIN:VEVENT
DTSTART;VALUE=DATE:20231223
DTEND;VALUE=DATE:20231224
DTSTAMP:20260420T134614
CREATED:20231128T153248Z
LAST-MODIFIED:20231128T153248Z
UID:10002182-1703289600-1703375999@www.cyclisme.bzh
SUMMARY:Brelevenez Lannion
DESCRIPTION:Ecole de cyclisme – U9 H/F à U13 H/F: \n\nDépart: 13h30\nDistance selon l’âge\nEngagements: 2€\n\n  \nU15 H/F: \n\nDépart: 15h\n20 mn\nPrix coureurs: 107/10\, 1er 20€\nEngagements: 6.50€\n\n  \nU17 H/F: \n\nDépart: 16h02\n30 mn\nPrix coureurs: 138/10\, 1er 28€\nEngagements: 6.50€\n\n  \nU19 H: \n\nDépart: 16h00\n40 mn\nPrix coureurs: 183/10\, 1er 37€\nEngagements: 8.50€\n\n  \nFemmes 17 ans et +: \n\nDépart: 16h00\n40 mn\nEngagements: 8.50€\n\n  \nU23 H + SENIORS H: \n\nDépart: 17h00\n50 mn\nPrix coureurs: 1220/25\, 1er 197€\nEngagements: 8.50€\n\n  \nOuverture des engagements: le 28/11/2023 à 18h\, clôture le mercredi 20/12/2023 à 23h \nRenseignements: KERLOUET Luc – e-mail: brigitte.kerlouet@gmail.com / Port: 06.95.21.88.72 \n 
URL:https://www.cyclisme.bzh/epreuve-calendrier/brelevenez-lannion/
LOCATION:BRELEVENEZ LANNION\, France
CATEGORIES:Access,Elite,Elite Pro,Femmes 17 ans et +,Open,U11,U13,U15,U17,U19,U23,U9
ORGANIZER;CN="HERMINE CYC. DU TREGOR (4322409)":MAILTO:hct22@laposte.net
END:VEVENT
BEGIN:VEVENT
DTSTART;VALUE=DATE:20231230
DTEND;VALUE=DATE:20231231
DTSTAMP:20260420T134614
CREATED:20231129T123354Z
LAST-MODIFIED:20231129T123354Z
UID:10002183-1703894400-1703980799@www.cyclisme.bzh
SUMMARY:La Chapelle Neuve - cyclo-cross de Clairvivre
DESCRIPTION:Ecole de cyclisme – U7 H/F à U13 H/F: \n\nDépart: 12h45\nDistance selon l’âge\nEngagements: 2€\n\n  \nU15 H/F: \n\nDépart: 13h45\n20 mn\nPrix coureurs: 28/3\, 1er 15€\nEngagements: 6.50€\n\n  \nU17 H/F: \n\nDépart: 14h30\n30 mn\nPrix coureurs: 61/5\, 1er 21€\nEngagements: 6.50€\n\n  \nU19 H: \n\nDépart: 14h30\n40 mn\nPrix coureurs: 76/5\, 1er 27€\nEngagements: 8.50€\n\n  \nFemmes 17 ans et +: \n\nDépart: 14h30\n40 mn\nPrix coureurs: 30/3\, 1ère 15€\nEngagements: 8.50€\n\n  \nU23 H + SENIORS H: \n\nDépart: 15h30\n50 mn\nPrix coureurs: 320/15\, 1er 62€\nEngagements: 8.50€\n\n  \nOuverture des engagements: le 29/11/2023 à 18h\, clôture le mercredi 27/12/2023 à 20h \nRenseignements: CHARRIER Franck – e-mail: franck.charrier@sfr.fr / Port: 06.32.26.71.19
URL:https://www.cyclisme.bzh/epreuve-calendrier/la-chapelle-neuve-cyclo-cross-de-clairvivre/
LOCATION:LA CHAPELLE NEUVE\, LA CHAPELLE NEUVE\, Bretagne\, France
CATEGORIES:Access,Elite,Elite Pro,Femmes 17 ans et +,Open,U11,U13,U15,U17,U19,U7,U9
ORGANIZER;CN="AC PAYS DE BAUD (4356342)":MAILTO:acpbaud@laposte.net
END:VEVENT
END:VCALENDAR