BEGIN:VCALENDAR
VERSION:2.0
PRODID:-//Comité de Bretagne de Cyclisme - ECPv6.15.20//NONSGML v1.0//EN
CALSCALE:GREGORIAN
METHOD:PUBLISH
X-WR-CALNAME:Comité de Bretagne de Cyclisme
X-ORIGINAL-URL:https://www.cyclisme.bzh
X-WR-CALDESC:Évènements pour Comité de Bretagne de Cyclisme
REFRESH-INTERVAL;VALUE=DURATION:PT1H
X-Robots-Tag:noindex
X-PUBLISHED-TTL:PT1H
BEGIN:VTIMEZONE
TZID:Europe/Paris
BEGIN:DAYLIGHT
TZOFFSETFROM:+0100
TZOFFSETTO:+0200
TZNAME:CEST
DTSTART:20220327T010000
END:DAYLIGHT
BEGIN:STANDARD
TZOFFSETFROM:+0200
TZOFFSETTO:+0100
TZNAME:CET
DTSTART:20221030T010000
END:STANDARD
BEGIN:DAYLIGHT
TZOFFSETFROM:+0100
TZOFFSETTO:+0200
TZNAME:CEST
DTSTART:20230326T010000
END:DAYLIGHT
BEGIN:STANDARD
TZOFFSETFROM:+0200
TZOFFSETTO:+0100
TZNAME:CET
DTSTART:20231029T010000
END:STANDARD
BEGIN:DAYLIGHT
TZOFFSETFROM:+0100
TZOFFSETTO:+0200
TZNAME:CEST
DTSTART:20240331T010000
END:DAYLIGHT
BEGIN:STANDARD
TZOFFSETFROM:+0200
TZOFFSETTO:+0100
TZNAME:CET
DTSTART:20241027T010000
END:STANDARD
END:VTIMEZONE
BEGIN:VEVENT
DTSTART;VALUE=DATE:20231101
DTEND;VALUE=DATE:20231102
DTSTAMP:20260421T130719
CREATED:20230925T121824Z
LAST-MODIFIED:20231025T082812Z
UID:10002154-1698796800-1698883199@www.cyclisme.bzh
SUMMARY:Ergué Gabéric - Epreuve du Challenge Cornouaille Sud de cyclo-cross
DESCRIPTION:Ecole de cyclisme – U7 H/F à U13 H/F: \n\nDépart: 13h15\nDistance selon l’âge\nEngagements: 2€\n\n  \nU15 H/F: \n\nDépart: 10h45\n20 mn\nPrix coureurs: 30/3\, 1er 15€\nEngagements: 6.50€\n\n  \nU17 H/F: \n\nDépart: 11h30\n30 mn\nPrix coureurs: 47/5\, 1er 18€\nEngagements: 6.50€\n\n  \nU19 H: \n\nDépart: 15h32\n40 mn\nPrix coureurs: 61/5\, 1er 21€\nEngagements: 8.50€\n\n  \nFemmes 17 ans et +: \n\nDépart: 11h32\n40 mn\nPrix coureurs: 47/3\, 1ère 24€\nEngagements: 8.50€\n\n  \nU23 H + SENIORS H: \n\nDépart: 15h30\n50 mn\nPrix coureurs: 259/15\, 1er 50€\nEngagements: 8.50€\n\nhttp://www.ccergue.fr/files/36/GuidetechniqueCX2023v2.pdf \n– Restauration possible sur place ( Galettes saucisses et crêpes chaudes ) – Pause sportive entre 12h et 13h. \nOuverture des engagements: le 25/09/2023 à 18h\, clôture le 29/10/2023 à 20h \nRenseignements: CARPON Julien – e-mail: julien.carpon@laposte.net / Port: 06.88.04.19.09 \n  \n 
URL:https://www.cyclisme.bzh/epreuve-calendrier/ergue-gaberic-epreuve-du-challenge-cornouaille-sud-de-cyclo-cross/
LOCATION:Ergué Gabéric\, Ergué Gabéric\, France
CATEGORIES:Access,Ecole de cyclisme,Elite,Elite Pro,Femmes 17 ans et +,Open,U19
ATTACH;FMTTYPE=image/jpeg:https://www.cyclisme.bzh/wp-content/uploads/2023/09/Screenshot_20230924_182659_Drive.jpg
ORGANIZER;CN="CC ERGUE GABERIC (4329232)":MAILTO:julien.carpon@laposte.net
END:VEVENT
BEGIN:VEVENT
DTSTART;VALUE=DATE:20231105
DTEND;VALUE=DATE:20231106
DTSTAMP:20260421T130719
CREATED:20231017T075816Z
LAST-MODIFIED:20231103T103353Z
UID:10002171-1699142400-1699228799@www.cyclisme.bzh
SUMMARY:Trégunc - Challenge de Cornouaille Sud
DESCRIPTION:Ecole de cyclisme – U7 H/F à U13 H/F: \n\nDépart: 13h15\nDistance selon l’âge\nEngagements: 2€\n\n  \nU15 H/F: \n\nDépart: 14h45\n20 mn\nEngagements: 6.50€\n\n  \nU17 H/F: \n\nDépart: 15h30\n30 mn\nEngagements: 6.50€\n\n  \nOuverture des engagements: le 17/10/2023 à 18h\, clôture le 02/11/2023 à 20h \nRenseignements: LE RAZAVET Aline – e-mail: associationcyclistedetregunc@gmail.com / Port: 06.71.45.21.72
URL:https://www.cyclisme.bzh/epreuve-calendrier/tregunc-challenge-de-cornouaille-sud-3/
LOCATION:TREGUNC\, TREGUNC\, Bretagne\, France
CATEGORIES:U11,U13,U15,U17,U7,U9
ORGANIZER;CN="AC TREGUNCOISE (4329169)":MAILTO:associationcyclistedetregunc@gmail.com
END:VEVENT
BEGIN:VEVENT
DTSTART;VALUE=DATE:20231105
DTEND;VALUE=DATE:20231106
DTSTAMP:20260421T130719
CREATED:20230920T144316Z
LAST-MODIFIED:20231024T100110Z
UID:10002152-1699142400-1699228799@www.cyclisme.bzh
SUMMARY:St Brieuc - Manche de la Coupe départementale des Côtes d'Armor de BMX
DESCRIPTION:Renseignements: St Brieuc BMX – e-mail: saint.brieuc.bmx@orange.fr / Port: 06.20.59.79.20 \nLire en plein écranAller au contenu PDF
URL:https://www.cyclisme.bzh/epreuve-calendrier/st-brieuc-manche-de-la-coupe-departementale-des-cotes-darmor-de-bmx/
LOCATION:ST BRIEUC
CATEGORIES:Access,Elite,Open,U11,U13,U15,U17,U7,U9
ATTACH;FMTTYPE=image/png:https://www.cyclisme.bzh/wp-content/uploads/2023/09/affiche.png
END:VEVENT
BEGIN:VEVENT
DTSTART;VALUE=DATE:20231111
DTEND;VALUE=DATE:20231112
DTSTAMP:20260421T130719
CREATED:20230929T115304Z
LAST-MODIFIED:20230929T115304Z
UID:10002159-1699660800-1699747199@www.cyclisme.bzh
SUMMARY:St Jacques de la Lande - Challenge des Sous Bois
DESCRIPTION:Ecole de cyclisme – U7 H/F à U13 H/F: \n\nDépart: 11h00\nDistance selon l’âge\nEngagements: 2€\n\n  \nU15 H/F: \n\nDépart: 11h45\n20 mn\nEngagements: 6.50€\n\n  \nU17 H/F: \n\nDépart: 13h30\n30 mn\nPrix coureurs: 61/5\, 1er 21€\nEngagements: 6.50€\n\n  \nU19 H + Access 1-2-3-4 H ne participant pas au Challenge \n\nDépart: 14h30\n40 mn\nPrix coureurs: 76/5\, 1er 27€\nEngagements: 8.50€\n\n  \nFemmes 17 ans et +: \n\nDépart: 14h30\n40 mn\nPrix coureurs: 47/3\, 1ère 24€\nEngagements: 8.50€\n\n  \nU23 H + SENIORS H: \n\nDépart: 15h30\n50 mn\nPrix coureurs: 320/15\, 1er 62€\nEngagements: 8.50€\n\n  \nOuverture des engagements: le 29/09/2023 à 18h\, clôture le 08/11/2023 à 20h \nRenseignements: RENAULT André – e-mail: andre.renault0869@orange.fr \n 
URL:https://www.cyclisme.bzh/epreuve-calendrier/st-jacques-de-la-lande-challenge-des-sous-bois/
LOCATION:ST JACQUES DE LA LANDE\, ST JACQUES DE LA LANDE\, Bretagne\, France
CATEGORIES:Access,Elite,Elite Pro,Femmes 17 ans et +,Open,U11,U13,U15,U17,U19,U7,U9
ORGANIZER;CN="ASPTT RENNES CYCLISME (4335114)":MAILTO:aspttrennescycling@gmail.com
END:VEVENT
BEGIN:VEVENT
DTSTART;VALUE=DATE:20231111
DTEND;VALUE=DATE:20231112
DTSTAMP:20260421T130719
CREATED:20231031T154815Z
LAST-MODIFIED:20231106T090611Z
UID:10002177-1699660800-1699747199@www.cyclisme.bzh
SUMMARY:Quimperlé - Cyclo-cross de Kerbertrand - Challenge Cornouaille Sud
DESCRIPTION:Ecole de cyclisme – U7 H/F à U13 H/F: \n\nDépart: 12h00\nDistance selon l’âge\nEngagements: 2€\n\n  \nU15 H/F: \n\nDépart: 13h45\n20 mn\nEngagements: 6.50€\n\n  \nU17 H/F: \n\nDépart: 14h30\n30 mn\nPrix coureurs: 107/10\, 1er 20€\nPrix spéciaux U17 F: 30/3\, 1ère 15€\nEngagements: 6.50€\n\n  \n  \nFemmes 17 ans et +: \n\nDépart: 14h30\n40 mn\nPrix coureurs: 61/5\, 1ère 21€\nEngagements: 8.50€\n\nU19 H: \n\nDépart: 15h30\n40 mn\nPrix coureurs: 61/5\, 1er 21€\nEngagements: 8.50€\n\nU23 H + SENIORS H: \n\nDépart: 15h30\n50 mn\nPrix coureurs: 259/15\, 1er 50€\nEngagements: 8.50€\n\n  \nclôture le 08/11/2023 à 22h \nRenseignements: JEGOU Gwénael – 06.60.26.78.39
URL:https://www.cyclisme.bzh/epreuve-calendrier/quimperle-cyclo-cross-de-kerbertrand-challenge-cornouaille-sud-2/
LOCATION:QUIMPERLE\, QUIMPERLE\, Bretagne\, France
ORGANIZER;CN="UC QUIMPERLOISE (4329346)":MAILTO:gwenael.jegou434@orange.fr
END:VEVENT
BEGIN:VEVENT
DTSTART;VALUE=DATE:20231112
DTEND;VALUE=DATE:20231113
DTSTAMP:20260421T130719
CREATED:20230925T130134Z
LAST-MODIFIED:20231109T095954Z
UID:10002156-1699747200-1699833599@www.cyclisme.bzh
SUMMARY:Cranne en Baud - cyclo-cross
DESCRIPTION:Ecole de cyclisme – U7 H/F à U13 H/F: \n\nDépart: 13h00\nDistance selon l’âge\nEngagements: 2€\n\n  \nU15 H/F: \n\nDépart: 14h00\n20 mn\nPrix coureurs: 28/3\, 1er 15€\nEngagements: 6.50€\n\n  \nU17 H/F: \n\nDépart: 14h30\n30 mn\nPrix coureurs: 61/5\, 1er 21€\nEngagements: 6.50€\n\n  \nU19 H: \n\nDépart: 14h30\n40 mn\nPrix coureurs: 76/5\, 1er 27€\nEngagements: 8.50€\n\n  \nFemmes 17 ans et +: \n\nDépart: 14h30\n40 mn\nPrix coureurs: 30/3\, 1ère 15€\nEngagements: 8.50€\n\n  \nU23 H + SENIORS H: \n\nDépart: 15h30\n50 mn\nPrix coureurs: 320/15\, 1er 62€\nEngagements: 8.50€\n\n  \nOuverture des engagements: le 25/09/2023 à 18h\, clôture le 09/11/2023 à 20h \nRenseignements: CHARRIER Franck – e-mail: franck.charrier@sfr.fr / Port: 06.32.26.71.19
URL:https://www.cyclisme.bzh/epreuve-calendrier/cranne-en-baud-cyclo-cross/
LOCATION:CRANNE EN BAUD\, CRANNE EN BAUD\, Bretagne\, France
CATEGORIES:Access,Ecole de cyclisme,Elite,Elite Pro,Femmes 17 ans et +,Open,U15,U17,U19
END:VEVENT
BEGIN:VEVENT
DTSTART;VALUE=DATE:20231112
DTEND;VALUE=DATE:20231113
DTSTAMP:20260421T130719
CREATED:20231006T122852Z
LAST-MODIFIED:20231006T122852Z
UID:10002164-1699747200-1699833599@www.cyclisme.bzh
SUMMARY:Chateaugiron Domloup - Challenge des Sous Bois
DESCRIPTION:Ecole de cyclisme – U7 H/F à U13 H/F: \n\nDépart: 12h00\nDistance selon l’âge\nEngagements: 2€\n\n  \nU15 H/F: \n\nDépart: 12h45\n20 mn\nPrix coureurs U15 H: 28/3\, 1er 15€\nPrix coureurs U15 F: 28/3\, 1ère 15€\nEngagements: 6.50€\n\n  \nU17 H/F: \n\nDépart: 13h30\n30 mn\nPrix coureurs U17 H: 28/3\, 1er 15€\nPrix coureurs U17 F: 28/3\, 1ère 15€\nEngagements: 6.50€\n\n  \nU19 H: \n\nDépart: 14h15\n40 mn\nPrix coureurs: 61/5\, 1er 21€\nEngagements: 8.50€\n\n  \nFemmes 17 ans et +: \n\nDépart: 14h15\n40 mn\nPrix coureurs: 39/3\, 1ère 20€\nEngagements: 8.50€\n\n  \nU23 H + SENIORS H: \n\nDépart: 15h30\n50 mn\nPrix coureurs: 320/15\, 1er 62€\nEngagements: 8.50€\n\n  \nOuverture des engagements: le 06/10/2023 à 18h\, clôture le 09/11/2023 à 20h \nRenseignements: MADIOT Jean Claude – e-mail: jeanclaude.madiot1@orange.fr / Port: 06.63.73.95.38
URL:https://www.cyclisme.bzh/epreuve-calendrier/chateaugiron-domloup-challenge-des-sous-bois/
LOCATION:CHÂTEAUGIRON\, France
CATEGORIES:Access,Elite,Elite Pro,Femmes 17 ans et +,Open,U11,U13,U15,U17,U19,U7,U9
END:VEVENT
BEGIN:VEVENT
DTSTART;VALUE=DATE:20231112
DTEND;VALUE=DATE:20231113
DTSTAMP:20260421T130719
CREATED:20231011T112520Z
LAST-MODIFIED:20231109T101255Z
UID:10002168-1699747200-1699833599@www.cyclisme.bzh
SUMMARY:Theix - Noyalo - Coupe du Morbihan - Trophée Harmonie Mutuelle #4
DESCRIPTION:Ouverture des engagements: le 11/10/2023 à 18h\, clôture le 09/11/2023 à 20h \nRenseignements: TABARD Timothée – 06.83.86.90.61 / AUBIN Valérie – valfred.aubin@gmail.com – 06.73.34.10.41 \nLire en plein écranAller au contenu PDF\n 
URL:https://www.cyclisme.bzh/epreuve-calendrier/theix-noyalo-coupe-du-morbihan-trophee-harmonie-mutuelle-4/
LOCATION:THEIX NOYALO\, THEIX NOYALO\, Bretagne\, France
CATEGORIES:Access,Elite,Open,U11,U13,U15,U17,U7,U9
ATTACH;FMTTYPE=image/png:https://www.cyclisme.bzh/wp-content/uploads/2023/10/affiche-12-nov-2023.png
ORGANIZER;CN="BMX THEIX (4356523)":MAILTO:djstim@hotmail.fr
END:VEVENT
BEGIN:VEVENT
DTSTART;VALUE=DATE:20231112
DTEND;VALUE=DATE:20231113
DTSTAMP:20260421T130719
CREATED:20231025T130953Z
LAST-MODIFIED:20231110T092319Z
UID:10002174-1699747200-1699833599@www.cyclisme.bzh
SUMMARY:Ploneour-Lanvern - Stade de foot - Nouveau circuit
DESCRIPTION:Régularité de U7 à U13 H/F : Dép 14h – Distance selon l’âge – Sans prix coureurs – Engagements 2 €\nU19/Dames 17ans et +/U23/Seniors : Dép 15h30 – Durée 40′ pour les U19 et Dames – Durée 50′ pour les U23 et Seniors – Prix coureurs : 47/5 1er 18 € ps U19 – 274/15 1er 53 € ps U23 et Seniors – Engagements 8.50 €\nRenseignements : Céline LE FLOCH Tél : 0699251204  – E-Mail : leflochandre1@aol.fr
URL:https://www.cyclisme.bzh/epreuve-calendrier/ploneour-lanvern-stade-de-foot-nouveau-circuit-3/
LOCATION:PLONEOUR LANVERN\, PLONEOUR LANVERN\, Bretagne\, France
ORGANIZER;CN="CC BIGOUDEN (4329088)":MAILTO:ccbigouden@gmail.com
END:VEVENT
BEGIN:VEVENT
DTSTART;VALUE=DATE:20231119
DTEND;VALUE=DATE:20231120
DTSTAMP:20260421T130719
CREATED:20230823T121812Z
LAST-MODIFIED:20231115T092811Z
UID:10002122-1700352000-1700438399@www.cyclisme.bzh
SUMMARY:Plouagat Chatelaudren - 2ème manche de la Coupe de Bretagne de cyclo-cross
DESCRIPTION:Ecole de cyclisme – U7 H/F à U13 H/F: \n\nDépart: 10h30\nDistance selon l’âge\nEngagements: 2€\n\n  \nU15 H/F: \n\nDépart: 12h30\n20 mn\nPrix coureurs U15 H: 150/5\nPrix coureurs U15 F: 150/5\nEngagements: 6.50€\n\n  \nU17 H/F: \n\nDépart: 13h30\n30 mn\nPrix coureurs U17 H: 150/5\nPrix coureurs U17 F: 150/5\nEngagements: 6.50€\n\n  \nU19 H: \n\nDépart: 14h30\n40 mn\nPrix coureurs: 150/5\nEngagements: 8.50€\n\n  \nFemmes 17 ans et +: \n\nDépart: 14h30\n40 mn\nPrix coureurs: 150/5\nEngagements: 8.50€\n\n  \nU23 H + SENIORS H: \n\nDépart: 15h30\n50 mn\nPrix coureurs Séniors H: 406/15\nPrix coureurs U23 H: 150/5\nEngagements: 8.50€\n\n  \nOuverture des engagements: LE 23/08/2023 à 18h\, clôture le mercredi 15/11/2023 à 18h \nRenseignements: EVENOU Sébastien – 07.88.00.37.90
URL:https://www.cyclisme.bzh/epreuve-calendrier/plouagat-chatelaudren-2eme-manche-de-la-coupe-de-bretagne-de-cyclo-cross/
LOCATION:PLOUAGAT CHATELAUDREN\, 22170\, France
CATEGORIES:Access 1,Access 2,Access 3,Access 4,Elite,Elite Pro,Femmes 17 ans et +,Open 1,Open 2,Open 3,U11,U13,U15,U17,U7,U9
ORGANIZER;CN="VC PAYS DE GUINGAMP 22 (4322188)":MAILTO:President@vcpg22.fr
END:VEVENT
BEGIN:VEVENT
DTSTART;VALUE=DATE:20231126
DTEND;VALUE=DATE:20231127
DTSTAMP:20260421T130719
CREATED:20231011T135937Z
LAST-MODIFIED:20231120T144320Z
UID:10002169-1700956800-1701043199@www.cyclisme.bzh
SUMMARY:La Forêt Brandivy - Régularité U7 à U13 H/F + Championnat du Morbihan de U15 H/F à Séniors H
DESCRIPTION:Ecole de cyclisme – U7 H/F à U13 H/F:  \n\nDépart: 11h30\nDistance selon l’âge\nEngagements: 2€\n\n  \nU15 H/F: \n\nDépart: 12h45\n20 mn\nEngagements: 6.50€\n\n  \nU17 H/F: \n\nDépart: 13h30\n30 mn\nEngagements: 6.50€\n\n  \nU19 H: \n\nDépart: 14h30\n40 mn\nPrix coureurs: 61/5\, 1er 21€\nEngagements: 8.50€\n\n  \nFemmes 17 ans et +: \n\nDépart: 14h30\n40 mn\nPrix coureurs: 61/5\, 1ère 21€\nEngagements: 8.50€\n\n  \nU23 H + SENIORS H: \n\nDépart: 15h30\n50 mn\nPrix coureurs: 320/15\, 1er 62€\nEngagements: 8.50€\n\n  \nOuverture des engagements: le 11/10/2023 à 18h\, clôture le 23/11/2023 à 20h \nRenseignements: GUEGAN Jean Claude – e-mail: guegan56330@orange.fr / Port: 06.42.66.29.82 \n 
URL:https://www.cyclisme.bzh/epreuve-calendrier/la-foret-brandivy-regularite-championnat-du-morbihan-de-u15-h-f-a-seniors-h/
LOCATION:La Forêt Brandivy\, France
CATEGORIES:Access,Elite,Elite Pro,Femmes 17 ans et +,Open,U11,U13,U15,U17,U19,U7,U9
ORGANIZER;CN="EC PLUVIGNOISE (4356136)":MAILTO:ecp56330@gmail.com
END:VEVENT
BEGIN:VEVENT
DTSTART;VALUE=DATE:20231126
DTEND;VALUE=DATE:20231127
DTSTAMP:20260421T130719
CREATED:20231012T084113Z
LAST-MODIFIED:20231012T085050Z
UID:10002170-1700956800-1701043199@www.cyclisme.bzh
SUMMARY:Pleyber Christ - Championnat du Finistère de cyclo-cross
DESCRIPTION:U15 H/F: \n\nDépart: 11h30\n20 mn\nPrix coureurs U15 H: 47/5\, 1er 18€\nPrix coureurs U15 F: 47/5\, 1ère 18€\nEngagements: 6.50€\n\n  \nU17 H/F: \n\nDépart: 12h15\n30 mn\nPrix coureurs U17 H: 91/5\, 1er 29€\nPrix coureurs U17 F: 91/5\, 1ère 29€\nEngagements: 6.50€\n\n  \nU19 H: \n\nDépart: 14h00\n40 mn\nPrix coureurs: 183/10\, 1er 37€\nEngagements: 8.50€\n\n  \nFemmes 17 ans et +: \n\nDépart: 14h00\n40 mn\nPrix coureurs: 259/15\, 1ère 50€\nPrix spéciaux U19 F: 183/10\, 1ère 37€\nEngagements: 8.50€\n\n  \nU23 H + SENIORS H: \n\nDépart: 15h15\n50 mn\nPrix coureurs: 259/15\, 1er 50€\nEngagements: 8.50€\n\n  \nOuverture des engagements: le 12/10/2023 à 18h\, clôture le 23/11/2023 à 20h \nRenseignements: DENIEL Loïc – e-mail: team.yann.tbfo@gmail.com / Port: 06.09.41.12.38
URL:https://www.cyclisme.bzh/epreuve-calendrier/pleyber-christ-championnat-du-finistere-de-cyclo-cross/
LOCATION:PLEYBER CHRIST\, PLEYBER CHRIST\, Bretagne\, France
CATEGORIES:Access,Elite,Elite Pro,Femmes 17 ans et +,Open,U15,U17,U19
ORGANIZER;CN="TEAM YANN TBFO":MAILTO:team.yann.tfbo@gmail.com
END:VEVENT
BEGIN:VEVENT
DTSTART;VALUE=DATE:20231126
DTEND;VALUE=DATE:20231127
DTSTAMP:20260421T130719
CREATED:20231018T143338Z
LAST-MODIFIED:20231018T143531Z
UID:10002172-1700956800-1701043199@www.cyclisme.bzh
SUMMARY:St Donan - Régularité U7 à U13 H/F + Championnat des Côtes d'Armor de U15 à Séniors
DESCRIPTION:Ecole de cyclisme – U7 H/F à U13 H/F:  \n\nDépart: 10h30\nDistance selon l’âge\nEngagements: 2€\n\n  \nU15 H/F: Championnat des Côtes d’Armor \n\nDépart: 12h30\n20 mn\nEngagements: 6.50€\n\n  \nU17 H/F: Championnat des Côtes d’Armor \n\nDépart: 13h30\n30 mn\nEngagements: 6.50€\n\n  \nU19 H: Championnat des Côtes d’Armor \n\nDépart: 14h30\n40 mn\nEngagements: 8.50€\n\n  \nFemmes 17 ans et +: Championnat des Côtes d’Armor \n\nDépart: 14h30\n40 mn\nEngagements: 8.50€\n\n  \nU23 H + SENIORS H: Championnat des Côtes d’Armor \n\nDépart: 15h30\n50 mn\nEngagements: 8.50€\n\n  \nOuverture des engagements: le 18/10/2023 à 18h\, clôture le 23/11/2023 à 20h \nRenseignements: GOUEDARD Michel – e-mail: gouedard-monique@wanadoo.fr / Port: 06.38.94.46.18
URL:https://www.cyclisme.bzh/epreuve-calendrier/st-donan-regularite-u7-a-u13-h-f-championnat-des-cotes-darmor-de-u15-a-seniors/
LOCATION:Saint Donan
CATEGORIES:Access,Elite,Elite Pro,Femmes 17 ans et +,Open,U11,U13,U15,U17,U19,U7,U9
ORGANIZER;CN="UC BRIOCHINE (4322028)":MAILTO:unioncyclistebriochine@gmail.com
END:VEVENT
BEGIN:VEVENT
DTSTART;VALUE=DATE:20231126
DTEND;VALUE=DATE:20231127
DTSTAMP:20260421T130719
CREATED:20231024T141711Z
LAST-MODIFIED:20231123T092522Z
UID:10002173-1700956800-1701043199@www.cyclisme.bzh
SUMMARY:Fougères - Régularité U7 à U13 H/F et Championnat d'Ille-et-Vilaine de U15 H/F à Séniors H
DESCRIPTION:Ecole de cyclisme – U7 H/F à U13 H/F: \n\nDépart: 11h00\nDistance selon l’âge\nEngagements: 2€\n\n  \nU15 H/F: Championnat d’Ille-et-Vilaine \n\nDépart: 12h00\n20 mn\nPrix coureurs: 47/3\, 1er 24€\nEngagements: 6.50€\n\n  \nU17 H/F: Championnat d’Ille-et-Vilaine \n\nDépart: 13h30\n30 mn\nPrix coureurs: 61/5\, 1er 21€\nEngagements: 6.50€\n\n  \nU19 H: Championnat d’Ille-et-Vilaine \n\nDépart: 14h30\n40 mn\nPrix coureurs: 76/5\, 1er 27€\nEngagements: 8.50€\n\n  \nFemmes 17 ans et +: Championnat d’Ille-et-Vilaine \n\nDépart: 14h30\n40 mn\nPrix coureurs: 61/5\, 1ère 21€\nEngagements: 8.50€\n\n  \nU23 H + SENIORS H: Championnat d’Ille-et-Vilaine \n\nDépart: 15h30\n50 mn\nPrix coureurs: 320/15\, 1er 62€\nEngagements: 8.50€\n\n  \nOuverture des engagements: le 24/10/2023 à 18h\, clôture le 23/11/2023 à 20h \nRenseignements: PIETTE Jean Louis – e-mail: piette.jeanlouis@neuf.fr / Port: 06.29.07.17.44
URL:https://www.cyclisme.bzh/epreuve-calendrier/fougeres-regularite-u7-a-u13-h-f-et-championnat-dille-et-vilaine-de-u15-h-f-a-seniors-h/
LOCATION:FOUGÈRES\, France
CATEGORIES:Access,Elite,Elite Pro,Femmes 17 ans et +,Open,U11,U13,U15,U17,U19,U7,U9
ORGANIZER;CN="COC FOUGERAIS (4335256)":MAILTO:cocfougerais@gmail.com
END:VEVENT
END:VCALENDAR