BEGIN:VCALENDAR
VERSION:2.0
PRODID:-//Comité de Bretagne de Cyclisme - ECPv6.15.20//NONSGML v1.0//EN
CALSCALE:GREGORIAN
METHOD:PUBLISH
X-ORIGINAL-URL:https://www.cyclisme.bzh
X-WR-CALDESC:Évènements pour Comité de Bretagne de Cyclisme
REFRESH-INTERVAL;VALUE=DURATION:PT1H
X-Robots-Tag:noindex
X-PUBLISHED-TTL:PT1H
BEGIN:VTIMEZONE
TZID:Europe/Paris
BEGIN:DAYLIGHT
TZOFFSETFROM:+0100
TZOFFSETTO:+0200
TZNAME:CEST
DTSTART:20210328T010000
END:DAYLIGHT
BEGIN:STANDARD
TZOFFSETFROM:+0200
TZOFFSETTO:+0100
TZNAME:CET
DTSTART:20211031T010000
END:STANDARD
BEGIN:DAYLIGHT
TZOFFSETFROM:+0100
TZOFFSETTO:+0200
TZNAME:CEST
DTSTART:20220327T010000
END:DAYLIGHT
BEGIN:STANDARD
TZOFFSETFROM:+0200
TZOFFSETTO:+0100
TZNAME:CET
DTSTART:20221030T010000
END:STANDARD
BEGIN:DAYLIGHT
TZOFFSETFROM:+0100
TZOFFSETTO:+0200
TZNAME:CEST
DTSTART:20230326T010000
END:DAYLIGHT
BEGIN:STANDARD
TZOFFSETFROM:+0200
TZOFFSETTO:+0100
TZNAME:CET
DTSTART:20231029T010000
END:STANDARD
END:VTIMEZONE
BEGIN:VEVENT
DTSTART;VALUE=DATE:20221002
DTEND;VALUE=DATE:20221003
DTSTAMP:20260423T124549
CREATED:20220822T084110Z
LAST-MODIFIED:20220919T073043Z
UID:10001507-1664668800-1664755199@www.cyclisme.bzh
SUMMARY:Le Drennec - Le Coat - Souvenir Nicole Simier
DESCRIPTION:Régularité : Dép 12h30 – Durée selon l’âge – Engagements 2 € \nMinimes H et F : Dép 13h45 – Durée 20 min – Engagements 6.50 € \nCadets\, Cadettes\, Dames 17ans et +\, Juniors H : Dép 14h30 –\nCadets\, cadettes : durée 30 min \, prix coureurs : 61/5 1er 21 € – Engagements 6.50 €\nJuniors H : Durée 40 min \, prix coureurs 76/5 1er 27 €\nDames 17ans et + : Durée 40min\, prix coureurs 30/3 1ère 15 € \nEspoirs/Seniors H : Dép 15h30 – Durée 50 min – Prix coureurs : 320/15 1er 62 € – Engagements 8.50 € \nRenseignements : Laurence KERBIRIOU – kerbiriou.laurence@wanadoo.fr \n  \n  \n 
URL:https://www.cyclisme.bzh/epreuve-calendrier/le-drennec-le-coat-souvenir-nicole-simier-2/
LOCATION:LE DRENNEC
CATEGORIES:Ecole de cyclisme
ATTACH;FMTTYPE=image/jpeg:https://www.cyclisme.bzh/wp-content/uploads/2022/08/Affiche.jpg
ORGANIZER;CN="VS DRENNECOIS (4329116)":MAILTO:philippe.tel5929@orange.fr
END:VEVENT
BEGIN:VEVENT
DTSTART;VALUE=DATE:20221009
DTEND;VALUE=DATE:20221010
DTSTAMP:20260423T124549
CREATED:20220909T134135Z
LAST-MODIFIED:20220930T094435Z
UID:10001558-1665273600-1665359999@www.cyclisme.bzh
SUMMARY:Saint Donan - Coupe de Bretagne Camping-cars Jacqueline #1
DESCRIPTION:Saint Donan – Coupe de Bretagne Camping-cars Jacqueline #1 \nRégularité : Dép 11h00 – Durée selon l’âge – Engagements 2 € \nMinimes H/F : Dép 12h30 – Durée 20 minutes – Prix coureurs : 47/5 minimes H et 28/3 minimes F – Engagements 6.50 € \nCadets\, Cadettes : Dép 13h15 – Durée 30 minutes  – Prix coureurs : 107/10 Cadets H et 47/5 Cadettes – Engagements 6.50 € \nJuniors H\, Dames 17ans et + : Dép 14h30 – Durée 40 minutes  – Prix coureurs : 152/10  Juniors H et 91/5 Dames 17ans et + –  Engagements 8.50 € \nEspoirs/Seniors : Dép 15h30 – Durée 50 minutes – Prix coureurs : 610/20 – Engagements 8.50 € \nLa clôture des engagements est fixée au mardi (20heures)précédant la manche. \nRenseignements : Michel GOUEDARD – gouedard-monique@wanadoo.fr
URL:https://www.cyclisme.bzh/epreuve-calendrier/saint-donan-coupe-de-bretagne-camping-cars-jacqueline-1/
LOCATION:Saint Donan
CATEGORIES:Ecole de cyclisme
ATTACH;FMTTYPE=image/jpeg:https://www.cyclisme.bzh/wp-content/uploads/2022/09/Affiche-cyclo-cross-st-donan-1.jpg
ORGANIZER;CN="UC BRIOCHINE (4322028)":MAILTO:unioncyclistebriochine@gmail.com
END:VEVENT
BEGIN:VEVENT
DTSTART;VALUE=DATE:20221015
DTEND;VALUE=DATE:20221016
DTSTAMP:20260423T124549
CREATED:20220825T130448Z
LAST-MODIFIED:20220930T072903Z
UID:10001518-1665792000-1665878399@www.cyclisme.bzh
SUMMARY:Quimper Corniguel
DESCRIPTION:Régularité : Dép 13h – Durée selon l’âge – Sans Prix – Engagements 2 € \nMinimes G et F : Dép 14h10 – Durée 20′ – Engagements 6.50 € \nCadets\, Cadettes\,  Dames 17ans et + : Dép 15h10 – Durée 30 min pour les cadets/cadettes et 40′ pour  dames 17ans et +  – Prix coureurs : Gr 61/5 ps cadets h – Gr 30/3 ps cadettes – Gr 47/5 ps dames 17ans et + – Engagements : 6.50 € cadets/cadettes et 8.50 € dames 17ans et + \nJuniors/Espoirs/Seniors H : Dép 16h00 – Durée 50′ pur les espoirs seniors et 40 ‘ pour les juniors – Prix coureurs Gr 259/15 pour les espoirs/seniors et 76/5 pour les juniors  – Engagements 8.50 € \nRenseignements : Nadine CALVEZ – velosportquimperois@gmail.com – 06 79 33 54 88
URL:https://www.cyclisme.bzh/epreuve-calendrier/quimper-corniguel-2/
LOCATION:Quimper
CATEGORIES:Ecole de cyclisme
ATTACH;FMTTYPE=image/jpeg:https://www.cyclisme.bzh/wp-content/uploads/2022/08/wepik-creative-art-history-general-presentation-2022828-18457.jpeg
ORGANIZER;CN="VS QUIMPEROIS (4329032)":MAILTO:velosportquimper@gmail.com
END:VEVENT
BEGIN:VEVENT
DTSTART;VALUE=DATE:20221016
DTEND;VALUE=DATE:20221017
DTSTAMP:20260423T124549
CREATED:20220909T094557Z
LAST-MODIFIED:20221005T130111Z
UID:10001556-1665878400-1665964799@www.cyclisme.bzh
SUMMARY:Kerlouan Ménéham
DESCRIPTION:Minimes H/F : Dép 13h45 – Durée 20 minutes  – Engagements 6.50 € \nCadets\, Cadettes\, Juniors\, Dames 17ans et + : Dép 14h30 – Cadets/cadettes Durée 30 minutes – Prix coureurs : 183/10 1er 37 €  – Engagements 6.50 € – Juniors H et Dames 17ans et + Durée 40 minutes – Prix coureurs 228/10 1er 46 € – Engagements 8.50 € \nEspoirs/Seniors : Dép 15h30 – Durée 50 minutes – Prix coureurs 320/15 1er 62 € – Engagements 8.50 € \nRenseignements : Laurence KERBIRIOU – kerbiriou.laurence777@gmail.com
URL:https://www.cyclisme.bzh/epreuve-calendrier/kerlouan-meneham/
LOCATION:KERLOUAN
ATTACH;FMTTYPE=image/jpeg:https://www.cyclisme.bzh/wp-content/uploads/2022/09/A3-copie.jpg
ORGANIZER;CN="VS DRENNECOIS (4329116)":MAILTO:philippe.tel5929@orange.fr
END:VEVENT
BEGIN:VEVENT
DTSTART;VALUE=DATE:20221016
DTEND;VALUE=DATE:20221017
DTSTAMP:20260423T124549
CREATED:20220928T120437Z
LAST-MODIFIED:20221005T064210Z
UID:10001590-1665878400-1665964799@www.cyclisme.bzh
SUMMARY:Auray - 2ème Manche de la Coupe du Conseil Départemental du Morbihan
DESCRIPTION:Régularité cyclo-cross : \nDépart 13h – Distance selon l’âge \nEngagement 2€ \nMinimes H / F : \nDépart 13h45 – 20 minutes \nEngagement 6.50€ \nCadets / Cadettes : \nDépart 14h30 – 30 minutes \nPrix coureurs : 61 / 5 – 1er prix 21€ \nEngagement 6.50€ \nJuniors / Dames 17 + : \nDépart 14h30 – 40 minutes \nPrix juniors : 76 / 5 – 1er prix 27€ \nPrix dames : 30 / 3 – 1er prix 15€ \nEngagement 8.50€ \nEspoirs / Seniors : \nDépart 15h30 – 50 minutes \nEngagement 8.50€ \nPrix coureurs : 320 / 15 – 1er prix 62€ \nEngagements : \nOuverture le 28/09/2022 à 18h \nFermeture le 13/10/2022 à 20h
URL:https://www.cyclisme.bzh/epreuve-calendrier/auray-2eme-manche-de-la-coupe-du-conseil-departemental-du-morbihan/
LOCATION:AURAY
ATTACH;FMTTYPE=application/pdf:https://www.cyclisme.bzh/wp-content/uploads/2022/09/affiche-CC-10-2022.pdf
END:VEVENT
BEGIN:VEVENT
DTSTART;VALUE=DATE:20221022
DTEND;VALUE=DATE:20221023
DTSTAMP:20260423T124549
CREATED:20220831T140038Z
LAST-MODIFIED:20220831T140038Z
UID:10001538-1666396800-1666483199@www.cyclisme.bzh
SUMMARY:Châteauneuf du Faou
DESCRIPTION:Cadets/Cadettes/Dames 17ans et + : Dép 13h30 – Cadets/Cadettes : Durée 30′ – Prix coureurs 61/5 1er 21 € – Engagements 6.50 € – Dames 17ans et + : Durée 40′ – Prix coureurs : 30/3 1ère 15 € – Engagements 8.50 € \nJuniors/Espoirs/Seniors : Dép 15h00 – Juniors : Durée 40′ – prix coureurs : 47/5 1er 18 € – Espoirs/Seniors : Durée 50′ – Prix coureurs : 274/15 1er 53 € – Engagements 8.50 € \nRenseignements : Jean-pierre Giniaux – giniauxjeanpierre@gmail.com – 06 52164615
URL:https://www.cyclisme.bzh/epreuve-calendrier/chateauneuf-du-faou/
LOCATION:CHATEAUNEUF DU FAOU\, CHATEAUNEUF DU FAOU\, Bretagne\, France
ORGANIZER;CN="VC CHATEAULINOIS (4329221)":MAILTO:vcccontact@laposte.net
END:VEVENT
BEGIN:VEVENT
DTSTART;VALUE=DATE:20221023
DTEND;VALUE=DATE:20221024
DTSTAMP:20260423T124549
CREATED:20220909T131551Z
LAST-MODIFIED:20220909T135057Z
UID:10001557-1666483200-1666569599@www.cyclisme.bzh
SUMMARY:Riec sur Belon - Bois des Pins - Challenge de Cornouaille Sud
DESCRIPTION:Régularité : Dép 13h15 – Durée selon l’âge – Engagements 2 € \nMinimes H/F : Dép 14h30 – Durée 20 minutes – Engagements 6.50 € \nCadets H/F : Dép 15h30 – Durée 30 minutes – Engagements 6.50 € \nRenseignements : Vanessa RESET – 06 76 22 97 31 – vanessa.reset@orange.fr
URL:https://www.cyclisme.bzh/epreuve-calendrier/riec-sur-belon-bois-des-pins-challenge-de-cornouaille-sud-2/
LOCATION:RIEC SUR BELON\, RIEC SUR BELON\, Bretagne\, France
CATEGORIES:Ecole de cyclisme
ORGANIZER;CN="MOELAN CYCLO CLUB (4329162)":MAILTO:serge.piriou@wanadoo.fr
END:VEVENT
BEGIN:VEVENT
DTSTART;VALUE=DATE:20221029
DTEND;VALUE=DATE:20221030
DTSTAMP:20260423T124549
CREATED:20220922T073354Z
LAST-MODIFIED:20220922T073457Z
UID:10001584-1667001600-1667087999@www.cyclisme.bzh
SUMMARY:Quimperlé Kerbertrand
DESCRIPTION:Régularité : Dép 12h00– Durée selon l’âge – Sans Prix – Engagements 2 € \nMinimes H et F : Dép 13h30 – Durée 20′ – Sans Prix – Engagements 6.50 € \nCadets/Cadettes/Dames 17ans et +: Dép 14h15 – Durée 30′ pour les cadets\, cadettes  – Grille 61/5 1er 21 € ps cadets – Gr 30/3 1ère 15 ps cadettes – Engagements 6.50 € – Durée 40′ pour les dames 17ans et + – Grille 61/5 1ère 21 € – Engagements 8.50 € \nJuniors/Espoirs/Seniors : Dép 15h30 – Durée 50′ pour les espoirs/seniors – Grille 259/15 1er 50 € –  Durée 40′ pour les juniors H – Grille 61/5 1er 21 €  – Engagements 8.50 € \nClôture des engagements le 26/10 à 22h00 \nRenseignements : Gwenaël JEGOU – 06 60 26 78 39
URL:https://www.cyclisme.bzh/epreuve-calendrier/quimperle-kerbertrand-2/
LOCATION:QUIMPERLE KERBERTRAND
CATEGORIES:Ecole de cyclisme
ORGANIZER;CN="UC QUIMPERLOISE (4329346)":MAILTO:gwenael.jegou434@orange.fr
END:VEVENT
BEGIN:VEVENT
DTSTART;VALUE=DATE:20221030
DTEND;VALUE=DATE:20221031
DTSTAMP:20260423T124549
CREATED:20220922T082113Z
LAST-MODIFIED:20220922T082113Z
UID:10001585-1667088000-1667174399@www.cyclisme.bzh
SUMMARY:Questembert
DESCRIPTION:École de vélo H / F : \nDépart 12h45 – Distance selon l’âge \nEngagement 2€ \nMinimes H / F : \nDépart 13h40 – 20 minutes \nEngagement 6.50€ \nCadets H / F – Dames 17 + / Juniors H : \nDépart 14h30 – 40 minutes \nEngagement cadets : 6.50€ \nEngagement juniors / Dames 17 + : 8.50€ \nEspoirs / Seniors : \nDépart 15h40 – 50 minutes \nEngagement 8.50€ \nEngagements :  \nOuverture le 23/09/2022 à 18h \nFermeture le 27/10/2022 à 20h
URL:https://www.cyclisme.bzh/epreuve-calendrier/questembert/
LOCATION:QUESTEMBERT
ORGANIZER;CN="AC Questembert 56":MAILTO:test@test.com
END:VEVENT
BEGIN:VEVENT
DTSTART;VALUE=DATE:20221030
DTEND;VALUE=DATE:20221031
DTSTAMP:20260423T124549
CREATED:20221003T141234Z
LAST-MODIFIED:20221003T141413Z
UID:10001592-1667088000-1667174399@www.cyclisme.bzh
SUMMARY:Pleudihen
DESCRIPTION:Régularité : \nDépart 11h – Circuit 2.2 km – Distance selon l’âge \nEngagement 2€ \nMinimes H/F : \nDépart 12h30 – Durée 20 minutes \nEngagement 6.50€ \nCadets H/F : \nDépart 13h30 – Durée 30 minutes \nEngagement 6.50€ \nPrix coureurs : 47 / 3 – 1er prix 24€ \nPrix cadettes : 30 / 3 – 1er prix 15€ \nDames 17 + : \nDépart 14h15 – Durée 40 minutes \nEngagement 8.50€ \nPrix coureurs : 47 / 5 – 1er prix 24€ \nJuniors : \nDépart 14h15 – Durée 40 minutes \nEngagement 8.50€ \nPrix coureurs : 61 / 5 – 1er prix 21€ \nEspoirs / Seniors : \nDépart 15h30 – Durée 50 minutes \nEngagement 8.50€ \nPrix coureurs : 91 / 5 – 1er prix 17€ \nEngagements : \nOuverture le 04/10/2022 à 18h \nFermeture le 27/10/2022 à 20h
URL:https://www.cyclisme.bzh/epreuve-calendrier/pleudihen/
LOCATION:PLEUDIHEN\, PLEUDIHEN\, Bretagne\, France
ORGANIZER;CN="JS DOLOISE CYCLISME (4335050)":MAILTO:loic.pedron@orange.fr
END:VEVENT
BEGIN:VEVENT
DTSTART;VALUE=DATE:20221030
DTEND;VALUE=DATE:20221031
DTSTAMP:20260423T124549
CREATED:20221010T134236Z
LAST-MODIFIED:20221010T134336Z
UID:10001598-1667088000-1667174399@www.cyclisme.bzh
SUMMARY:Poullan sur Mer
DESCRIPTION:Régularité : Dép 12h45 – Durée selon l’âge – Engagements 2 € \nMinimes H/F : Dép 13h45 – Durée 20′ – prix coureurs : 107/10 1er 20 € – Engagements 6.50 € \nCadets/cadettes : Dép 14h15 – Durée 30′ – Prix coureurs : 138/10 1er 28€ – Engagements 6.50 € \nJuniors H/Dames 17ans et +/Espoirs/Seniors  : Dép 15h00 – Espoirs/Seniors H : Durée 50′ – Prix coureurs  274/15 1er 53 € – Juniors H et Dames 17ans et + : Durée 40′ – Prix coureurs : 183/10 1er 37 € – Engagements 8.50 € \nRenseignements : ccbigouden@gmail.com
URL:https://www.cyclisme.bzh/epreuve-calendrier/poullan-sur-mer/
LOCATION:POULLAN SUR MER
CATEGORIES:Ecole de cyclisme
ORGANIZER;CN="CC BIGOUDEN (4329088)":MAILTO:ccbigouden@gmail.com
END:VEVENT
END:VCALENDAR