BEGIN:VCALENDAR
VERSION:2.0
PRODID:-//Comité de Bretagne de Cyclisme - ECPv6.15.20//NONSGML v1.0//EN
CALSCALE:GREGORIAN
METHOD:PUBLISH
X-ORIGINAL-URL:https://www.cyclisme.bzh
X-WR-CALDESC:Évènements pour Comité de Bretagne de Cyclisme
REFRESH-INTERVAL;VALUE=DURATION:PT1H
X-Robots-Tag:noindex
X-PUBLISHED-TTL:PT1H
BEGIN:VTIMEZONE
TZID:Europe/Paris
BEGIN:DAYLIGHT
TZOFFSETFROM:+0100
TZOFFSETTO:+0200
TZNAME:CEST
DTSTART:20200329T010000
END:DAYLIGHT
BEGIN:STANDARD
TZOFFSETFROM:+0200
TZOFFSETTO:+0100
TZNAME:CET
DTSTART:20201025T010000
END:STANDARD
BEGIN:DAYLIGHT
TZOFFSETFROM:+0100
TZOFFSETTO:+0200
TZNAME:CEST
DTSTART:20210328T010000
END:DAYLIGHT
BEGIN:STANDARD
TZOFFSETFROM:+0200
TZOFFSETTO:+0100
TZNAME:CET
DTSTART:20211031T010000
END:STANDARD
BEGIN:DAYLIGHT
TZOFFSETFROM:+0100
TZOFFSETTO:+0200
TZNAME:CEST
DTSTART:20220327T010000
END:DAYLIGHT
BEGIN:STANDARD
TZOFFSETFROM:+0200
TZOFFSETTO:+0100
TZNAME:CET
DTSTART:20221030T010000
END:STANDARD
END:VTIMEZONE
BEGIN:VEVENT
DTSTART;VALUE=DATE:20211010
DTEND;VALUE=DATE:20211011
DTSTAMP:20260425T184431
CREATED:20210914T123858Z
LAST-MODIFIED:20211006T082340Z
UID:10000964-1633824000-1633910399@www.cyclisme.bzh
SUMMARY:Chateaugiron /Domloup 1ère manche du Trophée Régional "camping cars Jacqueline"
DESCRIPTION:épreuve régularité : \ndépart : 11h30 – durée selon l’âge \népreuve minimes G/F : \ndépart : 12h30 – durée : 20 mn – pc minimes G: 47/5 – pc minimes F: 28/3 \népreuve cadets/cadettes : \ndépart : 13h15 – durée : 30 mn – pc cadets :107/10 –  pc cadettes : 47/5 \népreuve juniors H : \ndépart : 14h15 – durée : 40 mn – pc : 152/10 \népreuve dames 17 ans et plus : \ndépart décalé  – durée 40 mn – pc : 91/5 \népreuve seniors/espoirs : \ndépart : 15h30 – durée : 50 mn – pc séniors : 518/20 – pc espoirs : 152/10 \nclôture des engagements le mardi 05/10/2021 à 20h00 \nPDJ : Régis BOSQUET \nContact : Jean-Claude Madiot jeanclaude.madiot1@orange.fr 
URL:https://www.cyclisme.bzh/epreuve-calendrier/chateaugiron-domloup-1ere-manche-du-trophee-regional-camping-cars-jacqueline/
LOCATION:CHÂTEAUGIRON\, France
CATEGORIES:Ecole de cyclisme
END:VEVENT
BEGIN:VEVENT
DTSTART;VALUE=DATE:20211016
DTEND;VALUE=DATE:20211017
DTSTAMP:20260425T184431
CREATED:20210913T140623Z
LAST-MODIFIED:20210914T140522Z
UID:10000960-1634342400-1634428799@www.cyclisme.bzh
SUMMARY:Quimper Corniguel
DESCRIPTION:Régularité : Dép 13h – Durée selon l’âge – Sans Prix – Engagements 2 € \nMinimes G et F : Dép 14h10 – Durée 20′ – Gr 107/10  – Engagements 6.50 € \nCadets\, Cadettes\, Juniors H et Dames 17ans et + : Dép 15h10 – Durée 30 min pour les cadets/cadettes et 40′ pour les juniors et dames 17ans et +  – Gr 47/5 ps cadets/cadettes – Gr 61/5 ps juniors – Gr 30/3 ps dames 17ans et + – Engagements : 6.50 € cadets/cadettes et 8.50 € pour les juniors et dames 17ans et + \nEspoirs/Seniors : Dép 16h00 – Durée 50′ – Gr 183/10  – Engagements 8.50 € \n 
URL:https://www.cyclisme.bzh/epreuve-calendrier/quimper-corniguel/
LOCATION:Quimper
CATEGORIES:Ecole de cyclisme
END:VEVENT
BEGIN:VEVENT
DTSTART;VALUE=DATE:20211016
DTEND;VALUE=DATE:20211017
DTSTAMP:20260425T184431
CREATED:20211001T113650Z
LAST-MODIFIED:20211001T113650Z
UID:10000995-1634342400-1634428799@www.cyclisme.bzh
SUMMARY:Plestin Les Grèves - Site de l'Armorique
DESCRIPTION:Régularité : Poussins Dép 13h30  – Durée 5/7 minutes – Pupilles : Dép 13h45 – Durée 10/12 minutes – Benjamins : Dép 14h15 – Durée 15 minutes – Engagements 2 € \nMinimes G et F :  Dép 14h45 – Durée 20 minutes – Sans Prix – Engagements 6.50 € \nCadets G et F :  Dép 15h30 – Durée 30 minutes – Sans Prix – Engagements 6.50 € \nRenseignements Emile PRIGENT  06 82 44 08 85
URL:https://www.cyclisme.bzh/epreuve-calendrier/plestin-les-greves-site-de-larmorique/
LOCATION:PLESTIN LES GRÈVES\, PLESTIN LES GRÈVES\, Bretagne\, France
ORGANIZER;CN="EC Plestin":MAILTO:emileprigent@orange.fr
END:VEVENT
BEGIN:VEVENT
DTSTART;VALUE=DATE:20211017
DTEND;VALUE=DATE:20211018
DTSTAMP:20260425T184431
CREATED:20210924T134337Z
LAST-MODIFIED:20211006T073717Z
UID:10000984-1634428800-1634515199@www.cyclisme.bzh
SUMMARY:Auray - Coupe 56 - Challenge Century 21 Guillerme Immo.
DESCRIPTION:Régularité : Dép 13h – Durée selon l’âge – SP – Engagements 2 € \nMinimes H et F : Dép 13h45 – Durée 20′ – SP – Engagements 6.50 € \nCadets\, Cadettes\, Juniors H\, Dames 17ans et + : Dép 14h30 – Cadets/Cadettes : Durée 30′ – Gr 61/5 1er 21 € – Engagements : 6.50 € – Juniors H : Durée 40 ‘ Gr 76/5 – Dames 17ans et + : Durée 40’ – Gr 30/3. – Engagements 8.50 € \nEspoirs/Seniors : Dép 15h30 – Durée 50′ – Gr 320/15 1er 62 € – Engagements 8.50 € \nContact : Jean Pierre Le Falher 06 79 46 58 58 – contact@uc-auray.com \nLire en plein écranAller au contenu PDF
URL:https://www.cyclisme.bzh/epreuve-calendrier/auray-coupe-56-challenge-century-21-guillerme-immo/
LOCATION:AURAY
CATEGORIES:Ecole de cyclisme
ATTACH;FMTTYPE=image/jpeg:https://www.cyclisme.bzh/wp-content/uploads/2021/09/affiche-CC-10-2021.jpg
END:VEVENT
BEGIN:VEVENT
DTSTART;VALUE=DATE:20211030
DTEND;VALUE=DATE:20211031
DTSTAMP:20260425T184431
CREATED:20211007T124635Z
LAST-MODIFIED:20211025T121802Z
UID:10001000-1635552000-1635638399@www.cyclisme.bzh
SUMMARY:Quimperlé Kerbertrand
DESCRIPTION:Régularité : Dép 11h30 – Durée selon l’âge – Sans Prix – Engagements 2 € \nMinimes H et F : Dép 12h30 – Durée 20′ – Sans Prix – Engagements 6.50 € \nCadets/Cadettes : Dép 13h30 – Durée 30′ – Gr 47/5 – Gr 30/3 ps cadettes – Engagements 6.50 € \nJuniors H/Dames17anset+ : Dép 14h30 – Durée 40′ – Gr 61/5 juniors 1er 21 € – Gr 61/5 ps dames 17ans et + – Engagements 8.50 € \nEspoirs/Seniors : Dép 15h30 – Durée 50′ – Gr 259/15 1er 50 € – Engagements 8.50 € \nEdit du 25/10\, merci aux coureurs Pass Cyclisme H  de se réengager sur l’épreuve Espoirs/Seniors \n  \n  \n 
URL:https://www.cyclisme.bzh/epreuve-calendrier/quimperle-kerbertrand/
LOCATION:QUIMPERLE\, QUIMPERLE\, Bretagne\, France
CATEGORIES:Ecole de cyclisme
ORGANIZER;CN="UC Quimperloise":MAILTO:gwenael.jegou434@orange.fr
END:VEVENT
BEGIN:VEVENT
DTSTART;VALUE=DATE:20211030
DTEND;VALUE=DATE:20211031
DTSTAMP:20260425T184431
CREATED:20211012T144544Z
LAST-MODIFIED:20211012T150226Z
UID:10001008-1635552000-1635638399@www.cyclisme.bzh
SUMMARY:Trémel - Prix du comité des fêtes
DESCRIPTION:Régularité : \nPoussins : départ 13h30 – Durée 5/7 minutes – Sans prix – Engagements 2 €\nPupilles : départ 13h45 – Durée 10/12 minutes – Sans prix – Engagements 2 €\nBenjamins : départ 14h15 – Durée 15 minutes – Sans prix – Engagements 2 € \nMinimes G et F : Départ 14h45 – Durée 20′ – Sans prix – Engagements 6.50 € \nCadets/Cadettes : Départ 15h30 – Durée 30′ – Sans prix – Engagements 6.50 € \n  \n 
URL:https://www.cyclisme.bzh/epreuve-calendrier/tremel-prix-du-comite-des-fetes/
LOCATION:TREMEL\, TREMEL\, Bretagne\, France
ORGANIZER;CN="EC Plestin":MAILTO:emileprigent@orange.fr
END:VEVENT
END:VCALENDAR