BEGIN:VCALENDAR
VERSION:2.0
PRODID:-//Comité de Bretagne de Cyclisme - ECPv6.15.20//NONSGML v1.0//EN
CALSCALE:GREGORIAN
METHOD:PUBLISH
X-WR-CALNAME:Comité de Bretagne de Cyclisme
X-ORIGINAL-URL:https://www.cyclisme.bzh
X-WR-CALDESC:Évènements pour Comité de Bretagne de Cyclisme
REFRESH-INTERVAL;VALUE=DURATION:PT1H
X-Robots-Tag:noindex
X-PUBLISHED-TTL:PT1H
BEGIN:VTIMEZONE
TZID:Europe/Paris
BEGIN:DAYLIGHT
TZOFFSETFROM:+0100
TZOFFSETTO:+0200
TZNAME:CEST
DTSTART:20230326T010000
END:DAYLIGHT
BEGIN:STANDARD
TZOFFSETFROM:+0200
TZOFFSETTO:+0100
TZNAME:CET
DTSTART:20231029T010000
END:STANDARD
BEGIN:DAYLIGHT
TZOFFSETFROM:+0100
TZOFFSETTO:+0200
TZNAME:CEST
DTSTART:20240331T010000
END:DAYLIGHT
BEGIN:STANDARD
TZOFFSETFROM:+0200
TZOFFSETTO:+0100
TZNAME:CET
DTSTART:20241027T010000
END:STANDARD
BEGIN:DAYLIGHT
TZOFFSETFROM:+0100
TZOFFSETTO:+0200
TZNAME:CEST
DTSTART:20250330T010000
END:DAYLIGHT
BEGIN:STANDARD
TZOFFSETFROM:+0200
TZOFFSETTO:+0100
TZNAME:CET
DTSTART:20251026T010000
END:STANDARD
END:VTIMEZONE
BEGIN:VEVENT
DTSTART;VALUE=DATE:20240519
DTEND;VALUE=DATE:20240520
DTSTAMP:20260421T010952
CREATED:20240314T132549Z
LAST-MODIFIED:20240515T135126Z
UID:10002324-1716076800-1716163199@www.cyclisme.bzh
SUMMARY:Guipavas - Coupe de Bretagne de BMX #5
DESCRIPTION:Ouverture des engagements: le 14/03/2024 à 18h\, clôture le jeudi 16/05/2024 à 20h \nRenseignements: \n\nRIOUAL Alain – e-mail: alainrioual@guipavasbmx.fr / Port: 06.32.29.33.08\nPour les engagements: CABON Céline – e-mail: secretariat@guipavasbmx.fr / Port: 06.10.55.34.29\n\n  \nLire en plein écranAller au contenu PDF\n 
URL:https://www.cyclisme.bzh/epreuve-calendrier/guipavas-coupe-de-bretagne-de-bmx-5/
LOCATION:GUIPAVAS
CATEGORIES:Access,Elite,Open,U11,U13,U15,U17,U7,U9
ATTACH;FMTTYPE=image/jpeg:https://www.cyclisme.bzh/wp-content/uploads/2024/03/affiche-1.jpg
ORGANIZER;CN="GUIPAVAS BMX (4329013)":MAILTO:alainrioual@guipavasbmx.fr
END:VEVENT
BEGIN:VEVENT
DTSTART;VALUE=DATE:20240519
DTEND;VALUE=DATE:20240520
DTSTAMP:20260421T010952
CREATED:20240320T104032Z
LAST-MODIFIED:20240514T092052Z
UID:10002345-1716076800-1716163199@www.cyclisme.bzh
SUMMARY:Roz sur Couesnon - Trophée Régional des écoles de cyclisme
DESCRIPTION:U7 H/F à U13 H/F: \n\nde 8h à 18h\ndistance selon l’âge\nEngagements: 2€\n\n  \nOuverture des engagements: le 20/03/2024 à 18h\, clôture le lundi 13/05/2024 à 20h \nRenseignements: PEDRON Loïc – e-mail: loic.pedron@orange.fr / Port: 06.78.49.16.45
URL:https://www.cyclisme.bzh/epreuve-calendrier/roz-sur-couesnon-trophee-regional-des-ecoles-de-cyclisme/
LOCATION:Roz sur Couesnon\, France
CATEGORIES:U11,U13,U7,U9
ATTACH;FMTTYPE=application/pdf:https://www.cyclisme.bzh/wp-content/uploads/2024/03/Comite-de-Bretagne_20240320_113655.pdf
ORGANIZER;CN="JS DOLOISE CYCLISME (4335050)":MAILTO:loic.pedron@orange.fr
END:VEVENT
END:VCALENDAR