BEGIN:VCALENDAR
VERSION:2.0
PRODID:-//Comité de Bretagne de Cyclisme - ECPv6.15.20//NONSGML v1.0//EN
CALSCALE:GREGORIAN
METHOD:PUBLISH
X-ORIGINAL-URL:https://www.cyclisme.bzh
X-WR-CALDESC:Évènements pour Comité de Bretagne de Cyclisme
REFRESH-INTERVAL;VALUE=DURATION:PT1H
X-Robots-Tag:noindex
X-PUBLISHED-TTL:PT1H
BEGIN:VTIMEZONE
TZID:Europe/Paris
BEGIN:DAYLIGHT
TZOFFSETFROM:+0100
TZOFFSETTO:+0200
TZNAME:CEST
DTSTART:20250330T010000
END:DAYLIGHT
BEGIN:STANDARD
TZOFFSETFROM:+0200
TZOFFSETTO:+0100
TZNAME:CET
DTSTART:20251026T010000
END:STANDARD
BEGIN:DAYLIGHT
TZOFFSETFROM:+0100
TZOFFSETTO:+0200
TZNAME:CEST
DTSTART:20260329T010000
END:DAYLIGHT
BEGIN:STANDARD
TZOFFSETFROM:+0200
TZOFFSETTO:+0100
TZNAME:CET
DTSTART:20261025T010000
END:STANDARD
BEGIN:DAYLIGHT
TZOFFSETFROM:+0100
TZOFFSETTO:+0200
TZNAME:CEST
DTSTART:20270328T010000
END:DAYLIGHT
BEGIN:STANDARD
TZOFFSETFROM:+0200
TZOFFSETTO:+0100
TZNAME:CET
DTSTART:20271031T010000
END:STANDARD
END:VTIMEZONE
BEGIN:VEVENT
DTSTART;VALUE=DATE:20260525
DTEND;VALUE=DATE:20260526
DTSTAMP:20260423T225004
CREATED:20260403T122758Z
LAST-MODIFIED:20260403T122758Z
UID:10003472-1779667200-1779753599@www.cyclisme.bzh
SUMMARY:Saint Evarzec - courses d'attente de l'Essor Breton - Souvenir Patrick Gourtay
DESCRIPTION:Régularité route – U7 H/F à U13 H/F: \n\ndépart: 10h00\ndistance selon l’âge\nEngagements: 3€\n\n  \nU15 H/F + U17 F: \n\ndépart: 11h30\ndistance à venir…\nPrix coureurs: 107/10\, 1er 20€\nPrix spéciaux Féminines: 53/5\, 1ère 21€\nEngagements: 7€\n\n  \nOuverture des engagements: le 03/04/2026 à 18h\, clôture le vendredi 22/05/2026 à 20h \nRenseignements: CALVEZ Nadine – velosportquimper@gmail.com / 06.52.95.01.13
URL:https://www.cyclisme.bzh/epreuve-calendrier/saint-evarzec-courses-dattente-de-lessor-breton-souvenir-patrick-gourtay/
LOCATION:SAINT EVARZEC\, SAINT EVARZEC\, Bretagne\, France
CATEGORIES:U11,U13,U15,U17 F,U7,U9
ORGANIZER;CN="VS QUIMPEROIS (4329032)":MAILTO:velosportquimper@gmail.com
END:VEVENT
BEGIN:VEVENT
DTSTART;VALUE=DATE:20260531
DTEND;VALUE=DATE:20260601
DTSTAMP:20260423T225004
CREATED:20260324T130800Z
LAST-MODIFIED:20260324T130800Z
UID:10003446-1780185600-1780271999@www.cyclisme.bzh
SUMMARY:Calorguen - Trophée Bernard Hinault
DESCRIPTION:Régularité route – U7 H/F à U13 H/F: \n\ndépart: 11h00\ndistance selon l’âge\nEngagements: 3€\n\n  \nU15 H/F + U17 F: \n\ndépart: 13h00\n9 tours x 3 km = 27 km\nPrix coureurs: 107/10\, 1er 20€\nEngagements: 7€ sur le web – 9€ sur la ligne\n\n  \nU17 H/F: \n\ndépart: 14h00\n15 tours x 3 km = 45 km\nPrix coureurs: 138/10\, 1er 28€\nEngagements: 7€ sur le web – 9€ sur la ligne\n\n  \nOpen 3 + Access 1-2 H/F: \n\ndépart: 15h30\n24 tours x 3 km = 72 km\nPrix coureurs: 168/10\, 1er 34€\nEngagements: 9€ sur le web – 12€ sur la ligne\n\n  \nOuverture des engagements: le 24/03/2026 à 18h\, clôture le jeudi 28/05/2026 à 20h \nRenseignements: DUBOSCQ Marie Claude – e-mail: mduboscq220@gmail.com / Port: 06.76.97.26.46 \n 
URL:https://www.cyclisme.bzh/epreuve-calendrier/calorguen-trophee-bernard-hinault-3/
LOCATION:CALORGUEN\, CALORGUEN\, Bretagne\, France
CATEGORIES:Access 1,Access 2,Open 3,U11,U13,U15,U17,U7,U9
ORGANIZER;CN="VC DINANNAIS (4322030)":MAILTO:mduboscq220@gmail.com
END:VEVENT
BEGIN:VEVENT
DTSTART;VALUE=DATE:20260531
DTEND;VALUE=DATE:20260601
DTSTAMP:20260423T225004
CREATED:20260416T103218Z
LAST-MODIFIED:20260416T103218Z
UID:10003500-1780185600-1780271999@www.cyclisme.bzh
SUMMARY:Iffendic – Les 4 Routes d’Iffendic – La 4 Routes Tro’fée et sa course d’attente
DESCRIPTION:Régularité route – U7 H/F à U13 H/F: \n\ndépart: 15H15\ndistance selon l’âge\nEngagements: 3€\n\n  \nOpen 2-3 + Access 1-2 H/F – La 4 Routes Tro’fée \n\nCLM le matin: \n\n– 1er départ: 8h40 \n– circuit de 6 km \n\n2ème étape en ligne + circuit final l’après-midi:\n\n– départ: 15h00 \n– 75\,1 km en ligne + 5 tours x 6.2 km = 106.1 km \n\nClassement général: 459/20\, 1er 91€\nPrix spéciaux U19: 107/5\, 1er 35€\nEngagements: 15€ sur le web\n\n  \nOuverture des engagements: le 16/04/2026 \n\nclôture le mercredi 27/05/2026 à 20h \n\nRenseignements: MONTREUIL Vincent – e-mail: asso.quatreroutesiffendic@gmail.com / Port: 06.87.24.20.06 \nPossibilité de repas le dimanche midi à 15€ – Réservation avant le 26/05/2025 par mail à asso.quatreroutesiffendic@gmail.com
URL:https://www.cyclisme.bzh/epreuve-calendrier/iffendic-les-4-routes-diffendic-la-4-routes-trofee-et-sa-course-dattente-3/
LOCATION:IFFENDIC\, France
CATEGORIES:Access 1,Access 2,Open 2,Open 3,U11,U13,U7,U9
ATTACH;FMTTYPE=image/jpeg:https://www.cyclisme.bzh/wp-content/uploads/2026/04/AFFICHE-4-ROUTES-TRO-FEE-2026-1_page-0001.jpg
ORGANIZER;CN="VC PLELANAIS (4335037)":MAILTO:gmenage@laposte.net vcplelan@outlook.fr
END:VEVENT
BEGIN:VEVENT
DTSTART;VALUE=DATE:20260531
DTEND;VALUE=DATE:20260601
DTSTAMP:20260423T225004
CREATED:20260416T115603Z
LAST-MODIFIED:20260416T115823Z
UID:10003501-1780185600-1780271999@www.cyclisme.bzh
SUMMARY:Locminé - Course d'attente Régularité du Trophée Centre Morbihan
DESCRIPTION:Régularité Route – U7 H/F à U13 H/F: \n\nDépart: U13 – 13h00 – 2.5 km x 5 tours (12.5km)\nDépart: U7 14h15 – 1.7 km x 1 tours (1.7 km)\nDépart: U9 14h35 – 1.7 km x 2 tours (3.4 km)\nDépart: U11 14h50 – 1.7 km x 5 tours (8.5 km)\n\nEngagements: 3€\n\n  \n  \n  \nOuverture des engagements: le 16/04/2026\, clôture le jeudi 28/05/2026 à 20h \nRenseignements : FRANCOISE BONNO tropheecentremorbihan@orange.fr ou ecoledecyclismeocl@gmail.com \n 
URL:https://www.cyclisme.bzh/epreuve-calendrier/59161/
LOCATION:Locminé
CATEGORIES:U11,U13,U7,U9
ORGANIZER;CN="OC Locmin%C3%A9":MAILTO:jlebellego56@gmail.com
END:VEVENT
BEGIN:VEVENT
DTSTART;VALUE=DATE:20260606
DTEND;VALUE=DATE:20260607
DTSTAMP:20260423T225004
CREATED:20260422T122450Z
LAST-MODIFIED:20260422T122450Z
UID:10003520-1780704000-1780790399@www.cyclisme.bzh
SUMMARY:Guipavas - Championnat du Finistère de BMX
DESCRIPTION:Ouverture des engagements: le 21/04/2026 à 18h\, clôture le mercredi 03/06/2026 à 20h \nRenseignements: \n\nRIOUAL Alain – alainrioual@guipavasbmx.fr / Port: 06.32.29.33.08\n\n  \nLire en plein écranAller au contenu PDF\n  \n 
URL:https://www.cyclisme.bzh/epreuve-calendrier/guipavas-championnat-du-finistere-de-bmx/
LOCATION:GUIPAVAS
CATEGORIES:Access,Elite,Open,U11,U13,U15,U17,U7,U9
ATTACH;FMTTYPE=application/pdf:https://www.cyclisme.bzh/wp-content/uploads/2026/04/affiche-2026.pdf
ORGANIZER;CN="GUIPAVAS BMX (4329013)":MAILTO:alainrioual@guipavasbmx.fr
END:VEVENT
BEGIN:VEVENT
DTSTART;VALUE=DATE:20260607
DTEND;VALUE=DATE:20260608
DTSTAMP:20260423T225004
CREATED:20260422T122958Z
LAST-MODIFIED:20260422T122958Z
UID:10003521-1780790400-1780876799@www.cyclisme.bzh
SUMMARY:Guipavas - Coupe de Bretagne de BMX #4
DESCRIPTION:Ouverture des engagements: le 21/04/2026 à 18h\, clôture le mercredi 03/06/2026 à 20h \nRenseignements: \n\nRIOUAL Alain – alainrioual@guipavasbmx.fr / Port: 06.32.29.33.08\n\n  \nLire en plein écranAller au contenu PDF
URL:https://www.cyclisme.bzh/epreuve-calendrier/guipavas-coupe-de-bretagne-de-bmx-4/
LOCATION:GUIPAVAS
CATEGORIES:Access,Elite,Open,U11,U13,U15,U17,U7,U9
ATTACH;FMTTYPE=application/pdf:https://www.cyclisme.bzh/wp-content/uploads/2026/04/affiche-2026-1.pdf
ORGANIZER;CN="GUIPAVAS BMX (4329013)":MAILTO:alainrioual@guipavasbmx.fr
END:VEVENT
BEGIN:VEVENT
DTSTART;VALUE=DATE:20260613
DTEND;VALUE=DATE:20260614
DTSTAMP:20260423T225004
CREATED:20260423T134733Z
LAST-MODIFIED:20260423T134733Z
UID:10003533-1781308800-1781395199@www.cyclisme.bzh
SUMMARY:Malestroit - Grand Prix de la Ville - Challenge du Tour de la Petite Mer
DESCRIPTION:Régularité route – U7 H/F à U13 H/F: \n\ndépart: 13h30\ndistance selon l’âge\nEngagements: 3€\n\n  \nU15 H/F + U17 F: \n\ndépart: 14h45\n6 tours x 4.9 km = 29.4 km\nEngagements: 6.50€ sur le web – 8.50€ sur la ligne\n\n  \nAccess 1-2-3-4 H/F:  \n\n2 départs:\n\n– Access 1-2: 16h00 – 12 tours x 4.9 km = 58.8 km \n– Access 3-4: 16h01 – 10 tours x 4.9 km = 49 km \n\nEngagements: 9€ sur le web – 10€ sur la ligne\n\n  \nOpen 2-3 H/F: \n\ndépart: 18h00\n16 tours x 4.9 km = 78.4 km\nPrix coureurs: 259/15\, 1er 50€\nEngagements: 9€ sur le web – 10€ sur la ligne\n\n  \nOuverture des engagements: le 23/06/2026 à 18h\, clôture le mercredi 10/06/2026 à 20h \nRenseignements: BIHOUEE Jérôme – e-mail: jerome.bihouee@libertysurf.fr / Port: 06.09.20.17.85 \n 
URL:https://www.cyclisme.bzh/epreuve-calendrier/malestroit-grand-prix-de-la-ville-challenge-du-tour-de-la-petite-mer/
LOCATION:MALESTROIT\, MALESTROIT\, Bretagne\, France
CATEGORIES:Access 1,Access 2,Access 3,Access 4,Open 2,Open 3,U11,U13,U15,U17 F,U7,U9
ORGANIZER;CN="SC MALESTROIT (4356006)":MAILTO:contact@sc-malestroit.com
END:VEVENT
BEGIN:VEVENT
DTSTART;VALUE=DATE:20260614
DTEND;VALUE=DATE:20260615
DTSTAMP:20260423T225004
CREATED:20260401T141419Z
LAST-MODIFIED:20260422T124756Z
UID:10003466-1781395200-1781481599@www.cyclisme.bzh
SUMMARY:Rostrenen - Coupe de Bretagne de BMX #5
DESCRIPTION:Ouverture des engagements: le 01/04/2026 à 18h\, clôture le jeudi 11/06/2026 à 20h \nRenseignements: MAUTALENT David – e-mail: mautalent.david@orange.fr / Port: 06.80.36.75.09 \n  \nLire en plein écranAller au contenu PDF
URL:https://www.cyclisme.bzh/epreuve-calendrier/rostrenen-coupe-de-bretagne-de-bmx-5/
LOCATION:ROSTRENEN\, ROSTRENEN\, Bretagne\, France
CATEGORIES:Access,Elite,Open,U11,U13,U15,U17,U7,U9
ATTACH;FMTTYPE=image/jpeg:https://www.cyclisme.bzh/wp-content/uploads/2026/04/utf-8_Q_5eCC80me_man.jpg
END:VEVENT
BEGIN:VEVENT
DTSTART;VALUE=DATE:20260620
DTEND;VALUE=DATE:20260621
DTSTAMP:20260423T225004
CREATED:20260417T124701Z
LAST-MODIFIED:20260417T132714Z
UID:10003505-1781913600-1781999999@www.cyclisme.bzh
SUMMARY:Monterfil - Régularité et Access 1-2-3-4 H/F
DESCRIPTION:Régularité de U7 à U13 H/F: \n\ndépart: 16H30\nDistance selon l’âge (circuit de 1.8 km)\nEngagements: 3€ sur le web – 3€ sur la ligne\n\n  \nAccess 1-2-3-4 H/F: \n\n2 départs:\n\n– Access 1-2: 18h00 – 13 tours x 5.6 km = 72.8 km \n– Access 3-4: 18h01 – 11 tours x 5.6 km = 61.6 km \n\nEngagements: 10€ sur le web – 15€ sur la ligne\n\n  \nOuverture des engagements: le 17/04/2026\, clôture le mercredi 17/06/2026 à 20h \nRenseignements: RENAULT Anthony – a.renault44@gmail.com – 0783043297
URL:https://www.cyclisme.bzh/epreuve-calendrier/monterfil-regularite-et-access-1-2-3-4-h-f/
LOCATION:MONTERFIL\, 35160\, France
CATEGORIES:Access,U11,U13,U7,U9
ORGANIZER;CN="VC PLELANAIS (4335037)":MAILTO:gmenage@laposte.net vcplelan@outlook.fr
END:VEVENT
BEGIN:VEVENT
DTSTART;VALUE=DATE:20260627
DTEND;VALUE=DATE:20260628
DTSTAMP:20260423T225004
CREATED:20260423T125752Z
LAST-MODIFIED:20260423T125752Z
UID:10003531-1782518400-1782604799@www.cyclisme.bzh
SUMMARY:Loyat
DESCRIPTION:Régularité route – U7 H/F à U13 H/F: \n\ndépart: 11h30\ndistance selon l’âge\nEngagements: 3€\n\n  \nU15 H/F + U17 F: \n\ndépart: 14h00\n5 tours x 6.8 km = 34 km\nPrix coureurs: 107/10\, 1er 20€\nEngagements: 6.50€ sur le web – 8.50€ sur la ligne\n\n  \nU17 H/F: \n\ndépart: 15h30\n9 tours x 6.8 km = 61.2 km\nPrix coureurs: 138/10\, 1er 28€\nEngagements: 6.50€ sur le web – 8.50€ sur la ligne\n\n  \nAccess 1-2-3-4 H/F: \n\n2 départs:\n\n– Access 1-2: 17h30 \n– Access 3-4: 17h33 \n\n11 tours x 6.8 km = 74.8 km\nEngagements: 9€\n\n  \nOuverture des engagements: à venir… \nclôture le jeudi 25/06/2026 à 20h \nRenseignements: HAVART Jean Pierre – jeanpierrehavart@orange.fr / 06.84.12.35.33
URL:https://www.cyclisme.bzh/epreuve-calendrier/loyat/
LOCATION:LOYAT\, 56800\, France
CATEGORIES:Access 1,Access 2,Access 3,Access 4,U11,U13,U15,U17,U7,U9
ORGANIZER;CN="TEAM IMMO GOLFE (4356456)":MAILTO:team.immogolfe@orange.fr
END:VEVENT
BEGIN:VEVENT
DTSTART;VALUE=DATE:20260906
DTEND;VALUE=DATE:20260907
DTSTAMP:20260423T225004
CREATED:20260423T141455Z
LAST-MODIFIED:20260423T141753Z
UID:10003534-1788652800-1788739199@www.cyclisme.bzh
SUMMARY:Le Ménec - Trévé Loudéac
DESCRIPTION:Tous les compétiteurs U7 à U13 et leurs parents auront la possibilité de manger à la Chapelle du Ménec où seront servis plus de 200 repas. \n  \nRégularité route – U7 H/F à U13 H/F: \n\ndépart: 12h30\ndistance selon l’âge\nEngagements: 3€\n\n  \nU15 H/ F + U17 F: \n\ndépart: 14h00\n10 tours x 3.4 km = 34 km\nPrix coureurs; 107/10\, 1er 20€\nEngagements: 6.50€ sur le web – 8.50€ sur la ligne\n\n  \nOpen 3 + Access 1-2-3-4 H/F: \n\ndépart: 15h30\n25 tours x 3.4 km = 85 km\nPrix coureurs: 305/15\, 1er 61€\nPrix spéciaux U19: 28/3\, 1er 15€\nEngagements: 9€ sur le web – 12€ sur la ligne\n\n  \nOuverture des engagements: le 23/04/2026 à 18h\, clôture le jeudi 03/09/2026 à 20h \nRenseignements: CONNAN Christian – e-mail: christian.connan2@wanadoo.fr / Port: 06.30.29.64.83
URL:https://www.cyclisme.bzh/epreuve-calendrier/le-menec-treve-loudeac-5/
LOCATION:Le Menec Trévé
CATEGORIES:Access 1,Access 2,Access 3,Access 4,Open 3,U11,U13,U15,U7,U9
ORGANIZER;CN="VC LOUDEAC 38 (4322004)":MAILTO:rene.fercoq@neuf.fr
END:VEVENT
END:VCALENDAR