BEGIN:VCALENDAR
VERSION:2.0
PRODID:-//Comité de Bretagne de Cyclisme - ECPv6.15.20//NONSGML v1.0//EN
CALSCALE:GREGORIAN
METHOD:PUBLISH
X-WR-CALNAME:Comité de Bretagne de Cyclisme
X-ORIGINAL-URL:https://www.cyclisme.bzh
X-WR-CALDESC:Évènements pour Comité de Bretagne de Cyclisme
REFRESH-INTERVAL;VALUE=DURATION:PT1H
X-Robots-Tag:noindex
X-PUBLISHED-TTL:PT1H
BEGIN:VTIMEZONE
TZID:Europe/Paris
BEGIN:DAYLIGHT
TZOFFSETFROM:+0100
TZOFFSETTO:+0200
TZNAME:CEST
DTSTART:20240331T010000
END:DAYLIGHT
BEGIN:STANDARD
TZOFFSETFROM:+0200
TZOFFSETTO:+0100
TZNAME:CET
DTSTART:20241027T010000
END:STANDARD
BEGIN:DAYLIGHT
TZOFFSETFROM:+0100
TZOFFSETTO:+0200
TZNAME:CEST
DTSTART:20250330T010000
END:DAYLIGHT
BEGIN:STANDARD
TZOFFSETFROM:+0200
TZOFFSETTO:+0100
TZNAME:CET
DTSTART:20251026T010000
END:STANDARD
BEGIN:DAYLIGHT
TZOFFSETFROM:+0100
TZOFFSETTO:+0200
TZNAME:CEST
DTSTART:20260329T010000
END:DAYLIGHT
BEGIN:STANDARD
TZOFFSETFROM:+0200
TZOFFSETTO:+0100
TZNAME:CET
DTSTART:20261025T010000
END:STANDARD
END:VTIMEZONE
BEGIN:VEVENT
DTSTART;VALUE=DATE:20250906
DTEND;VALUE=DATE:20250907
DTSTAMP:20260421T101738
CREATED:20250813T134304Z
LAST-MODIFIED:20250813T144405Z
UID:10003207-1757116800-1757203199@www.cyclisme.bzh
SUMMARY:Neulliac - Courses cyclistes de Neulliac
DESCRIPTION:Régularité route – U7 H/F à U13 H/F: \n\ndépart: 12h15\ndistance selon l’âge\nEngagements: 2€\n\n  \nU15 H/ F + U17 F: \n\ndépart: 14h00\n5 tours x 5.6 km = 28  km\nPrix coureurs : Sans prix\nEngagements: 6.50€ sur le web – 8.50€ sur la ligne\n\n  \nAccess 1-2-3-4 H/F 2 départs : \n\ndépart Access 1-2 : 15h30 – 13 tours x 5.6 km = 72.8 km\ndépart Access 3-4 : 15h31 – 10 tours x 5.6 km = 56 km\n\nEngagements: 9€ sur le web – 12€ sur la ligne\n\n  \nOuverture des engagements: le 13/08/2025 \, clôture le jeudi 04/09/2025 à 20h \nRenseignements : vcpontivyen2017@gmail.com \ncarte : https://connect.garmin.com/modern/course/385017424
URL:https://www.cyclisme.bzh/epreuve-calendrier/neulliac-courses-cyclistes-de-neulliac/
LOCATION:neulliac
CATEGORIES:Access,U11,U13,U15,U17 F,U7,U9
ATTACH;FMTTYPE=image/png:https://www.cyclisme.bzh/wp-content/uploads/2025/08/2025-09-06-NEULLIAC-Affiche-3.png
END:VEVENT
END:VCALENDAR