BEGIN:VCALENDAR
VERSION:2.0
PRODID:-//Comité de Bretagne de Cyclisme - ECPv6.15.20//NONSGML v1.0//EN
CALSCALE:GREGORIAN
METHOD:PUBLISH
X-ORIGINAL-URL:https://www.cyclisme.bzh
X-WR-CALDESC:Évènements pour Comité de Bretagne de Cyclisme
REFRESH-INTERVAL;VALUE=DURATION:PT1H
X-Robots-Tag:noindex
X-PUBLISHED-TTL:PT1H
BEGIN:VTIMEZONE
TZID:Europe/Paris
BEGIN:DAYLIGHT
TZOFFSETFROM:+0100
TZOFFSETTO:+0200
TZNAME:CEST
DTSTART:20230326T010000
END:DAYLIGHT
BEGIN:STANDARD
TZOFFSETFROM:+0200
TZOFFSETTO:+0100
TZNAME:CET
DTSTART:20231029T010000
END:STANDARD
BEGIN:DAYLIGHT
TZOFFSETFROM:+0100
TZOFFSETTO:+0200
TZNAME:CEST
DTSTART:20240331T010000
END:DAYLIGHT
BEGIN:STANDARD
TZOFFSETFROM:+0200
TZOFFSETTO:+0100
TZNAME:CET
DTSTART:20241027T010000
END:STANDARD
BEGIN:DAYLIGHT
TZOFFSETFROM:+0100
TZOFFSETTO:+0200
TZNAME:CEST
DTSTART:20250330T010000
END:DAYLIGHT
BEGIN:STANDARD
TZOFFSETFROM:+0200
TZOFFSETTO:+0100
TZNAME:CET
DTSTART:20251026T010000
END:STANDARD
END:VTIMEZONE
BEGIN:VEVENT
DTSTART;VALUE=DATE:20240915
DTEND;VALUE=DATE:20240916
DTSTAMP:20260420T023115
CREATED:20240620T142604Z
LAST-MODIFIED:20240820T134238Z
UID:10002587-1726358400-1726444799@www.cyclisme.bzh
SUMMARY:Locmaria Plouzané - Finale de la Coupe de Bretagne de BMX
DESCRIPTION:Lire en plein écranAller au contenu PDF\n  \nOuverture des engagements: le 20/06/2024 à 18h\, clôture le jeudi 12/09/2024 à 20h \nRenseignements: PERES Alban – e-mail: locmariabmxclub@gmail.com / Port: 06.31.20.70.34
URL:https://www.cyclisme.bzh/epreuve-calendrier/locmaria-plouzane-finale-de-la-coupe-de-bretagne-de-bmx/
LOCATION:LOCMARIA PLOUZANÉ\, LOCMARIA PLOUZANÉ\, Bretagne\, France
CATEGORIES:Access,Elite,Open,U11,U13,U15,U17,U7,U9
ATTACH;FMTTYPE=image/jpeg:https://www.cyclisme.bzh/wp-content/uploads/2024/06/IMG_5593.jpg
ORGANIZER;CN="LOCMARIA BMX (4329511)":MAILTO:locmariabmxclub@gmail.com
END:VEVENT
END:VCALENDAR