BEGIN:VCALENDAR
VERSION:2.0
PRODID:-//Comité de Bretagne de Cyclisme - ECPv6.15.20//NONSGML v1.0//EN
CALSCALE:GREGORIAN
METHOD:PUBLISH
X-ORIGINAL-URL:https://www.cyclisme.bzh
X-WR-CALDESC:Évènements pour Comité de Bretagne de Cyclisme
REFRESH-INTERVAL;VALUE=DURATION:PT1H
X-Robots-Tag:noindex
X-PUBLISHED-TTL:PT1H
BEGIN:VTIMEZONE
TZID:Europe/Paris
BEGIN:DAYLIGHT
TZOFFSETFROM:+0100
TZOFFSETTO:+0200
TZNAME:CEST
DTSTART:20230326T010000
END:DAYLIGHT
BEGIN:STANDARD
TZOFFSETFROM:+0200
TZOFFSETTO:+0100
TZNAME:CET
DTSTART:20231029T010000
END:STANDARD
BEGIN:DAYLIGHT
TZOFFSETFROM:+0100
TZOFFSETTO:+0200
TZNAME:CEST
DTSTART:20240331T010000
END:DAYLIGHT
BEGIN:STANDARD
TZOFFSETFROM:+0200
TZOFFSETTO:+0100
TZNAME:CET
DTSTART:20241027T010000
END:STANDARD
BEGIN:DAYLIGHT
TZOFFSETFROM:+0100
TZOFFSETTO:+0200
TZNAME:CEST
DTSTART:20250330T010000
END:DAYLIGHT
BEGIN:STANDARD
TZOFFSETFROM:+0200
TZOFFSETTO:+0100
TZNAME:CET
DTSTART:20251026T010000
END:STANDARD
END:VTIMEZONE
BEGIN:VEVENT
DTSTART;VALUE=DATE:20241013
DTEND;VALUE=DATE:20241014
DTSTAMP:20260419T234126
CREATED:20240724T134527Z
LAST-MODIFIED:20240724T143934Z
UID:10002652-1728777600-1728863999@www.cyclisme.bzh
SUMMARY:Rostrenen - Le Prix du Centre Bretagne
DESCRIPTION:Régularité route – U7 H/F à U13 H/F: \n\ndépart: 13h00\ndistance selon l’âge\nEngagements: 2€\n\n  \nAccess 1-2-3-4 H/F: \n\n2 départs:\n\n– Access 1-2: 15h00 – 10 tours x 5.84 km = 58.4 km \n– Access 3-4: 15h02 – 8 tours x 5.84 km = 46.72 km \n\nEngagements: 9€\n\n  \nOuverture des engagements: le 24/07/2024 à 18h\, clôture le jeudi 10/10/2024 à 20h \nRenseignements: \n\nHERVIOU Ange – e-mail: ange.herviou@orange.fr / Port: 06.50.19.88.42\nententecyclisterostrenen@gmail.com
URL:https://www.cyclisme.bzh/epreuve-calendrier/rostrenen-le-prix-du-centre-bretagne/
LOCATION:ROSTRENEN\, ROSTRENEN\, Bretagne\, France
CATEGORIES:Access 1,Access 2,Access 3,Access 4,U11,U13,U7,U9
ATTACH;FMTTYPE=application/pdf:https://www.cyclisme.bzh/wp-content/uploads/2024/07/Affiche-2024-Prix-centre-Bretagne.pdf
END:VEVENT
BEGIN:VEVENT
DTSTART;VALUE=DATE:20241013
DTEND;VALUE=DATE:20241014
DTSTAMP:20260419T234126
CREATED:20240905T090608Z
LAST-MODIFIED:20240905T113844Z
UID:10002687-1728777600-1728863999@www.cyclisme.bzh
SUMMARY:Trégueux - Coupe 22 de BMX #3
DESCRIPTION:Ouverture des engagements: le 05/09/2024 à 18h\, clôture le mercredi 09/10/2024 à 20h \nRenseignements:  \n\nQUEMARD Martine – e-mail: martinequemard@orange.fr / Port: 06.86.74.17.48\nBAUDET Bruno – 06.45.92.15.17\n\n  \nLire en plein écranAller au contenu PDF
URL:https://www.cyclisme.bzh/epreuve-calendrier/tregueux-coupe-departementale-22-de-bmx-3/
LOCATION:TRÉGUEUX\, France
CATEGORIES:Access,Elite,Open,U11,U13,U15,U17,U7,U9
ATTACH;FMTTYPE=image/jpeg:https://www.cyclisme.bzh/wp-content/uploads/2024/09/affiche-.jpeg
ORGANIZER;CN="BMX TREGUEUX C.D'ARMOR (4322504)":MAILTO:bmx-tregueux@orange.fr
END:VEVENT
BEGIN:VEVENT
DTSTART;VALUE=DATE:20241013
DTEND;VALUE=DATE:20241014
DTSTAMP:20260419T234126
CREATED:20240906T135824Z
LAST-MODIFIED:20240913T130440Z
UID:10002690-1728777600-1728863999@www.cyclisme.bzh
SUMMARY:Plougastel - Coupe 29 de BMX #2
DESCRIPTION:Epreuve ouverte qu’aux pilotes du Finistère \nOuverture des engagements: le 06/09/2024 à 18h\, clôture le mercredi 09/10/2024 à 20h \nRenseignements: \n\npour les engagements: LONCHAMPT Corine – plougastelbmx@gmail.com / Port: 06.47.84.02.60\nLE BRAS Tanguy – le-12@hotmail.fr / Port:06.31.12.23.66\n\n  \nLire en plein écranAller au contenu PDF\n 
URL:https://www.cyclisme.bzh/epreuve-calendrier/plougastel-coupe-29-de-bmx-2/
LOCATION:PLOUGASTEL\, 29470\, France
CATEGORIES:Access,Elite,Open,U11,U13,U15,U17,U7,U9
ATTACH;FMTTYPE=image/jpeg:https://www.cyclisme.bzh/wp-content/uploads/2024/09/AFFICHE-14-OCT-2024-PLOUGASTEL.jpg
ORGANIZER;CN="PLOUGASTEL BMX (4329543)":MAILTO:plougastelbmx@gmail.com
END:VEVENT
BEGIN:VEVENT
DTSTART;VALUE=DATE:20241013
DTEND;VALUE=DATE:20241014
DTSTAMP:20260419T234126
CREATED:20240913T090509Z
LAST-MODIFIED:20240913T090509Z
UID:10002694-1728777600-1728863999@www.cyclisme.bzh
SUMMARY:Theix - Finale des Coupes du Morbihan 2024 - Trophée Harmonie Mutuelle
DESCRIPTION:Ouverture des engagements: le 13/09/2024 à 18h\, clôture le jeudi 10/10/2024 à 20h \n  \nLire en plein écranAller au contenu PDF
URL:https://www.cyclisme.bzh/epreuve-calendrier/theix-finale-des-coupes-du-morbihan-2024-trophee-harmonie-mutuelle/
LOCATION:THEIX NOYALO\, THEIX NOYALO\, Bretagne\, France
CATEGORIES:Access,Elite,Open,U11,U13,U15,U17,U7,U9
ATTACH;FMTTYPE=image/png:https://www.cyclisme.bzh/wp-content/uploads/2024/09/affiche-12-nov-2023.png
ORGANIZER;CN="BMX THEIX (4356523)":MAILTO:djstim@hotmail.fr
END:VEVENT
BEGIN:VEVENT
DTSTART;VALUE=DATE:20241020
DTEND;VALUE=DATE:20241021
DTSTAMP:20260419T234126
CREATED:20240916T091434Z
LAST-MODIFIED:20240916T091553Z
UID:10002695-1729382400-1729468799@www.cyclisme.bzh
SUMMARY:Cesson Sévigné - Parc de la Monniais - 2ème manche du Challenge des Sous-Bois
DESCRIPTION:Ecole de cyclisme – U7 H/F à U13 H/F: \n\nDépart: 11h00\nDistance selon l’âge\nEngagements: 2€\n\n  \nU15 H/F: \n\nDépart: 12h00\n20 mn\nPrix spéciaux U15 H: 28/3\, 1er 15€\nPrix spéciaux U15 F: 28/3\, 1ère 15€\nEngagements: 6.50€\n\n  \nU17 H/F: \n\nDépart: 13h30\n30 mn\nPrix spéciaux U17 H: 39/3\, 1er 20€\nPrix spéciaux U17 F: 39/3\, 1ère 20€\nEngagements: 6.50€\n\n  \nU19 H / Dames 17 ans et + \n\nDépart: 14h30\n40 mn\nPrix coureurs U19 H: 47/3\, 1er 24€\nPrix coureurs Dames 17 ans et +: 47/3\, 1ère 24€\nEngagements: 9€\n\n  \nU23 H + SENIORS H: \n\nDépart: 15h30\n50 mn\nPrix coureurs: 91/5\, 1er 29€\nEngagements: 9€\n\n  \nOuverture des engagements: le 16/09/2024 à 18h\, clôture le jeudi 17/10/2024 à 20h \nRenseignements: HEULOT Stéphanie – occyclistecessonnais@gmail.com / Port: 06.65.58.42.95 \n 
URL:https://www.cyclisme.bzh/epreuve-calendrier/cesson-sevigne-parc-de-la-monniais-2eme-manche-du-challenge-des-sous-bois-2/
LOCATION:CESSON SEVIGNE\, France
CATEGORIES:Access,Elite,Elite Pro,Femmes 17 ans et +,Open,U11,U13,U15,U17,U19,U7,U9
ATTACH;FMTTYPE=application/pdf:https://www.cyclisme.bzh/wp-content/uploads/2024/09/AFFICHE.pdf
ORGANIZER;CN="OC CYCL.CESSONNAIS (4335160)":MAILTO:occyclistecessonnais@gmail.com
END:VEVENT
BEGIN:VEVENT
DTSTART;VALUE=DATE:20241020
DTEND;VALUE=DATE:20241021
DTSTAMP:20260419T234126
CREATED:20240909T092915Z
LAST-MODIFIED:20240926T085955Z
UID:10002691-1729382400-1729468799@www.cyclisme.bzh
SUMMARY:Gouezec - Cyclo-cross Karreg An Tan - Challenge Cornouaille Sud
DESCRIPTION:Ecole de cyclisme – U7 H/F à U13 H/F: \n\nDépart: 13h00\nDistance selon l’âge\nEngagements: 2€\n\n  \nU15 H/F: \n\nDépart: 14h30\n20 mn\nEngagements: 6.50€\n\n  \nU17 H/F et Dames 17 ans et +: \n\nDépart: 15h00\n30 mn pour les U17 / 40 mn pour les Dames 17 ans et +\nPrix coureurs U17: 61/5\, 1er 21€\nPrix coureurs Dames: 61/5\, 1ère 21€\nEngagements: 6.50€ pour les U17 / 9€ pour les Dames 17 ans et +\n\n  \nU23 H + SENIORS H / U19 H: \n\nDépart: 16h00 pour les U23 H + séniors H – 16h01 pour les U19 H\n50 mn pour les U23 H + séniors H – 40 mn pour les U19 H\nPrix coureurs U23 + séniors: 138/10\, 1er 28€\nPrix coureurs U19 H: 61/5\, 1er 21€\nEngagements: 9€\n\n  \nOuverture des engagements: le 09/09/2024 à 18h\, clôture le 17/10/2024 à 20h \nRenseignements: PORHEL Alain – clubaoc.pleyben@gmail.com / Port: 06.17.97.23.25 \n 
URL:https://www.cyclisme.bzh/epreuve-calendrier/gouezec-cyclo-cross-karreg-an-tan-challenge-cornouaille-sud/
LOCATION:GOUÉZEC
CATEGORIES:Access,Elite,Elite Pro,Femmes 17 ans et +,Open,U11,U13,U15,U17,U19,U23,U7,U9
ORGANIZER;CN="AULNE OLYMPIQUE CYCLISTE (4329222)":MAILTO:clubaoc.pleyben@gmail.com
END:VEVENT
BEGIN:VEVENT
DTSTART;VALUE=DATE:20241027
DTEND;VALUE=DATE:20241028
DTSTAMP:20260419T234126
CREATED:20240930T113153Z
LAST-MODIFIED:20240930T113153Z
UID:10002705-1729987200-1730073599@www.cyclisme.bzh
SUMMARY:Quimperlé Kerbertrand - U7 H/F à séniors H
DESCRIPTION:Ecole de cyclisme – U7 H/F à U13 H/F: \n\nDépart: 12h00\nDistance selon l’âge\nEngagements: 2€\n\n  \nU15 H/F: \n\nDépart: 13h45\n20 mn\nEngagements: 6.50€\n\n  \nU17 H/F: \n\nDépart: 14h30\n30 mn\nPrix coureurs: 138/10\, 1er 28€\nPrix coureurs U17 F: 76/5\, 1ère 27€\nEngagements: 6.50€\n\n  \nFemmes 17 ans et +: \n\nDépart: 14h30\n40 mn\nPrix coureurs: 76/5\, 1ère 27€\nEngagements: 9€\n\n  \nU19 H: \n\nDépart: 15h30\n40 mn\nPrix coureurs: 76/5\, 1er 27€\nEngagements: 9€\n\n  \nU23 H + SENIORS H: \n\nDépart: 15h30\n50 mn\nPrix coureurs: 274/15\, 1er 53€\nEngagements: 9€\n\n  \nOuverture des engagements: le 30/09/2024 à 18h\, clôture le jeudi 24/10/2024 à 22h \nRenseignements: JEGOU Gwénaël – 06.60.26.78.39
URL:https://www.cyclisme.bzh/epreuve-calendrier/quimperle-kerbertrand-u7-h-f-a-seniors-h/
LOCATION:QUIMPERLE KERBERTRAND
CATEGORIES:Access,Elite,Elite Pro,Femmes 17 ans et +,Open,U11,U13,U15,U17,U19,U23,U7,U9
ORGANIZER;CN="UC QUIMPERLOISE (4329346)":MAILTO:gwenael.jegou434@orange.fr
END:VEVENT
BEGIN:VEVENT
DTSTART;VALUE=DATE:20241027
DTEND;VALUE=DATE:20241028
DTSTAMP:20260419T234126
CREATED:20241008T123116Z
LAST-MODIFIED:20241008T123232Z
UID:10002711-1729987200-1730073599@www.cyclisme.bzh
SUMMARY:Brest - Coupe du Finistère de BMX #3
DESCRIPTION:Ouverture des engagements: le 08/10/2024 à 18h\, clôture le jeudi 24/10/2024 à 20h \nLire en plein écranAller au contenu PDF
URL:https://www.cyclisme.bzh/epreuve-calendrier/brest-coupe-du-finistere-de-bmx-3/
LOCATION:BREST\, BREST\, Bretagne\, France
CATEGORIES:Access,Elite,Open,U11,U13,U15,U17,U7,U9
ATTACH;FMTTYPE=image/png:https://www.cyclisme.bzh/wp-content/uploads/2024/10/BMX-Affiche_Coupe_du_Finistere_2024-HD.png
ORGANIZER;CN="BREST BMX 29 (4329547)":MAILTO:contact@brestbmx.com
END:VEVENT
BEGIN:VEVENT
DTSTART;VALUE=DATE:20241027
DTEND;VALUE=DATE:20241028
DTSTAMP:20260419T234126
CREATED:20241009T141347Z
LAST-MODIFIED:20241015T065430Z
UID:10002712-1729987200-1730073599@www.cyclisme.bzh
SUMMARY:Pleudihen sur Rance (22) - Musée du Cidre - Challenge des Sous-Bois
DESCRIPTION:Ecole de cyclisme – U7 H/F à U13 H/F: \n\nDépart: 11h00\nDistance selon l’âge\nEngagements: 2€\n\n  \nU15 H/F: \n\nDépart: 13h00\n20 mn\nEngagements: 6.50€\n\n  \nU17 H/F: \n\nDépart: 13h30\n30 mn\nPrix coureurs U17 H: 47/5\, 1er 18€\nPrix spéciaux U17 F: 30/3\, 1ère 15€\nEngagements: 6.50€\n\n  \nU19 H / Dames 17 ans et +: \n\nDépart: 14h15\n40 mn\nPrix coureurs: 91/10\, 1er 17€\nEngagements: 9€\n\n  \nU23 H + SENIORS H: \n\nDépart: 15h30\n50 mn\nPrix coureurs: 152/10\, 1er 30€\nEngagements: 9€\n\n  \nOuverture des engagements: le 09/10/2024 à 18h\, clôture le jeudi 24/10/2024 à 20h \nRenseignements: PEDRON Loïc – loic.pedron@orange.fr / 06.78.49.16.45
URL:https://www.cyclisme.bzh/epreuve-calendrier/pleudihen-sur-rance-challenge-des-sous-bois/
LOCATION:PLEUDIHEN SUR RANCE\, France
CATEGORIES:Access,Elite,Elite Pro,Open,U11,U13,U15,U17,U7,U9
ATTACH;FMTTYPE=image/jpeg:https://www.cyclisme.bzh/wp-content/uploads/2024/10/Image_20241009_0001-scaled.jpg
ORGANIZER;CN="JS DOLOISE CYCLISME (4335050)":MAILTO:loic.pedron@orange.fr
END:VEVENT
END:VCALENDAR