BEGIN:VCALENDAR
VERSION:2.0
PRODID:-//Comité de Bretagne de Cyclisme - ECPv6.15.20//NONSGML v1.0//EN
CALSCALE:GREGORIAN
METHOD:PUBLISH
X-ORIGINAL-URL:https://www.cyclisme.bzh
X-WR-CALDESC:Évènements pour Comité de Bretagne de Cyclisme
REFRESH-INTERVAL;VALUE=DURATION:PT1H
X-Robots-Tag:noindex
X-PUBLISHED-TTL:PT1H
BEGIN:VTIMEZONE
TZID:Europe/Paris
BEGIN:DAYLIGHT
TZOFFSETFROM:+0100
TZOFFSETTO:+0200
TZNAME:CEST
DTSTART:20230326T010000
END:DAYLIGHT
BEGIN:STANDARD
TZOFFSETFROM:+0200
TZOFFSETTO:+0100
TZNAME:CET
DTSTART:20231029T010000
END:STANDARD
BEGIN:DAYLIGHT
TZOFFSETFROM:+0100
TZOFFSETTO:+0200
TZNAME:CEST
DTSTART:20240331T010000
END:DAYLIGHT
BEGIN:STANDARD
TZOFFSETFROM:+0200
TZOFFSETTO:+0100
TZNAME:CET
DTSTART:20241027T010000
END:STANDARD
BEGIN:DAYLIGHT
TZOFFSETFROM:+0100
TZOFFSETTO:+0200
TZNAME:CEST
DTSTART:20250330T010000
END:DAYLIGHT
BEGIN:STANDARD
TZOFFSETFROM:+0200
TZOFFSETTO:+0100
TZNAME:CET
DTSTART:20251026T010000
END:STANDARD
END:VTIMEZONE
BEGIN:VEVENT
DTSTART;VALUE=DATE:20240602
DTEND;VALUE=DATE:20240603
DTSTAMP:20260420T112051
CREATED:20240320T140849Z
LAST-MODIFIED:20240320T140915Z
UID:10002348-1717286400-1717372799@www.cyclisme.bzh
SUMMARY:Calorguen - Trophée Bernard Hinault
DESCRIPTION:Régularité route – U7 H/F à U13 H/F: \n\ndépart: 11h00\ndistance selon l’âge\nEngagements: 2€\n\n  \nU15 H/F + U17 F: \n\ndépart: 13h00\n9 tours x 3.02 km = 27.18 km\nPrix coureurs: 107/10\, 1er 20€\nEngagements: 6.50€\n\n  \nU17 H/F: \n\ndépart: 14h00\n15 tours x 3.02 km = 45.3 km\nPrix coureurs: 138/10\, 1er 28€\nEngagements: 6.50€\n\n  \nOpen 3 + Access 1-2-3-4 H: \n\ndépart: 15h30\n24 tours x 3.02 km = 72.48 km\nPrix coureurs: 168/10\, 1er 34€\nEngagements: 9€\n\n  \nOuverture des engagements: le 20/03/2024 à 18h\, clôture le jeudi 30/05/2024 à 20h \nRenseignements: DUBOSCQ Marie Claude – e-mail: mduboscq220@gmail.com / Port: 06.76.97.26.46 \n 
URL:https://www.cyclisme.bzh/epreuve-calendrier/calorguen-trophee-bernard-hinault/
LOCATION:CALORGUEN\, CALORGUEN\, Bretagne\, France
CATEGORIES:Access 1,Access 2,Access 3,Access 4,Open 3,U11,U13,U15,U17,U7,U9
ATTACH;FMTTYPE=application/pdf:https://www.cyclisme.bzh/wp-content/uploads/2024/03/Affiche-Trophee-Bernard-Hinault.pdf
ORGANIZER;CN="VC DINANNAIS (4322030)":MAILTO:mduboscq220@gmail.com
END:VEVENT
BEGIN:VEVENT
DTSTART;VALUE=DATE:20240602
DTEND;VALUE=DATE:20240603
DTSTAMP:20260420T112051
CREATED:20240411T094912Z
LAST-MODIFIED:20240411T094912Z
UID:10002414-1717286400-1717372799@www.cyclisme.bzh
SUMMARY:Rimou - Challenge Couesnon Marches de Bretagne
DESCRIPTION:Régularité route – U7 H/F à U13 H/F: \n\ndépart: 13h00\ndistance selon l’âge\nEngagements: 2€\n\n  \nOpen 2-3 + Access 1-2 H – Challenge Couesnon Marches de Bretagne: \n\ndépart: 15h00\n15 tours x 6.1 km = 91.5 km\nPrix coureurs: 259/15\, 1er 50€\nPrix spéciaux U19: 30/3\, 1er 15€\nEngagements: 9€\n\n  \nOuverture des engagements: le 11/04/2024 à 18h\, clôture le jeudi 30/05/2024 à 20h \nRenseignements: MELLIER Frank – e-mail: teamtedditautisme@yahoo.com / Port: 06.11.25.25.96
URL:https://www.cyclisme.bzh/epreuve-calendrier/rimou-challenge-couesnon-marches-de-bretagne/
LOCATION:RIMOU\, 35560\, France
CATEGORIES:Access 1,Access 2,Open 2,Open 3,U11,U13,U7,U9
ORGANIZER;CN="TEAM TED DIT AUTISME (4335450)":MAILTO:teamtedditautisme@yahoo.com
END:VEVENT
BEGIN:VEVENT
DTSTART;VALUE=DATE:20240602
DTEND;VALUE=DATE:20240603
DTSTAMP:20260420T112051
CREATED:20240419T115432Z
LAST-MODIFIED:20240419T115432Z
UID:10002435-1717286400-1717372799@www.cyclisme.bzh
SUMMARY:Quemperven - Grand Prix Cycliste de la Saint-Hervé
DESCRIPTION:Régularité route – U7 H/F à U13 H/F: \n\ndépart: 13h00\ndistance selon l’âge\nEngagements: 2€\n\n  \nU15 H/F + U17 F: \n\ndépart: 14h30\n7 tours x 5.4 km = 37.8 km\nPrix coureurs: 107/10\, 1er 20€\nEngagements: 6.50€\n\n  \nOpen 3 + Access 1-2-3-4 H: \n\n2 départs:\n\n– Open 3 + Access 1-2: 16h00 – 13 tours x 5.4 km = 70.2 km \n– Access 3-4: 16h01 – 11 tours x 5.4 km = 59.4 km \n\nEngagements: 9€\n\n  \nOuverture des engagements: le 19/04/2024 à 18h\, clôture le jeudi 30/05/2024 à 20h \nRenseignements: ROPARTZ Xavier – e-mail: ropartzx@yahoo.fr / Port: 06.25.21.60.11
URL:https://www.cyclisme.bzh/epreuve-calendrier/quemperven-grand-prix-cycliste-de-la-saint-herve-2/
LOCATION:QUEMPERVEN\, QUEMPERVEN\, Bretagne\, France
CATEGORIES:Access 1,Access 2,Access 3,Access 4,Open 3,U11,U13,U15,U17 F,U7,U9
ATTACH;FMTTYPE=image/jpeg:https://www.cyclisme.bzh/wp-content/uploads/2024/04/2024-Quemperven-Affiche.jpg
ORGANIZER;CN="TEAM COTE DE GRANIT ROSE (4322336)":MAILTO:ropartzx@yahoo.fr
END:VEVENT
BEGIN:VEVENT
DTSTART;VALUE=DATE:20240609
DTEND;VALUE=DATE:20240610
DTSTAMP:20260420T112051
CREATED:20240422T092314Z
LAST-MODIFIED:20240523T125905Z
UID:10002441-1717891200-1717977599@www.cyclisme.bzh
SUMMARY:Le Creux Brusvily
DESCRIPTION:Régularité route – U7 H/F à U13 H/F: \n\ndépart: 11h00\ndistance selon l’âge\nEngagements: 2€\n\n  \nU15 H: \n\ndépart: 13h00\n10 tours x 2.55 km = 25.5 km\nPrix coureurs: 107/10\, 1er 20€\nEngagements: 6.50€\n\n  \nU17 H: \n\ndépart: 14h00\n18 tours x 2.55 km = 45.9 km\nPrix coureurs: 138/10\, 1er 28€\nEngagements: 6.50€\n\n  \nOpen 3 + Access 1-2-3-4 H: \n\ndépart: 15h30\n28 tours x 2.55 km = 71.4 km\nPrix coureurs: 259/15\, 1er 50€\nEngagements: 9€\n\n  \nOuverture des engagements: le 22/04/2024 à 18h\, clôture le jeudi 06/06/2024 à 20h \nRenseignements: DUBOSCQ Marie Claude – 06.76.97.26.46
URL:https://www.cyclisme.bzh/epreuve-calendrier/le-creux-brusvily-3/
LOCATION:LE CREUX BRUSVILY
CATEGORIES:Access 1,Access 2,Access 3,Access 4,Open 3,U11,U13,U15,U17,U7,U9
ATTACH;FMTTYPE=application/pdf:https://www.cyclisme.bzh/wp-content/uploads/2024/04/Affiche-2.pdf
ORGANIZER;CN="VC DINANNAIS (4322030)":MAILTO:mduboscq220@gmail.com
END:VEVENT
BEGIN:VEVENT
DTSTART;VALUE=DATE:20240609
DTEND;VALUE=DATE:20240610
DTSTAMP:20260420T112051
CREATED:20240426T095535Z
LAST-MODIFIED:20240426T095535Z
UID:10002458-1717891200-1717977599@www.cyclisme.bzh
SUMMARY:St Germain du Pinel - Prix Vélox
DESCRIPTION:Régularité route – U7 H/F à U13 H/F: \n\ndépart: 11h00\ndistance selon l’âge\nEngagements: 2€\n\n  \nU15 H: \nEpreuve féminine obligatoire pour les Bretonnes à St Martin des Champs \n\ndépart: 14h00\n7 tours x 4 km = 28 km\nPrix coureurs: 107/10\, 1er 20€\nEngagements: 6.50€\n\n  \nU17 H + Femmes 17 ans et + hors Bretagne: \nEpreuve féminine obligatoire pour les Bretonnes à St Martin des Champs \n\ndépart: 15h30\n14 tours x 4 km = 56 km\nPrix coureurs: 168/10\, 1er 34€\nEngagements: 6.50€ pour les U17 / 9€ pour les Femmes 17 ans et +\n\n  \nOuverture des engagements: le 25/04/2024 à 18h\, clôture le jeudi 06/06/2024 à 20h \nRenseignements: GROUSSARD Eric – e-mail: eric.groussard@wanadoo.fr / Port: 06.78.85.30.35
URL:https://www.cyclisme.bzh/epreuve-calendrier/st-germain-du-pinel-prix-velox-2/
LOCATION:ST GERMAIN DU PINEL\, 35370\, France
CATEGORIES:Femmes 17 ans et +,U11,U13,U15,U17,U7,U9
END:VEVENT
BEGIN:VEVENT
DTSTART;VALUE=DATE:20240609
DTEND;VALUE=DATE:20240610
DTSTAMP:20260420T112051
CREATED:20240430T135851Z
LAST-MODIFIED:20240430T135851Z
UID:10002471-1717891200-1717977599@www.cyclisme.bzh
SUMMARY:Rimaison en Baud
DESCRIPTION:Régularité route – U7 H/F à U13 H/F: \n\ndépart: 13h00\ndistance selon l’âge\nEngagements: 2€\n\n  \nU15 H: \n\ndépart: 14h30\n9 tours x 3.1 km = 27.9 km\nPrix coureurs: 107/10\, 1er 20€\nEngagements: 6.50€\n\n  \nU17 H: \n\ndépart: 15h30\n16 tours x 3.1 km = 49.6 km\nPrix coureurs: 138/10\, 1er 28€\nEngagements: 6.50€\n\n  \nOuverture des engagements: le 30/04/2024 à 18h\, clôture le jeudi 06/06/2024 à 20h \nRenseignements: CHARRIER Franck – e-mail: franck.charrier@sfr.fr / Port: 06.32.26.71.19
URL:https://www.cyclisme.bzh/epreuve-calendrier/rimaison-en-baud-3/
LOCATION:RIMAISON EN BAUD\, RIMAISON EN BAUD\, Bretagne\, France
CATEGORIES:U11,U13,U15,U17,U7,U9
ORGANIZER;CN="AC PAYS DE BAUD (4356342)":MAILTO:acpbaud@laposte.net
END:VEVENT
BEGIN:VEVENT
DTSTART;VALUE=DATE:20240615
DTEND;VALUE=DATE:20240616
DTSTAMP:20260420T112051
CREATED:20240527T095659Z
LAST-MODIFIED:20240527T095719Z
UID:10002529-1718409600-1718495999@www.cyclisme.bzh
SUMMARY:Pordic - Vélodrome - Finale du Challenge 22
DESCRIPTION:U7 H/F à U15 1ère année (2ème année pour les Filles): \n\ndépart: 13h00\ndistance selon l’âge\nEngagements: 2€\n\n  \nOuverture des engagements: le 27/05/2024 à 18h\, clôture le mercredi 12/06/2024 à 20h \nRenseignements: NOREE Thierry – 06.62.30.66.26
URL:https://www.cyclisme.bzh/epreuve-calendrier/pordic-velodrome-finale-du-challenge-22/
LOCATION:PORDIC\, PORDIC\, Bretagne\, France
CATEGORIES:U11,U13,U15,U7,U9
END:VEVENT
BEGIN:VEVENT
DTSTART;VALUE=DATE:20240616
DTEND;VALUE=DATE:20240617
DTSTAMP:20260420T112051
CREATED:20240503T130454Z
LAST-MODIFIED:20240611T075603Z
UID:10002477-1718496000-1718582399@www.cyclisme.bzh
SUMMARY:Lochrist - Régularité route et Championnat du Morbihan des Access H - Finale du Challenge BRANN
DESCRIPTION:Régularité route – U7 H/F à U13 H/F: \n\ndépart: 11h00\ndistance selon l’âge\nEngagements: 2€\n\n  \nAccess 3-4 H – Championnat du Morbihan et Finale du Challenge Brann: \nEpreuve seulement ouverte aux licenciés du Morbihan \n\n2 départs\n\n– Access 3: 14h00 – 10 tours x 6.7 km = 67 km \n– Access 4: 14h01 – 8 tours x 6.7 km = 53.6 km \n\nEngagements: 9€ – pas d’engagement sur la ligne\n\n  \nAccess 1-2 H – Championnat du Morbihan et Finale du Challenge Brann: \nEpreuve seulement ouverte aux licenciés du Morbihan \n\n2 départs:\n\n– Access 1: 16h00 – 12 tours x 6.7 km = 80\,4 km \n– Access 2: 16h01 – 10 tours x 6.7 km = 67 km \n\nEngagements: 9€ – pas d’engagement sur la ligne\n\n  \nOuverture des engagements: le 03/05/2024 à 18h\, clôture le mercredi 12/06/2024 à 20h \nRenseignements: PUREN Eric – e-mail: eric-puren@wanadoo.fr / Tél: 02.97.59.90.95 \nCourse EDV 16 juin 2024 – Openrunner \nCourse ACCESS 16 juin 2024 – Openrunner
URL:https://www.cyclisme.bzh/epreuve-calendrier/lochrist-regularite-route-et-championnat-du-morbihan-des-access-h-finale-du-challenge-brann/
LOCATION:LOCHRIST\, LOCHRIST\, Bretagne\, France
CATEGORIES:Access 1,Access 2,Access 3,Access 4,U11,U13,U7,U9
ATTACH;FMTTYPE=image/jpeg:https://www.cyclisme.bzh/wp-content/uploads/2024/05/UCLH-Courses-cyclistes-le-Lochrist-Affiche-16-06-2024.jpg
ORGANIZER;CN="UCL HENNEBONT (4356110)":MAILTO:eric-puren@wanadoo.fr
END:VEVENT
BEGIN:VEVENT
DTSTART;VALUE=DATE:20240616
DTEND;VALUE=DATE:20240617
DTSTAMP:20260420T112051
CREATED:20240506T070629Z
LAST-MODIFIED:20240527T113049Z
UID:10002478-1718496000-1718582399@www.cyclisme.bzh
SUMMARY:Quimper Menfouest
DESCRIPTION:Régularité route – U7 H/F à U13 H/F: \n\ndépart: 13h00\ndistance selon l’âge\nEngagements: 2€\n\n  \nU15 H/F + U17 F – Sauf licenciés du département 35 \n\ndépart: 14h30\n10 tours x 2.7 km = 27 km\nPrix coureurs: 107/10\, 1er 20€\nEngagements: 6.50€\n\n  \nU17 H/F (sauf dept 35) + Femmes 17 ans et +: \n\ndépart: 15h45\n20 tours x 2.7 km = 54 km\nPrix coureurs: 107/10\, 1er 20€\nEngagements: 6.50€\n\n  \nOuverture des engagements: le 03/05/2024 à 18h\, clôture le jeudi 13/06/2024 à 20h \nRenseignements: CALVEZ Nadine – e-mail: velosportquimper@gmail.com / Port: 06.52.95.01.13 \n 
URL:https://www.cyclisme.bzh/epreuve-calendrier/quimper-menfouest/
LOCATION:QUIMPER MENFOUEST\, 29000\, France
CATEGORIES:Femmes 17 ans et +,U11,U13,U15,U17,U7,U9
ATTACH;FMTTYPE=image/jpeg:https://www.cyclisme.bzh/wp-content/uploads/2024/05/Lumii_20240428_135614643-1-scaled.jpg
ORGANIZER;CN="VS QUIMPEROIS (4329032)":MAILTO:velosportquimper@gmail.com
END:VEVENT
BEGIN:VEVENT
DTSTART;VALUE=DATE:20240623
DTEND;VALUE=DATE:20240624
DTSTAMP:20260420T112051
CREATED:20240411T132850Z
LAST-MODIFIED:20240411T133032Z
UID:10002417-1719100800-1719187199@www.cyclisme.bzh
SUMMARY:Rostrenen - Coupe de Bretagne de BMX #6
DESCRIPTION:Ouverture des engagements: le 11/04/2024 à 18h\, clôture le jeudi 20/06/2024 à 20h \nRenseignements: LE DREFF Christophe – e-mail: christophe.le-dreff@orange.fr / Port: 06.81.76.84.56 \n  \nLire en plein écranAller au contenu PDF
URL:https://www.cyclisme.bzh/epreuve-calendrier/rostrenen-coupe-de-bretagne-de-bmx-6/
LOCATION:ROSTRENEN\, ROSTRENEN\, Bretagne\, France
CATEGORIES:Access,Elite,Open,U11,U13,U15,U17,U7,U9
ATTACH;FMTTYPE=image/png:https://www.cyclisme.bzh/wp-content/uploads/2024/04/6eme-manche-de-la-coupe-de-bretagne.png
END:VEVENT
BEGIN:VEVENT
DTSTART;VALUE=DATE:20240623
DTEND;VALUE=DATE:20240624
DTSTAMP:20260420T112051
CREATED:20240517T090614Z
LAST-MODIFIED:20240620T120254Z
UID:10002504-1719100800-1719187199@www.cyclisme.bzh
SUMMARY:Landerneau Kergreïs - Régularité Route et épreuves féminines - Support du Championnat du Finistère
DESCRIPTION:Attention: modification des horaires \nRégularité route – U7 H/F à U13 H/F: \nTournoi de vitesse – 20 par catégorie max \n\ndépart: 13h30\ndistance selon l’âge\nEngagements: 2€\n\n  \nU15 F + U17 F – support Championnat du Finistère: \nEpreuve ouverte à toutes les féminines \n\ndépart: 15h31\nU15 F: 14 tours x 2.45 km = 34.3 km – Prix coureurs: 138/10\, 1ère 28€\nU17 F: 20 tours x 2.45 km = 49 km – Prix coureurs: 183/10\, 1ère 37€\nEngagements: 7€\n\n  \nFemmes 17 ans et + – support Championnat du Finistère: \nEpreuve ouverte à toutes les féminines \n\ndépart: 15h30\n33 tours x 2.45 km = 80.85 km\nPrix coureurs: 320/15\, 1ère 51€\nEngagements: 10€\n\n  \nOuverture des engagements: le 17/05/2024 à 18h\, clôture le jeudi 20/06/2024 à 23h \nRenseignements: LE GALL Jérôme – e-mail: legalljerome.ecl@orange.fr / Port: 06.88.75.52.72 \nDOSSIER TOURNOI DE VITESSE \n \n  \n 
URL:https://www.cyclisme.bzh/epreuve-calendrier/landerneau-kergreis-regularite-route-et-epreuves-feminines-support-du-championnat-du-finistere/
LOCATION:LANDERNEAU\, France
CATEGORIES:Femmes 17 ans et +,U11,U13,U15 F,U17 F,U7,U9
ATTACH;FMTTYPE=image/jpeg:https://www.cyclisme.bzh/wp-content/uploads/2024/05/affiche-chpt-29-Kergreis-nx-horaires.jpg
ORGANIZER;CN="EC Landerneau":MAILTO:legalljerome.ecl@orange.fr
END:VEVENT
BEGIN:VEVENT
DTSTART;VALUE=DATE:20240623
DTEND;VALUE=DATE:20240624
DTSTAMP:20260420T112051
CREATED:20240517T100520Z
LAST-MODIFIED:20240530T072012Z
UID:10002505-1719100800-1719187199@www.cyclisme.bzh
SUMMARY:Moëlan-sur-Mer - Ronde du Menhir de Kergoulouët - Challenge Cornouaille Sud - Championnat de l'Avenir du Finistère U15 H et U17 H
DESCRIPTION:Accès au circuit par Baye ou Quimperlé (pas d’accès par Riec) \n  \nAccess 1-2-3-4 H: \n\n2 départs:\n\n– Access 1-2: 9h45 – 13 tours x 5 km = 65 km \n– Access 3-4: 9h46 – 11 tours x 5 km = 55 km \n\nEngagements: 9€\n\n  \nRégularité Route – U7 H/F à U13 H/F: \n\ndépart: 13h00\ndistance selon l’âge\nEngagements: 2€\n\n  \nU15 H – Championnat de l’Avenir 29: \n\ndépart: 14h30\n7 tours x 5 km = 35 km\nEngagements: 8€\n\n  \nU17 H – Championnat de l’Avenir 29: \n\ndépart: 16h00\n14 tours x 5 km = 70 km\nEngagements: 8€\n\n  \nOuverture des engagements: le 17/05/2024 à 18h\, clôture le jeudi 20/06/2024 à 20h \nRenseignements: RESET Vanessa  e-mail: vanessa.reset@orange.fr / Port: 06.76.22.97.31
URL:https://www.cyclisme.bzh/epreuve-calendrier/moelan-sur-mer-ronde-du-menhir-de-kergoulouet-challenge-cornouaille-sud-championnat-de-lavenir-du-finistere-u15-h-et-u17-h/
LOCATION:MOËLAN SUR MER\, MOËLAN SUR MER\, Bretagne\, France
CATEGORIES:Access 1,Access 2,Access 3,Access 4,U11,U13,U15,U17,U7,U9
ATTACH;FMTTYPE=application/pdf:https://www.cyclisme.bzh/wp-content/uploads/2024/05/Affiche-La-Ronde-Du-Menhir-De-Kergoulouet.pdf
ORGANIZER;CN="MOELAN CYCLO CLUB (4329162)":MAILTO:serge.piriou@wanadoo.fr
END:VEVENT
BEGIN:VEVENT
DTSTART;VALUE=DATE:20240630
DTEND;VALUE=DATE:20240701
DTSTAMP:20260420T112051
CREATED:20240521T134739Z
LAST-MODIFIED:20240521T134739Z
UID:10002517-1719705600-1719791999@www.cyclisme.bzh
SUMMARY:Hennebont - Championnat du Morbihan de BMX 2024
DESCRIPTION:Ouverture des engagements: le 21/05/2024 à 18h\, clôture le mercredi 26/06/2024 à 20h \nRenseignements: BERNAUDAT Aurélien – aurelienbernaudat56@gmail.com / Port: 06.50.86.82.75 \n  \nLire en plein écranAller au contenu PDF
URL:https://www.cyclisme.bzh/epreuve-calendrier/hennebont-championnat-du-morbihan-de-bmx-2024/
LOCATION:HENNEBONT\, HENNEBONT\, Bretagne\, France
CATEGORIES:Access,Elite,Open,U11,U13,U15,U17,U7,U9
ATTACH;FMTTYPE=application/pdf:https://www.cyclisme.bzh/wp-content/uploads/2024/05/Affiche-bmx-coupe-morbihan-HENNEBONT-2024-v3_240518_045737.pdf
ORGANIZER;CN="HENNEBONT BMX (4356538)":MAILTO:bmxh.secr@free.fr
END:VEVENT
END:VCALENDAR