BEGIN:VCALENDAR
VERSION:2.0
PRODID:-//Comité de Bretagne de Cyclisme - ECPv6.15.20//NONSGML v1.0//EN
CALSCALE:GREGORIAN
METHOD:PUBLISH
X-ORIGINAL-URL:https://www.cyclisme.bzh
X-WR-CALDESC:Évènements pour Comité de Bretagne de Cyclisme
REFRESH-INTERVAL;VALUE=DURATION:PT1H
X-Robots-Tag:noindex
X-PUBLISHED-TTL:PT1H
BEGIN:VTIMEZONE
TZID:Europe/Paris
BEGIN:DAYLIGHT
TZOFFSETFROM:+0100
TZOFFSETTO:+0200
TZNAME:CEST
DTSTART:20250330T010000
END:DAYLIGHT
BEGIN:STANDARD
TZOFFSETFROM:+0200
TZOFFSETTO:+0100
TZNAME:CET
DTSTART:20251026T010000
END:STANDARD
BEGIN:DAYLIGHT
TZOFFSETFROM:+0100
TZOFFSETTO:+0200
TZNAME:CEST
DTSTART:20260329T010000
END:DAYLIGHT
BEGIN:STANDARD
TZOFFSETFROM:+0200
TZOFFSETTO:+0100
TZNAME:CET
DTSTART:20261025T010000
END:STANDARD
BEGIN:DAYLIGHT
TZOFFSETFROM:+0100
TZOFFSETTO:+0200
TZNAME:CEST
DTSTART:20270328T010000
END:DAYLIGHT
BEGIN:STANDARD
TZOFFSETFROM:+0200
TZOFFSETTO:+0100
TZNAME:CET
DTSTART:20271031T010000
END:STANDARD
END:VTIMEZONE
BEGIN:VEVENT
DTSTART;VALUE=DATE:20260525
DTEND;VALUE=DATE:20260526
DTSTAMP:20260420T153805
CREATED:20260408T123729Z
LAST-MODIFIED:20260408T123842Z
UID:10003481-1779667200-1779753599@www.cyclisme.bzh
SUMMARY:Moncontour - 90ème Circuit de la Pentecôte
DESCRIPTION:U17 H: \nLimité à 100 coureurs \n\ndépart: 12h00\n7 tours x 8 km = 56 km\nPrix coureurs: 107/10\, 1er 20€\nEngagements: 7€ sur le web – 9€ sur la ligne\n\n  \nU15 H/F + U17 F: \nLimité à 100 coureurs \n\ndépart: 12h02\n4 tours x 8 km = 32 km\nPrix coureurs: 107/10\, 1er 20€\nEngagements: 7€ sur le web – 9€ sur la ligne\n\n  \nElite + Open 1-2-3 H/F: \n\ndépart: 14h30\n13 tours x 8.8 km = 114.4 km\nPrix coureurs: 915/25\, 1er 146€\nPrix spéciaux U19: 91/5\, 1er 29€\nEngagements: 10€ sur le web – 14€ sur la ligne\n\n  \nOuverture des engagements: le 08/04/2026 à 18h\, clôture le mercredi 20/05/2026 à 20h \nRenseignements: LE GAL Jérôme – e-mail: jerome_legal@hotmail.com / Port: 06.78.83.57.21 \nAu programme des prix coureurs\, des prix spéciaux\, ainsi que des primes meilleurs grimpeurs et classement par point\n\nRestauration sur place \n  \n 
URL:https://www.cyclisme.bzh/epreuve-calendrier/moncontour-90eme-circuit-de-la-pentecote/
LOCATION:MONCONTOUR
CATEGORIES:Elite,Open 1,Open 2,Open 3,U15,U17
ATTACH;FMTTYPE=image/png:https://www.cyclisme.bzh/wp-content/uploads/2026/04/BAT3-CIRCUIT-MONCONTOUR-2026-A4.png
END:VEVENT
BEGIN:VEVENT
DTSTART;VALUE=DATE:20260531
DTEND;VALUE=DATE:20260601
DTSTAMP:20260420T153805
CREATED:20260324T130800Z
LAST-MODIFIED:20260324T130800Z
UID:10003446-1780185600-1780271999@www.cyclisme.bzh
SUMMARY:Calorguen - Trophée Bernard Hinault
DESCRIPTION:Régularité route – U7 H/F à U13 H/F: \n\ndépart: 11h00\ndistance selon l’âge\nEngagements: 3€\n\n  \nU15 H/F + U17 F: \n\ndépart: 13h00\n9 tours x 3 km = 27 km\nPrix coureurs: 107/10\, 1er 20€\nEngagements: 7€ sur le web – 9€ sur la ligne\n\n  \nU17 H/F: \n\ndépart: 14h00\n15 tours x 3 km = 45 km\nPrix coureurs: 138/10\, 1er 28€\nEngagements: 7€ sur le web – 9€ sur la ligne\n\n  \nOpen 3 + Access 1-2 H/F: \n\ndépart: 15h30\n24 tours x 3 km = 72 km\nPrix coureurs: 168/10\, 1er 34€\nEngagements: 9€ sur le web – 12€ sur la ligne\n\n  \nOuverture des engagements: le 24/03/2026 à 18h\, clôture le jeudi 28/05/2026 à 20h \nRenseignements: DUBOSCQ Marie Claude – e-mail: mduboscq220@gmail.com / Port: 06.76.97.26.46 \n 
URL:https://www.cyclisme.bzh/epreuve-calendrier/calorguen-trophee-bernard-hinault-3/
LOCATION:CALORGUEN\, CALORGUEN\, Bretagne\, France
CATEGORIES:Access 1,Access 2,Open 3,U11,U13,U15,U17,U7,U9
ORGANIZER;CN="VC DINANNAIS (4322030)":MAILTO:mduboscq220@gmail.com
END:VEVENT
BEGIN:VEVENT
DTSTART;VALUE=DATE:20260531
DTEND;VALUE=DATE:20260601
DTSTAMP:20260420T153805
CREATED:20260413T120042Z
LAST-MODIFIED:20260414T093925Z
UID:10003491-1780185600-1780271999@www.cyclisme.bzh
SUMMARY:Saint-Nic
DESCRIPTION:U15 H/F + U17 f: \n\ndépart: 12h45\n10 tours x 2.35 km = 23.50 km\nPrix coureurs: 107/10\, 1er 20€\nEngagements: 6.50€ sur le web – 8.50€ sur la ligne\n\n  \nOpen 2-3 + Access 1-2 H/F \, Trophée Jo Velly: \n\ndépart: 15h00\n15 tours x 5.5 km = 82.50 km\nPrix coureurs: 259/15\, 1er 50€\nEngagements: 9€ sur le web – 9€ sur la ligne\n\n  \nOuverture des engagements: 14/04/2026\, clôture le jeudi 28/05/2026 à 20h \nRenseignements: Giniaux Jean-Pierre – giniauxjeanpierre@gmail.com – 06 52 16 46 15
URL:https://www.cyclisme.bzh/epreuve-calendrier/saint-nic/
LOCATION:SAINT NIC\, France
CATEGORIES:Access 1,Access 2,Open 2,Open 3,U15
ORGANIZER;CN="VC CHATEAULINOIS (4329221)":MAILTO:vcccontact@laposte.net
END:VEVENT
BEGIN:VEVENT
DTSTART;VALUE=DATE:20260614
DTEND;VALUE=DATE:20260615
DTSTAMP:20260420T153805
CREATED:20260401T141419Z
LAST-MODIFIED:20260401T141419Z
UID:10003466-1781395200-1781481599@www.cyclisme.bzh
SUMMARY:Rostrenen - Coupe de Bretagne de BMX #5
DESCRIPTION:Ouverture des engagements: le 01/04/2026 à 18h\, clôture le jeudi 11/06/2026 à 20h \nRenseignements: MAUTALENT David – e-mail: mautalent.david@orange.fr / Port: 06.80.36.75.09 \n  \nLire en plein écranAller au contenu PDF
URL:https://www.cyclisme.bzh/epreuve-calendrier/rostrenen-coupe-de-bretagne-de-bmx-5/
LOCATION:ROSTRENEN\, ROSTRENEN\, Bretagne\, France
CATEGORIES:Access,Elite,Open,U11,U13,U15,U17,U7,U9
END:VEVENT
BEGIN:VEVENT
DTSTART;VALUE=DATE:20260614
DTEND;VALUE=DATE:20260615
DTSTAMP:20260420T153805
CREATED:20260303T123236Z
LAST-MODIFIED:20260309T135958Z
UID:10003380-1781395200-1781481599@www.cyclisme.bzh
SUMMARY:St Congard - Coupe de Bretagne VTT XC
DESCRIPTION:9h15 – 11h00: courses jeunes (U9-U11-U13 à 7€ – U15 à 11€)\n12h00: Départementaux\, Masters\, Femmes 17 ans et + à 12.50€ – U17 F à 11€\n14h00: U17 H à 11€\n15h30: U19 H et Elites à 12.50€\n\n  \nOuverture des engagements: le 03/03/2026 à 18h\, clôture le jeudi 11/06/2026 à 20h \nRenseignements: ROBEAU Jean Charles – e-mail: jean-charles.robeau@laposte.net / Port: 06.74.68.82.86 \n 
URL:https://www.cyclisme.bzh/epreuve-calendrier/st-congard-coupe-de-bretagne-vtt-xc-2/
LOCATION:ST CONGARD
CATEGORIES:Access,Elite,Elite Pro,Epreuve de Masse VTT,Femmes 17 ans et +,Masters,Open,U11,U15,U17,U9
END:VEVENT
BEGIN:VEVENT
DTSTART;VALUE=DATE:20260621
DTEND;VALUE=DATE:20260622
DTSTAMP:20260420T153805
CREATED:20260417T133218Z
LAST-MODIFIED:20260420T094521Z
UID:10003506-1782000000-1782086399@www.cyclisme.bzh
SUMMARY:Monterfil - Championnat d'Ille-et-Vilaine de l'Avenir - U15 U17 et U19
DESCRIPTION:U17 H/F \n\nDépart 9h30  – 12 tours x 6 km = 72 km\nEngagements: 8€ sur le web – pas d’engagements sur la ligne\n\nU15 H/F \n\nDépart 13h30   – 6 tours x 6 km = 36  km\nEngagements: 8€ sur le web – pas d’engagements sur la ligne\n\nU19 H \n\nDépart 15h30  – 17 tours x 6 km = 102 km\nEngagements: 10€ sur le web – pas d’engagements sur la ligne\n\n  \nOuverture des engagements: le 17/04/2026\, clôture le mercredi 17/06/2026 à 20h \nRenseignements: RENAULT Anthony – a.renault44@gmail.com – 0783043297
URL:https://www.cyclisme.bzh/epreuve-calendrier/monterfil-championnat-dille-et-vilaine-de-lavenir-u15-u17-et-u19/
LOCATION:MONTERFIL\, 35160\, France
CATEGORIES:U15,U17,U19
ORGANIZER;CN="VC PLELANAIS (4335037)":MAILTO:gmenage@laposte.net vcplelan@outlook.fr
END:VEVENT
BEGIN:VEVENT
DTSTART;VALUE=DATE:20260628
DTEND;VALUE=DATE:20260629
DTSTAMP:20260420T153805
CREATED:20260415T082742Z
LAST-MODIFIED:20260415T082745Z
UID:10003495-1782604800-1782691199@www.cyclisme.bzh
SUMMARY:Locminé - butte de Quistinic - Coupe de Bretagne VTT XC
DESCRIPTION:9h15 – 11h00: courses jeunes (U9-U11-U13 à 7€ – U15 à 11€)\n12h00: Départementaux\, Masters\, Femmes 17 ans et + à 12.50€ – U17 F à 11€\n14h00: U17 H à 11€\n15h30: U19 H et Elites à 12.50€\n\n  \nOuverture des engagements: le 15/04/2026  clôture le jeudi 25/06/2026 à 20h \nRenseignements: Romuald GILLARD 06-99-73-17-06 dynamic.bike56@orange.fr
URL:https://www.cyclisme.bzh/epreuve-calendrier/locmine-butte-de-quistinic-coupe-de-bretagne-vtt-xc/
LOCATION:Locminé
CATEGORIES:Access,Elite,Open,U11,U13,U15,U17,U17 F,U19,U19 F,U9
END:VEVENT
END:VCALENDAR