BEGIN:VCALENDAR
VERSION:2.0
PRODID:-//Comité de Bretagne de Cyclisme - ECPv6.15.20//NONSGML v1.0//EN
CALSCALE:GREGORIAN
METHOD:PUBLISH
X-ORIGINAL-URL:https://www.cyclisme.bzh
X-WR-CALDESC:Évènements pour Comité de Bretagne de Cyclisme
REFRESH-INTERVAL;VALUE=DURATION:PT1H
X-Robots-Tag:noindex
X-PUBLISHED-TTL:PT1H
BEGIN:VTIMEZONE
TZID:Europe/Paris
BEGIN:DAYLIGHT
TZOFFSETFROM:+0100
TZOFFSETTO:+0200
TZNAME:CEST
DTSTART:20250330T010000
END:DAYLIGHT
BEGIN:STANDARD
TZOFFSETFROM:+0200
TZOFFSETTO:+0100
TZNAME:CET
DTSTART:20251026T010000
END:STANDARD
BEGIN:DAYLIGHT
TZOFFSETFROM:+0100
TZOFFSETTO:+0200
TZNAME:CEST
DTSTART:20260329T010000
END:DAYLIGHT
BEGIN:STANDARD
TZOFFSETFROM:+0200
TZOFFSETTO:+0100
TZNAME:CET
DTSTART:20261025T010000
END:STANDARD
BEGIN:DAYLIGHT
TZOFFSETFROM:+0100
TZOFFSETTO:+0200
TZNAME:CEST
DTSTART:20270328T010000
END:DAYLIGHT
BEGIN:STANDARD
TZOFFSETFROM:+0200
TZOFFSETTO:+0100
TZNAME:CET
DTSTART:20271031T010000
END:STANDARD
END:VTIMEZONE
BEGIN:VEVENT
DTSTART;VALUE=DATE:20260627
DTEND;VALUE=DATE:20260628
DTSTAMP:20260425T124807
CREATED:20260423T125752Z
LAST-MODIFIED:20260423T125752Z
UID:10003531-1782518400-1782604799@www.cyclisme.bzh
SUMMARY:Loyat
DESCRIPTION:Régularité route – U7 H/F à U13 H/F: \n\ndépart: 11h30\ndistance selon l’âge\nEngagements: 3€\n\n  \nU15 H/F + U17 F: \n\ndépart: 14h00\n5 tours x 6.8 km = 34 km\nPrix coureurs: 107/10\, 1er 20€\nEngagements: 6.50€ sur le web – 8.50€ sur la ligne\n\n  \nU17 H/F: \n\ndépart: 15h30\n9 tours x 6.8 km = 61.2 km\nPrix coureurs: 138/10\, 1er 28€\nEngagements: 6.50€ sur le web – 8.50€ sur la ligne\n\n  \nAccess 1-2-3-4 H/F: \n\n2 départs:\n\n– Access 1-2: 17h30 \n– Access 3-4: 17h33 \n\n11 tours x 6.8 km = 74.8 km\nEngagements: 9€\n\n  \nOuverture des engagements: à venir… \nclôture le jeudi 25/06/2026 à 20h \nRenseignements: HAVART Jean Pierre – jeanpierrehavart@orange.fr / 06.84.12.35.33
URL:https://www.cyclisme.bzh/epreuve-calendrier/loyat/
LOCATION:LOYAT\, 56800\, France
CATEGORIES:Access 1,Access 2,Access 3,Access 4,U11,U13,U15,U17,U7,U9
ORGANIZER;CN="TEAM IMMO GOLFE (4356456)":MAILTO:team.immogolfe@orange.fr
END:VEVENT
BEGIN:VEVENT
DTSTART;VALUE=DATE:20260628
DTEND;VALUE=DATE:20260629
DTSTAMP:20260425T124807
CREATED:20260317T151021Z
LAST-MODIFIED:20260320T100104Z
UID:10003419-1782604800-1782691199@www.cyclisme.bzh
SUMMARY:Chatelaudren Plouagat - Championnats de Bretagne des Open 2-3 H et des Access 1-2-3-4 H
DESCRIPTION:Access 1-2-3-4 H sauf U19: \n\nAccess 1: 9h30 – 11 tours x 7.5 km\nAccess 2: 9h32 – 10 tours x 7.5 km\nAccess 3: 13h00 – 8 tours x 7.5 km\nAccess 4: 13h02 – 7 tours x 7.5 km\nEngagements: 11€\n\n  \nOpen 2-3 H sauf U19: \n\ndépart: 15h30\n13 tours x 7.5 km\nEngagements: 11€\n\n  \nOuverture des engagements: le 17/03/2026 à 18h\, clôture le mardi 23/06/2026 à 20h \nRenseignements: EVENOU Sébastien – president@vcpg22.fr / Port: 07.88.00.37.90
URL:https://www.cyclisme.bzh/epreuve-calendrier/chatelaudren-plouagat-championnats-de-bretagne-des-open-2-3-h-et-des-access-1-2-3-4-h/
LOCATION:CHATELAUDREN PLOUAGAT\, 22170\, France
CATEGORIES:Access,Open
ORGANIZER;CN="VC PAYS DE GUINGAMP 22 (4322188)":MAILTO:President@vcpg22.fr
END:VEVENT
BEGIN:VEVENT
DTSTART;VALUE=DATE:20260628
DTEND;VALUE=DATE:20260629
DTSTAMP:20260425T124807
CREATED:20260415T082742Z
LAST-MODIFIED:20260415T082745Z
UID:10003495-1782604800-1782691199@www.cyclisme.bzh
SUMMARY:Locminé - butte de Quistinic - Coupe de Bretagne VTT XC
DESCRIPTION:9h15 – 11h00: courses jeunes (U9-U11-U13 à 7€ – U15 à 11€)\n12h00: Départementaux\, Masters\, Femmes 17 ans et + à 12.50€ – U17 F à 11€\n14h00: U17 H à 11€\n15h30: U19 H et Elites à 12.50€\n\n  \nOuverture des engagements: le 15/04/2026  clôture le jeudi 25/06/2026 à 20h \nRenseignements: Romuald GILLARD 06-99-73-17-06 dynamic.bike56@orange.fr
URL:https://www.cyclisme.bzh/epreuve-calendrier/locmine-butte-de-quistinic-coupe-de-bretagne-vtt-xc/
LOCATION:Locminé
CATEGORIES:Access,Elite,Open,U11,U13,U15,U17,U17 F,U19,U19 F,U9
END:VEVENT
BEGIN:VEVENT
DTSTART;VALUE=DATE:20260906
DTEND;VALUE=DATE:20260907
DTSTAMP:20260425T124807
CREATED:20260423T141455Z
LAST-MODIFIED:20260423T141753Z
UID:10003534-1788652800-1788739199@www.cyclisme.bzh
SUMMARY:Le Ménec - Trévé Loudéac
DESCRIPTION:Tous les compétiteurs U7 à U13 et leurs parents auront la possibilité de manger à la Chapelle du Ménec où seront servis plus de 200 repas. \n  \nRégularité route – U7 H/F à U13 H/F: \n\ndépart: 12h30\ndistance selon l’âge\nEngagements: 3€\n\n  \nU15 H/ F + U17 F: \n\ndépart: 14h00\n10 tours x 3.4 km = 34 km\nPrix coureurs; 107/10\, 1er 20€\nEngagements: 6.50€ sur le web – 8.50€ sur la ligne\n\n  \nOpen 3 + Access 1-2-3-4 H/F: \n\ndépart: 15h30\n25 tours x 3.4 km = 85 km\nPrix coureurs: 305/15\, 1er 61€\nPrix spéciaux U19: 28/3\, 1er 15€\nEngagements: 9€ sur le web – 12€ sur la ligne\n\n  \nOuverture des engagements: le 23/04/2026 à 18h\, clôture le jeudi 03/09/2026 à 20h \nRenseignements: CONNAN Christian – e-mail: christian.connan2@wanadoo.fr / Port: 06.30.29.64.83
URL:https://www.cyclisme.bzh/epreuve-calendrier/le-menec-treve-loudeac-5/
LOCATION:Le Menec Trévé
CATEGORIES:Access 1,Access 2,Access 3,Access 4,Open 3,U11,U13,U15,U7,U9
ORGANIZER;CN="VC LOUDEAC 38 (4322004)":MAILTO:rene.fercoq@neuf.fr
END:VEVENT
END:VCALENDAR