BEGIN:VCALENDAR
VERSION:2.0
PRODID:-//Comité de Bretagne de Cyclisme - ECPv6.15.20//NONSGML v1.0//EN
CALSCALE:GREGORIAN
METHOD:PUBLISH
X-ORIGINAL-URL:https://www.cyclisme.bzh
X-WR-CALDESC:Évènements pour Comité de Bretagne de Cyclisme
REFRESH-INTERVAL;VALUE=DURATION:PT1H
X-Robots-Tag:noindex
X-PUBLISHED-TTL:PT1H
BEGIN:VTIMEZONE
TZID:Europe/Paris
BEGIN:DAYLIGHT
TZOFFSETFROM:+0100
TZOFFSETTO:+0200
TZNAME:CEST
DTSTART:20220327T010000
END:DAYLIGHT
BEGIN:STANDARD
TZOFFSETFROM:+0200
TZOFFSETTO:+0100
TZNAME:CET
DTSTART:20221030T010000
END:STANDARD
BEGIN:DAYLIGHT
TZOFFSETFROM:+0100
TZOFFSETTO:+0200
TZNAME:CEST
DTSTART:20230326T010000
END:DAYLIGHT
BEGIN:STANDARD
TZOFFSETFROM:+0200
TZOFFSETTO:+0100
TZNAME:CET
DTSTART:20231029T010000
END:STANDARD
BEGIN:DAYLIGHT
TZOFFSETFROM:+0100
TZOFFSETTO:+0200
TZNAME:CEST
DTSTART:20240331T010000
END:DAYLIGHT
BEGIN:STANDARD
TZOFFSETFROM:+0200
TZOFFSETTO:+0100
TZNAME:CET
DTSTART:20241027T010000
END:STANDARD
END:VTIMEZONE
BEGIN:VEVENT
DTSTART;VALUE=DATE:20230620
DTEND;VALUE=DATE:20230621
DTSTAMP:20260421T221610
CREATED:20230522T113837Z
LAST-MODIFIED:20230522T113837Z
UID:10001934-1687219200-1687305599@www.cyclisme.bzh
SUMMARY:Landerneau - Grand  Prix de la Ville - Open 1-2-3 + Access 1-2 H/F
DESCRIPTION:Open 1-2-3 + Access 1-2 H/F: \n\nDépart: 19h30\n50 tours x 1.6 kms (80 kms)\nPrix coureurs: 259/15\, 1er 50€\nEngagements: 8.50€\n\n  \nOuverture des engagements: le 22/05/2023 à 18h\, clôture le 18/06/2023 à 20h \nRenseignements: LE GALL Jérôme – e-mail: legalljerome.ecl@orange.fr / Port: 06.88.75.52.72
URL:https://www.cyclisme.bzh/epreuve-calendrier/landerneau-grand-prix-de-la-ville-open-1-2-3-access-1-2-h-f/
LOCATION:LANDERNEAU\, France
CATEGORIES:Access 1,Access 2,Open 1,Open 2,Open 3
ORGANIZER;CN="EC Landerneau":MAILTO:legalljerome.ecl@orange.fr
END:VEVENT
BEGIN:VEVENT
DTSTART;VALUE=DATE:20230621
DTEND;VALUE=DATE:20230622
DTSTAMP:20260421T221610
CREATED:20230519T121856Z
LAST-MODIFIED:20230525T094634Z
UID:10001927-1687305600-1687391999@www.cyclisme.bzh
SUMMARY:Pluduno - Trophée Dinan Agglo
DESCRIPTION:Epreuve limitée à 120 coureurs \nPas d’engagement sur place \n  \nAccess 1-2-3-4 H/F: \n\nDépart: 19h\n27 tours x 1.7 kms (45.9 kms)\nEngagements: 8.50€\n\n  \nOpen 1-2-3 H: \n\nDépart: 20h15\n39 tours x 1.7 kms (66.3 kms)\nPrix coureurs: 366/15\, 1er 78€\nEngagements: 8.50€\n\n  \nOuverture des engagements: le 19/05/2023 à 18h\, clôture le 18/06/2023 à 20h \nRenseignements: COLIN Yves – 06.14.24.33.04 \n  \nLire en plein écranAller au contenu PDF
URL:https://www.cyclisme.bzh/epreuve-calendrier/pluduno-trophee-dinan-agglo/
CATEGORIES:Access 1,Access 2,Access 3,Access 4,Open 1,Open 2,Open 3
ORGANIZER;CN="CC PLANCOETIN (4322069)":MAILTO:ccycloclubplancoetin@sfr.fr
END:VEVENT
BEGIN:VEVENT
DTSTART;VALUE=DATE:20230622
DTEND;VALUE=DATE:20230623
DTSTAMP:20260421T221610
CREATED:20230519T124924Z
LAST-MODIFIED:20230519T124924Z
UID:10001928-1687392000-1687478399@www.cyclisme.bzh
SUMMARY:St René Hillion - Access 1-2-3-4 H/F // Elite + Open 1-2-3 H/F
DESCRIPTION:Access 1-2-3-4 H/F: \n\nDépart: 18h\n20 tours x 3.3 kms (66 kms)\nEngagements: 8.50€\n\n  \nElite + Open 1-2-3 H/F: \n\nDépart: 20h\n25 tours x 3.3 kms (82.5 kms)\nPrix coureurs: 610/20\, 1er 122€\nEngagements: 8.50€\n\n  \nOuverture des engagements: le 19/05/2023 à 18h\, clôture le 19/06/2023 à 20h \nRenseignements: GOUEDARD Michel – gouedard-monique@wanadoo.fr / Port: 06.38.94.46.18 \n 
URL:https://www.cyclisme.bzh/epreuve-calendrier/st-rene-hillion-access-1-2-3-4-h-f-elite-open-1-2-3-h-f/
LOCATION:ST RENE HILLION\, ST RENE HILLION\, Bretagne\, France
CATEGORIES:Access 1,Access 2,Access 3,Access 4,Elite,Open 1,Open 2,Open 3
ORGANIZER;CN="UC BRIOCHINE (4322028)":MAILTO:unioncyclistebriochine@gmail.com
END:VEVENT
BEGIN:VEVENT
DTSTART;VALUE=DATE:20230623
DTEND;VALUE=DATE:20230624
DTSTAMP:20260421T221610
CREATED:20230519T131723Z
LAST-MODIFIED:20230522T070431Z
UID:10001929-1687478400-1687564799@www.cyclisme.bzh
SUMMARY:Piré-Chancé - Trophée Pays de Chateaugiron Communauté
DESCRIPTION:Epreuve limitée à 120 coureurs \n  \nOpen 3 + Access 1-2-3-4 H/F: \n\nDépart: 19h15\n25 tours x 3.6 kms (90 kms)\nEngagements: 8.50€\n\n  \nOuverture des engagements: le 19/05/2023 à 18h\, clôture le 20/06/2023 à 20h \nRenseignements: MADIOT Jean Claude – e-mail: jeanclaude.madiot1@orange.fr / Port: 06.63.73.95.38
URL:https://www.cyclisme.bzh/epreuve-calendrier/pire-chance-trophee-pays-de-chateaugiron-communaute/
LOCATION:Piré-Chancé\, France
CATEGORIES:Access 1,Access 2,Access 3,Access 4,Open 3
END:VEVENT
BEGIN:VEVENT
DTSTART;VALUE=DATE:20230623
DTEND;VALUE=DATE:20230624
DTSTAMP:20260421T221610
CREATED:20230519T133543Z
LAST-MODIFIED:20230519T133543Z
UID:10001930-1687478400-1687564799@www.cyclisme.bzh
SUMMARY:Guipavas "Bourg" - Open 2-3 + Access 1-2 H/F
DESCRIPTION:Open 2-3 + Access 1-2 H/F: \n\nDépart: 19h45\n33 tours x 2.4 kms (79.2 kms)\nPrix coureurs: 442/20\, 1er 88€\nEngagements: 8.50€\n\n  \nOuverture des engagements: le 19/05/2023 à 18h\, clôture le 20/06/2023 à 20h \nRenseignements: LE ROUX Laurence – e-mail: ucg29@laposte.net / Port: 06.87.14.30.24
URL:https://www.cyclisme.bzh/epreuve-calendrier/guipavas-bourg-open-2-3-access-1-2-h-f/
LOCATION:GUIPAVAS
CATEGORIES:Access 1,Access 2,Open 2,Open 3
ORGANIZER;CN="UC Guipavas":MAILTO:bernard.calvez29@orange.fr
END:VEVENT
BEGIN:VEVENT
DTSTART;VALUE=DATE:20230623
DTEND;VALUE=DATE:20230624
DTSTAMP:20260421T221610
CREATED:20230519T134733Z
LAST-MODIFIED:20230519T134733Z
UID:10001931-1687478400-1687564799@www.cyclisme.bzh
SUMMARY:Rieux - Grand Prix de la St-Jean - Access 1-2-3-4 H/F
DESCRIPTION:Access 1-2-3-4 H/F: \n\nDépart: 19h\n35 tours x 1.9 kms (66.5 kms)\nEngagements: 8.50€\n\n  \nOuverture des engagements: le 19/05/2023 à 18h\, clôture le 20/06/2023 à 20h \nRenseignements: LELIEVRE Romain – e-mail: romainlelievre2011@gmail.com / Port: 06.99.75.55.60
URL:https://www.cyclisme.bzh/epreuve-calendrier/rieux-grand-prix-de-la-st-jean-access-1-2-3-4-h-f/
LOCATION:RIEUX
CATEGORIES:Access 1,Access 2,Access 3,Access 4
END:VEVENT
BEGIN:VEVENT
DTSTART;VALUE=DATE:20230623
DTEND;VALUE=DATE:20230624
DTSTAMP:20260421T221610
CREATED:20230522T120809Z
LAST-MODIFIED:20230619T133715Z
UID:10001935-1687478400-1687564799@www.cyclisme.bzh
SUMMARY:Pluvigner - Semi-nocturne - Femmes 17 ans et + / Access 1-2-3-4 H
DESCRIPTION:Femmes 17 ans et +: \n\nDépart: 21h\n30 tours x 2 kms (60 kms)\nPrix coureurs: 366/15\, 1ère 73€\nEngagements: 8.50€\n\n  \nAccess 1-2-3-4 H: \n\nDépart: 19h\n32 tours x 2 kms (64 kms)\nEngagements: 8.50€\n\n  \nOuverture des engagements: le 22/05/2023 à 18h\, clôture le 21/06/2023 à 20h \nRenseignements: GUEGAN Jean Claude – e-mail: guegan56330@orange.fr / Port: 06.42.66.29.82 \n 
URL:https://www.cyclisme.bzh/epreuve-calendrier/pluvigner-semi-nocturne-femmes-17-ans-et-access-1-2-3-4-h/
LOCATION:PLUVIGNER\, PLUVIGNER\, Bretagne\, France
CATEGORIES:Access 1,Access 2,Access 3,Access 4,Femmes 17 ans et +
ORGANIZER;CN="EC PLUVIGNOISE (4356136)":MAILTO:ecp56330@gmail.com
END:VEVENT
BEGIN:VEVENT
DTSTART;VALUE=DATE:20230623
DTEND;VALUE=DATE:20230624
DTSTAMP:20260421T221610
CREATED:20230522T123416Z
LAST-MODIFIED:20230620T142923Z
UID:10001936-1687478400-1687564799@www.cyclisme.bzh
SUMMARY:Ruca Clos Noël - Access 1-2-3-4 H/F // OPEN 2-3 H/F
DESCRIPTION:Access 1-2-3-4 H/F: \n\nDépart: 18h15\n20 tours x 3.1 kms (62 kms)\nEngagements: 8.50€\n\n  \nOpen 2-3 H/F: \n\nDépart: 20h\n27 tours x 3.1 kms (83.7 kms)\nPrix coureurs: 274/15\, 1er 53€\nEngagements: 8.50€\n\n  \nOuverture des engagements: le 22/05/2023 à 18h\, clôture le 21/06/2023 à 20h \nRenseignements: PERCHE Dominique – e-mail: vcplurien-perche@orange.fr / Port: 06.76.78.78.58
URL:https://www.cyclisme.bzh/epreuve-calendrier/ruca-clos-noel-access-1-2-3-4-h-f-open-2-3-h-f/
LOCATION:RUCA\, RUCA\, Bretagne\, France
CATEGORIES:Access 1,Access 2,Access 3,Access 4,Open 2,Open 3
END:VEVENT
BEGIN:VEVENT
DTSTART;VALUE=DATE:20230624
DTEND;VALUE=DATE:20230625
DTSTAMP:20260421T221610
CREATED:20230522T131957Z
LAST-MODIFIED:20230522T131957Z
UID:10001937-1687564800-1687651199@www.cyclisme.bzh
SUMMARY:St Seglin
DESCRIPTION:U17 H/F: \nLimité à 100 coureurs \n\nDépart: 13h30\n8 tours x 6.5 kms (52 kms)\nPrix coureurs: 138/10\, 1er 28€\nEngagements: 6.40€\n\n  \nU15 H/F + U17 F: \nLimité à 100 coureurs \n\nDépart: 13h32\n5 tours x 6.5 kms (32.5 kms)\nPrix coureurs: 107/10\, 1er 20€\nEngagements: 6.50€\n\n  \nOpen 3 + Access 1-2-3-4 H/F: \n\n2 départs:\n\n– Open 3 + Access 1-2: 15h30 – 12 tours x 6.5 kms (78 kms) \n– Access 3-4: 15h32 – 10 tours x 6.5 kms (65 kms) \n\nEngagements: 8.50€\n\n  \nOuverture des engagements: le 22/05/2023 à 18h\, clôture le 21/06/2023 à 20h \nRenseignements: GICQUEL Pierre – e-mail: gicquelpierre@orange.fr / Port: 06.83.08.95.83
URL:https://www.cyclisme.bzh/epreuve-calendrier/st-seglin/
LOCATION:ST SEGLIN\, France
CATEGORIES:Access 1,Access 2,Access 3,Access 4,Open 3,U15,U17,U17 F
ORGANIZER;CN="REDON OC":MAILTO:ludo.ducloyer@orange.fr
END:VEVENT
BEGIN:VEVENT
DTSTART;VALUE=DATE:20230624
DTEND;VALUE=DATE:20230625
DTSTAMP:20260421T221610
CREATED:20230530T110701Z
LAST-MODIFIED:20230620T115858Z
UID:10001962-1687564800-1687651199@www.cyclisme.bzh
SUMMARY:Pordic - Vélodrome Jacques Prigent - Coupe de Bretagne H/F + Championnat de Bretagne du sprint et du 500 m Dames 17 ans et +
DESCRIPTION:Ouverture des engagements: le 30/05/2023 à 18h\, clôture le 21/06/2023 à 20h \nLire en plein écranAller au contenu PDF
URL:https://www.cyclisme.bzh/epreuve-calendrier/pordic-velodrome-jacques-prigent-3eme-manche-et-finale-de-la-coupe-de-bretagne-h-f-championnat-de-bretagne-du-sprint-et-du-500-m-dames-17-ans-et/
LOCATION:PORDIC VELODROME\, PORDIC VELODROME\, Bretagne\, France
CATEGORIES:Access,Elite,Open,U15,U17
ORGANIZER;CN="EP PORDIC AADP":MAILTO:jacques.quemard@orange.fr
END:VEVENT
BEGIN:VEVENT
DTSTART;VALUE=DATE:20230625
DTEND;VALUE=DATE:20230626
DTSTAMP:20260421T221610
CREATED:20230522T140445Z
LAST-MODIFIED:20230523T120426Z
UID:10001938-1687651200-1687737599@www.cyclisme.bzh
SUMMARY:L'hermitage - Championnat départemental 35 - Access 1-2 H et Access 3-4 H sauf U19
DESCRIPTION:Access 3-4 H sauf U19: \n\nDépart: 13h\nAccess 3: 10 tours x 6.7 kms (67 kms)\nAccess 4: 9 tours x 6.7 kms (60.3 kms)\nEngagements: 8.50€\n\n  \nAccess 1-2 H sauf U19: \n\nDépart: 15h30\nAccess 1: 12 tours x 6.7 kms (80.4 kms)\nAccess 2: 11 tours x 6.7 kms (73.7 kms)\nEngagements: 8.50€\n\n  \nOuverture des engagements: le 22/05/2023 à 18h\, clôture le 22/06/2023 à 20h \nRenseignements: FRIN Patrick – e-mail: patrick.frin@orange.fr / Port: 06.38.35.88.66
URL:https://www.cyclisme.bzh/epreuve-calendrier/lhermitage-championnat-departemental-35-access-1-2-h-et-access-3-4-h-sauf-u19/
LOCATION:L’HERMITAGE\, France
CATEGORIES:Access 1,Access 2,Access 3,Access 4
ATTACH;FMTTYPE=application/pdf:https://www.cyclisme.bzh/wp-content/uploads/2023/05/affiche-courses-2023-4-3.pdf
ORGANIZER;CN="CC RENNAIS (4335078)":MAILTO:patrick.frin@orange.fr
END:VEVENT
BEGIN:VEVENT
DTSTART;VALUE=DATE:20230625
DTEND;VALUE=DATE:20230626
DTSTAMP:20260421T221610
CREATED:20230523T070450Z
LAST-MODIFIED:20230621T091642Z
UID:10001939-1687651200-1687737599@www.cyclisme.bzh
SUMMARY:Taupont - Trophée Régional Jeunes Vététistes + TDJV 56 TRIAL
DESCRIPTION:Lieu de l’épreuve: Lande de Lambilly 56800 TAUPONT \nProgramme: \n\n9h30: Trial toutes catégories\n13h30: Course U9 H/F\n14h: Course U11 H/F\n14h30: Course U13 H/F\n15h15: Course U15 H/F\n16h15: Course U17 H/F\n17h30-18h: Classement et podiums\n\n  \nEngagements: 5€ pour les U9 à U13 – 7€ pour les U15 et U17 \n  \nOuverture des engagements: le 22/05/2023 à 18h\, clôture le 22/06/2023 à 20h \nRenseignements: RICHARD Jérôme – e-mail: richardjerome64@gmail.com / Port: 06.24.43.49.31 \n 
URL:https://www.cyclisme.bzh/epreuve-calendrier/taupont-trophee-regional-jeunes-vetetistes/
LOCATION:TAUPONT\, France
CATEGORIES:U11,U13,U15,U17,U9
ORGANIZER;CN="VELO TAUPONT (4356231)":MAILTO:richardjerome64@gmail.com
END:VEVENT
BEGIN:VEVENT
DTSTART;VALUE=DATE:20230625
DTEND;VALUE=DATE:20230626
DTSTAMP:20260421T221610
CREATED:20230523T120234Z
LAST-MODIFIED:20230623T074134Z
UID:10001942-1687651200-1687737599@www.cyclisme.bzh
SUMMARY:Pencran - Finale de la Coupe de Bretagne Campings-cars Jacqueline
DESCRIPTION:U15 F + U17 F: \n\nDépart: 14H03\nU15 F: 6 tours x 5.5 kms (33 kms) – Prix coureurs: 138/10\, 1ère 28€\nU17 F: 9 tours x 5.5 kms (49.5 kms) – Prix coureurs: 183/10\, 1ère 37€\nEngagements: 6.50€\n\n  \nFemmes 17 ans et +: \n\nDépart: 14h\n15 tours x 5.5 kms (82.5 kms)\nPrix coureurs: 320/15\, 1ère 51€\nEngagements: 8.50€\n\n  \nOuverture des engagements: le 23/05/2023 à 18h\, clôture le 22/06/2023 à 20h \nRenseignements: LE GALL Jérôme – e-mail: legalljerome.ecl@orange.fr / Port: 06.88.75.52.72 \nLa finale à Pencran est obligatoire pour figurer dans le classement final sauf pour les filles en sélection\, ce qui concerne les filles de Lanester qui seront au championnat de France ce week-end (Sylvia Le Gleut\, Marie Camenen\, Loreleï Vachey et Angelina Robic conserveront leurs points déjà acquis et figureront donc au classement général final). Il n’y a par contre pas de points de compensation.
URL:https://www.cyclisme.bzh/epreuve-calendrier/pencran-coupe-de-bretagne-et-finale-challenge-jacqueline/
LOCATION:Pencran\, France
CATEGORIES:Femmes 17 ans et +,U15 F,U17 F
ATTACH;FMTTYPE=image/jpeg:https://www.cyclisme.bzh/wp-content/uploads/2021/11/jacqueline.jpg
ORGANIZER;CN="EC Landerneau":MAILTO:legalljerome.ecl@orange.fr
END:VEVENT
BEGIN:VEVENT
DTSTART;VALUE=DATE:20230625
DTEND;VALUE=DATE:20230626
DTSTAMP:20260421T221610
CREATED:20230523T122214Z
LAST-MODIFIED:20230523T122214Z
UID:10001943-1687651200-1687737599@www.cyclisme.bzh
SUMMARY:La Gacilly - Access 1-2-3-4 H // Open 1-2-3 + Access 1 H
DESCRIPTION:Access 1-2-3-4 H: \n\n2 départs:\n\n– Access 1-2: 13h – 14 tours x 4.7 kms (65.8 kms) \n– Access 3-4: 13h01 – 13 tours x 4.7 kms (61.1 kms) \n\nEngagements: 8.50€\n\n  \nOpen 1-2-3 + Access 1 H: \n\nDépart: 15h30\n22 tours x 4.7 kms (103.4 kms)\nPrix coureurs: 335/15\, 1er 65€\nEngagements: 8.50€\n\n  \nOuverture des engagements: le 23/05/2023 à 18h\, clôture le 22/06/2023 à 20h \nRenseignements: JOUAN Ludovic – e-mail: jouan.ludo@gmail.com / Port: 07.66.09.04.66
URL:https://www.cyclisme.bzh/epreuve-calendrier/la-gacilly-access-1-2-3-4-h-open-1-2-3-access-1-h/
LOCATION:LA GACILLY\, LA GACILLY\, Bretagne\, France
CATEGORIES:Access 1,Access 2,Access 3,Access 4,Open 1,Open 2,Open 3
END:VEVENT
BEGIN:VEVENT
DTSTART;VALUE=DATE:20230625
DTEND;VALUE=DATE:20230626
DTSTAMP:20260421T221610
CREATED:20230523T125717Z
LAST-MODIFIED:20230621T091606Z
UID:10001944-1687651200-1687737599@www.cyclisme.bzh
SUMMARY:Rostrenen - Espoirs du Vélo U15 H et Coupe de Bretagne U17 et U19 H
DESCRIPTION:U15 H – Espoirs du Vélo \n\nDépart: 13h\n5 tours x 5.4 kms (27 kms)\nEngagements: 6.50€\n\n  \nU17 H – Coupe de Bretagne \n\nDépart: 10h\n10 tours x 5.4 kms (54 kms)\nEngagements: 6.50€\n\n  \nU19 H – Coupe de Bretagne  \n\nDépart: 14h30\n13 tours x 8.3 kms (107.9 kms)\nEngagements: 8.50€\n\n  \nOuverture des engagements: le 23/05/2023 à 18h\, clôture le 22/06/2023 à 20h \nRenseignements: MONCHAUX Michel – e-mail: michelmonchaux@orange.fr / Port: 06.07.24.23.44
URL:https://www.cyclisme.bzh/epreuve-calendrier/rostrenen-espoirs-du-velo-u15-h-et-coupe-de-bretagne-u17-et-u19-h/
LOCATION:ROSTRENEN\, ROSTRENEN\, Bretagne\, France
CATEGORIES:U15,U17,U19
ATTACH;FMTTYPE=image/jpeg:https://www.cyclisme.bzh/wp-content/uploads/2023/05/affiche-ROSTRENEN-Miniou-Coupe-BZH-25.06.2023-scaled.jpg
END:VEVENT
BEGIN:VEVENT
DTSTART;VALUE=DATE:20230625
DTEND;VALUE=DATE:20230626
DTSTAMP:20260421T221610
CREATED:20230525T093757Z
LAST-MODIFIED:20230525T093757Z
UID:10001951-1687651200-1687737599@www.cyclisme.bzh
SUMMARY:Coetmieux - Access 1-2-3-4 H
DESCRIPTION:Access 3-4 H: \n\nDépart: 13h30\n16 tours x 4.2 kms (67.2 kms)\nEngagements: 8.50€\n\n  \nAccess 1-2 H: \n\nDépart: 15h30\n20 tours x 4.2 kms (84 kms)\nEngagements: 8.50€\n\n  \nOuverture des engagements: le 25/05/2023 à 18h\, clôture le 22/06/2023 à 20h \nRenseignements: JEUNEU Nicole – e-mail: nicole.jeuneu@gmail.com / Port: 06.35.92.06.60 \n 
URL:https://www.cyclisme.bzh/epreuve-calendrier/coetmieux-access-1-2-3-4-h/
LOCATION:Coëtmieux
CATEGORIES:Access 1,Access 2,Access 3,Access 4
ORGANIZER;CN="ACCRO CYCLES COTE D'EMERAUDE (4322399)":MAILTO:eb.trotel@gmail.com
END:VEVENT
BEGIN:VEVENT
DTSTART;VALUE=DATE:20230625
DTEND;VALUE=DATE:20230626
DTSTAMP:20260421T221610
CREATED:20230605T113125Z
LAST-MODIFIED:20230609T111845Z
UID:10001968-1687651200-1687737599@www.cyclisme.bzh
SUMMARY:Quimper St Evarzec - Régularité route / U15 H / U17 H / Open 3 + Access 1-2-3-4 H
DESCRIPTION:Régularité route – U7 H/F à U13 H/F:  \nFinale du Challenge Cornouaille Sud \n\nDépart: 13h30\nDistance selon l’âge\nEngagements: 2€\n\n  \nU15 H: \n\nDépart: 14h45\n11 tours x 2.2 kms (24.2 kms)\nPrix coureurs: 107/10\, 1er 20€\nEngagements: 6.50€\n\n  \nU17 H: \n\nDépart: 10h30\n27 tours x 2.2 kms (59.4 kms)\nPrix coureurs: 107/10\, 1er 20€\nEngagements: 6.50€\n\n  \nOpen 3 + Access 1-2-3-4 H: \n\nDépart: 16h\n36 tours x 2.2 kms (79.2 kms)\nPrix coureurs: 183/10\, 1er 37€\nEngagements: 8.50€\n\n  \nOuverture des engagements: le 05/06/2023 à 18h\, clôture le 22/06/2023 à 20h \nRenseignements: CALVEZ Nadine – e-mail:velosportquimper@gmail.com / Port: 06.79.33.54.88 \n 
URL:https://www.cyclisme.bzh/epreuve-calendrier/quimper-regularite-route-u15-h-u17-h-open-3-access-1-2-3-4-h/
LOCATION:QUIMPER ST EVARZEC
CATEGORIES:Access 1,Access 2,Access 3,Access 4,Open 3,U11,U13,U15,U17,U7,U9
ATTACH;FMTTYPE=image/png:https://www.cyclisme.bzh/wp-content/uploads/2023/06/Affiche-Saint-evarzec-20233.png
ORGANIZER;CN="VS QUIMPEROIS (4329032)":MAILTO:velosportquimper@gmail.com
END:VEVENT
BEGIN:VEVENT
DTSTART;VALUE=DATE:20230625
DTEND;VALUE=DATE:20230626
DTSTAMP:20260421T221610
CREATED:20230609T083443Z
LAST-MODIFIED:20230622T110907Z
UID:10001985-1687651200-1687737599@www.cyclisme.bzh
SUMMARY:Kerstran Brech - La Jacky Botherel
DESCRIPTION:Epreuves non ouvertes aux bretonnes féminines (Coupe de Bretagne féminine à Pencran) \n  \nU15 H: \n\nDépart: 13h32\n6 tours x 5.8 kms (34.8 kms)\nPrix coureurs: 107/10\, 1er 20€\nEngagements: 6.50€\n\n  \nU17 H: \n\nDépart: 13h30\n11 tours x 5.8 kms (63.8 kms)\nPrix coureurs: 138/10\, 1er 28€\nEngagements: 6.50€\n\n  \nOpen 2-3 + Access 1-2-3-4 H: \n\nDépart: 15h30\n15 tours x 5.8 kms (87 kms)\nPrix coureurs: 259/15\, 1er 50€\nEngagements: 8.50€\n\n  \nOuverture des engagements: le 09/06/2023 à 18h\, clôture le 22/06/2023 à 18h \nRenseignements: LE FALHER Jean-Pierre – e-mail: organisations@uc-auray.com / Port: 06.98.77.81.14
URL:https://www.cyclisme.bzh/epreuve-calendrier/kerstran-brech-la-jacky-botherel-2/
LOCATION:KERSTRAN BRECH\, KERSTRAN BRECH\, Bretagne\, France
CATEGORIES:Access 1,Access 2,Access 3,Access 4,Open 2,Open 3,U15,U17
END:VEVENT
BEGIN:VEVENT
DTSTART;VALUE=DATE:20230628
DTEND;VALUE=DATE:20230629
DTSTAMP:20260421T221610
CREATED:20230605T122000Z
LAST-MODIFIED:20230605T122000Z
UID:10001969-1687910400-1687996799@www.cyclisme.bzh
SUMMARY:La Landec - Trophée Dinan Agglomération
DESCRIPTION:Access 1-2-3-4 H + Femmes 17 ans et +: \n\nDépart: 19h\n15 tours x 3.1 kms (46.5 kms)\nEngagements: 8.50€\n\n  \nOpen 1-2-3 H: \n\nDépart: 20h15\n21 tours x 3.1 kms (65.1 kms)\nPrix coureurs: 366/15\, 1er 73€\nEngagements: 8.50€\n\n  \nOuverture des engagements: le 05/06/2023 à 18h\, clôture le 26/06/2023 à 20h \nRenseignements: LEBRAS Céline – e-mail: patrice.lebras@wanadoo.fr / Port: 06.32.29.94.52Lire en plein écranAller au contenu PDF
URL:https://www.cyclisme.bzh/epreuve-calendrier/la-landec-trophee-dinan-agglomeration/
LOCATION:LA LANDEC\, France
CATEGORIES:Access 1,Access 2,Access 3,Access 4,Femmes 17 ans et +,Open 1,Open 2,Open 3
ORGANIZER;CN="TEAM MEGRIT (4322459)":MAILTO:patrice.lebras@wanadoo.fr
END:VEVENT
BEGIN:VEVENT
DTSTART;VALUE=DATE:20230628
DTEND;VALUE=DATE:20230629
DTSTAMP:20260421T221610
CREATED:20230608T134737Z
LAST-MODIFIED:20230623T085711Z
UID:10001984-1687910400-1687996799@www.cyclisme.bzh
SUMMARY:Lanester - Grand Prix de la Ville
DESCRIPTION:Elite + Open 1-2-3 + Access 1-2 H/F: \n\nDépart: 19h\n26 tours x 3.5 kms (91 kms)\nPrix coureurs: 610/20\, 1er 122€\nPrix spéciaux U19: 91/5\, 1er 29€\nEngagements: 8.50€\n\n  \nOuverture des engagements: le 08/06/2023 à 18h\, clôture le 26/06/2023 à 20h \nRenseignements: LE CROM Stéphane – e-mail: contact@aclanester56.com / Port: 06.88.17.59.78
URL:https://www.cyclisme.bzh/epreuve-calendrier/lanester-circuit-des-jeunes-2/
LOCATION:Lanester\, France
CATEGORIES:Access 1,Access 2,Elite,Open 1,Open 2,Open 3
ORGANIZER;CN="AC LANESTER 56 (4356338)":MAILTO:contact@aclanester56.com
END:VEVENT
BEGIN:VEVENT
DTSTART;VALUE=DATE:20230630
DTEND;VALUE=DATE:20230701
DTSTAMP:20260421T221610
CREATED:20230523T132256Z
LAST-MODIFIED:20230621T145615Z
UID:10001945-1688083200-1688169599@www.cyclisme.bzh
SUMMARY:Quessoy - Semi-nocturne - Access 1-2-3-4 H/F et Elite + Open 1-2-3 H/F
DESCRIPTION:Access 1-2-3-4 H/F: \n\nDépart: 18h\n22 tours x 2.8 kms (61.6 kms)\nEngagements: 8.50€\n\n  \nElite + Open 1-2-3 H/F: \n\nDépart: 20h\n30 tours x 2.8 kms (84 kms)\nPrix coureurs: 610/20\, 1er 122€\nEngagements: 8.50€\n\n  \nOuverture des engagements: le 23/05/2023 à 18h\, clôture le 27/06/2023 à 20h \nRenseignements: GOUEDARD Michel – e-mail: gouedard-monique@wanadoo.fr / Port:  06.38.94.46.18
URL:https://www.cyclisme.bzh/epreuve-calendrier/quessoy-semi-nocturne-access-1-2-3-4-h-f-et-elite-open-1-2-3-h-f/
LOCATION:QUESSOY
CATEGORIES:Access 1,Access 2,Access 3,Access 4,Elite,Open 1,Open 2,Open 3
ATTACH;FMTTYPE=image/png:https://www.cyclisme.bzh/wp-content/uploads/2023/05/affiche-quessoy.png
ORGANIZER;CN="UC BRIOCHINE (4322028)":MAILTO:unioncyclistebriochine@gmail.com
END:VEVENT
BEGIN:VEVENT
DTSTART;VALUE=DATE:20230701
DTEND;VALUE=DATE:20230702
DTSTAMP:20260421T221610
CREATED:20230525T130720Z
LAST-MODIFIED:20230525T130720Z
UID:10001954-1688169600-1688255999@www.cyclisme.bzh
SUMMARY:Louvigné du Désert
DESCRIPTION:Access 3-4 H/F: \n\nDépart: 16h\n15 tours x 3.790 kms (56.85 kms)\nEngagements: 8.50€\n\n  \nOpen 3 + Access 1-2 H: \n\nDépart: 18h\n20 tours x 3.790 kms (75.8 kms)\nPrix coureurs: 259/15\, 1er 50€\nEngagements: 8.50€\n\n  \nOuverture des engagements: le 25/05/2023 à 18h\, clôture le 28/06/2023 à 20h \nRenseignements: HERMAN Bruno – e-mail: bruno.herman35@gmail.com / Port: 06.41.36.02.77 \n  \n 
URL:https://www.cyclisme.bzh/epreuve-calendrier/louvigne-du-desert-7/
LOCATION:LOUVIGNE DU DESERT\, LOUVIGNE DU DESERT\, Bretagne\, France
CATEGORIES:Access 1,Access 2,Access 3,Access 4,Open 3
ORGANIZER;CN="VCS LOUVIGNEEN":MAILTO:engagementsvcsl@outlook.fr
END:VEVENT
BEGIN:VEVENT
DTSTART;VALUE=DATE:20230701
DTEND;VALUE=DATE:20230702
DTSTAMP:20260421T221610
CREATED:20230525T140652Z
LAST-MODIFIED:20230525T140652Z
UID:10001956-1688169600-1688255999@www.cyclisme.bzh
SUMMARY:Ploudaniel - Souvenir Yvon MARREC
DESCRIPTION:Open 1-2-3 + Access 1 H/F: \n\nDépart: 17h30\n17 tours x 5.51 kms (93.67 kms)\nPrix coureurs: 518/20\, 1er 102€\nPrix spéciaux Open 3 + Access 1: 91/10\, 1er 17€\nEngagements: 8.50€\n\n  \nOuverture des engagements: le 25/05/2023 à 18h\, clôture le 28/06/2023 à 20h \nRenseignements: KERBIRIOU Laurence – e-mail: kerbiriou.laurence@wanadoo.fr / Port: 02.98.68.08.12 \n 
URL:https://www.cyclisme.bzh/epreuve-calendrier/ploudaniel-souvenir-yvon-marrec/
LOCATION:PLOUDANIEL\, PLOUDANIEL\, Bretagne\, France
CATEGORIES:Access 1,Open 1,Open 2,Open 3
ORGANIZER;CN="VS DRENNECOIS (4329116)":MAILTO:philippe.tel5929@orange.fr
END:VEVENT
BEGIN:VEVENT
DTSTART;VALUE=DATE:20230701
DTEND;VALUE=DATE:20230702
DTSTAMP:20260421T221610
CREATED:20230608T080820Z
LAST-MODIFIED:20230608T080820Z
UID:10001982-1688169600-1688255999@www.cyclisme.bzh
SUMMARY:Guillac - La Ronde Guillacoise
DESCRIPTION:Régularité route – U7 H/F à U13 H/F: \n\nDépart: 16h15\nDistance selon l’âge\nEngagements: 2€\n\n  \nOpen 1-2-3 + Access 1-2-3-4 H/F: \n\nDépart: 18h\n15 tours x 6.4 kms (96 kms)\nPrix coureurs: 459/20\, 1er 91€\nEngagements: 8.50€\n\n  \nOuverture des engagements: le 06/06/2023 à 18h\, clôture le 28/06/2023 à 19h \nRenseignements: BELLANGER Gaëtan – gaetan.bell@hotmail.fr / Port: 06.73.35.77.43 \n 
URL:https://www.cyclisme.bzh/epreuve-calendrier/guillac-la-ronde-guillacoise/
LOCATION:GUILLAC\, GUILLAC\, Bretagne\, France
CATEGORIES:Access 1,Access 2,Access 3,Access 4,Open 1,Open 2,Open 3,U11,U13,U7,U9
ORGANIZER;CN="UC PAYS DE JOSSELIN (4356215)":MAILTO:ucjosselin@hotmail.fr
END:VEVENT
BEGIN:VEVENT
DTSTART;VALUE=DATE:20230701
DTEND;VALUE=DATE:20230702
DTSTAMP:20260421T221610
CREATED:20230613T085618Z
LAST-MODIFIED:20230613T085618Z
UID:10001990-1688169600-1688255999@www.cyclisme.bzh
SUMMARY:St Brice en Cogles - Maen Roch
DESCRIPTION:Ecoles de cyclisme – U7 H/F à U15 H/F \n\nDépart: 12h30\nDistance selon l’âge pour les U7 à U13\nU15: départ: 14h15 – 10 tours x 2.5 kms (25 kms) – Prix coureurs: 107/10\, 1er 20€\nEngagements: gratuit\n\n  \nU17 H/F: \n\nDépart: 16h\n20 tours x 2.5 kms (50 kms)\nPrix coureurs: 107/10\, 1er 20€\nEngagements: 6.50€\n\n  \nOuverture des engagements: le 13/08/2023 à 18h\, clôture le 28/06/2023 à 20h \nRenseignements: MELLIER Frank – e-mail: frank.mellier@wanadoo.fr / Port: 06.11.25.25.96 \n 
URL:https://www.cyclisme.bzh/epreuve-calendrier/st-brice-en-cogles-maen-roch/
LOCATION:SAINT BRICE EN COGLES\, France
CATEGORIES:U11,U13,U15,U17,U7,U9
ORGANIZER;CN="TEAM TED DIT AUTISME (4335450)":MAILTO:teamtedditautisme@yahoo.com
END:VEVENT
BEGIN:VEVENT
DTSTART;VALUE=DATE:20230701
DTEND;VALUE=DATE:20230702
DTSTAMP:20260421T221610
CREATED:20230621T085553Z
LAST-MODIFIED:20230621T124402Z
UID:10002017-1688169600-1688255999@www.cyclisme.bzh
SUMMARY:Cleden Poher - Découverte de la piste - Vélodrome du Poher
DESCRIPTION:Epreuve ouverte qu’aux licenciés du département 29 \nU7 à U13 H/F: \n\nDépart: 14h\n\n  \nOuverture des engagements: le 21/06/2023 à 14h\, clôture le 29/06/2023 à 20h \nRenseignements: DOUAUD Fabien – e-mail: velodromedupoher@gmail.com / Port: 06.51.76.72.30 \n 
URL:https://www.cyclisme.bzh/epreuve-calendrier/cleden-poher-decouverte-de-la-piste-velodrome-du-poher/
LOCATION:CLEDEN POHER\, CLEDEN POHER\, Bretagne\, France
CATEGORIES:U11,U13,U7,U9
END:VEVENT
BEGIN:VEVENT
DTSTART;VALUE=DATE:20230702
DTEND;VALUE=DATE:20230703
DTSTAMP:20260421T221610
CREATED:20230523T142238Z
LAST-MODIFIED:20230523T142238Z
UID:10001946-1688256000-1688342399@www.cyclisme.bzh
SUMMARY:Bubry
DESCRIPTION:Régularité route – U7 H/F à U13 H/F: \n\nDépart: 13h30\nDistance selon l’âge\nEngagements: 2€\n\n  \nU15 H/F + U17 F: \n\nDépart: 15h\n6 tours x 4.2 kms (25.2 kms)\nEngagements: 6.50€\n\n  \nU17 H/F: \n\nDépart: 16h\n12 tours x 4.2 kms (50.4 kms)\nEngagements: 6.50€\n\n  \nOuverture des engagements: le 23/05/2023 à 18h\, clôture le 29/06/2023 à 20h \nRenseignements: CONTOR Emeline – e-mail: emeline.uci@orange.fr / Port: 06.10.72.82.94
URL:https://www.cyclisme.bzh/epreuve-calendrier/bubry/
LOCATION:BUBRY\, France
CATEGORIES:U11,U13,U15,U17,U7,U9
ORGANIZER;CN="UC INGUINIEL (4356125)":MAILTO:emeline.uci@orange.fr
END:VEVENT
BEGIN:VEVENT
DTSTART;VALUE=DATE:20230702
DTEND;VALUE=DATE:20230703
DTSTAMP:20260421T221610
CREATED:20230524T095705Z
LAST-MODIFIED:20230524T095705Z
UID:10001948-1688256000-1688342399@www.cyclisme.bzh
SUMMARY:Locminé - Coupe de Bretagne VTT XC
DESCRIPTION:Lieu de l’épreuve: Butte de Quistinic – Locminé \nDébut de l’épreuve: 9h15 \n  \nEngagements: \n\nU9 H/F – U11 H/F – U13 H/F: 7€\nU15 H/F – U17 H/F: 11€\nMasters 40-50 H – Départementaux H – Femmes 17 ans et + – Hommes 19 ans et + – U19 H: 12.50€\n\n  \nOuverture des engagements: le 24/05/2023 à 18h\, clôture le 29/06/2023 à 20h \nRenseignements: GILLARD Romuald (06.99.73.17.06) – dynamic.bike56@orange.fr
URL:https://www.cyclisme.bzh/epreuve-calendrier/locmine-coupe-de-bretagne-vtt-xc/
LOCATION:Locminé
CATEGORIES:Access,Elite,Epreuve de Masse VTT,Femmes 17 ans et +,Masters,Open,U11,U13,U15,U17,U19,U9
END:VEVENT
BEGIN:VEVENT
DTSTART;VALUE=DATE:20230702
DTEND;VALUE=DATE:20230703
DTSTAMP:20260421T221610
CREATED:20230609T132043Z
LAST-MODIFIED:20230609T132055Z
UID:10001986-1688256000-1688342399@www.cyclisme.bzh
SUMMARY:Manche Océan - Elite + Open 1
DESCRIPTION:Epreuve fédérale \nElite + Open 1 H: \n\nDépart: 13h30\n102.2 kms en ligne + 11 tours x 4.7 kms (153.9 kms)\nPrix coureurs: 1220/25\, 1er 197€\nPrix spéciaux Open 1: 152/5\, 1er 54€\nEngagements: 8.50€\n\n  \nOuverture des engagements: le 09/06/2023 à 18h\, clôture le 29/06/2023 à 20h \nRenseignements: LE FALHER Jean-Pierre – e-mail: organisations@uc-auray.com / Port: 06.98.77.81.14
URL:https://www.cyclisme.bzh/epreuve-calendrier/manche-ocean-elite-open-1/
LOCATION:CORLAY\, France
CATEGORIES:Elite,Open 1
END:VEVENT
BEGIN:VEVENT
DTSTART;VALUE=DATE:20230702
DTEND;VALUE=DATE:20230703
DTSTAMP:20260421T221610
CREATED:20230609T132448Z
LAST-MODIFIED:20230609T132448Z
UID:10001987-1688256000-1688342399@www.cyclisme.bzh
SUMMARY:Plunéret - Course d'attente de Manche Océan
DESCRIPTION:Open 2-3 + Access 1-2-3-4 H/F: \n\nDépart: 13h30\n15 tours x 4.7 kms (70.5 kms)\nPrix coureurs: 259/15\, 1er 50€\nEngagements: 8.50€\n\n  \nOuverture des engagements: le 09/06/2023 à 18h\, clôture le 29/06/2023 à 20h \nRenseignements: LE FALHER Jean-Pierre – e-mail: organisations@uc-auray.com / Port: 06.98.77.81.14
URL:https://www.cyclisme.bzh/epreuve-calendrier/pluneret-course-dattente-de-manche-ocean/
LOCATION:PLUNERET\, France
CATEGORIES:Access 1,Access 2,Access 3,Access 4,Open 2,Open 3
END:VEVENT
END:VCALENDAR