BEGIN:VCALENDAR
VERSION:2.0
PRODID:-//Comité de Bretagne de Cyclisme - ECPv6.15.20//NONSGML v1.0//EN
CALSCALE:GREGORIAN
METHOD:PUBLISH
X-ORIGINAL-URL:https://www.cyclisme.bzh
X-WR-CALDESC:Évènements pour Comité de Bretagne de Cyclisme
REFRESH-INTERVAL;VALUE=DURATION:PT1H
X-Robots-Tag:noindex
X-PUBLISHED-TTL:PT1H
BEGIN:VTIMEZONE
TZID:Europe/Paris
BEGIN:DAYLIGHT
TZOFFSETFROM:+0100
TZOFFSETTO:+0200
TZNAME:CEST
DTSTART:20210328T010000
END:DAYLIGHT
BEGIN:STANDARD
TZOFFSETFROM:+0200
TZOFFSETTO:+0100
TZNAME:CET
DTSTART:20211031T010000
END:STANDARD
BEGIN:DAYLIGHT
TZOFFSETFROM:+0100
TZOFFSETTO:+0200
TZNAME:CEST
DTSTART:20220327T010000
END:DAYLIGHT
BEGIN:STANDARD
TZOFFSETFROM:+0200
TZOFFSETTO:+0100
TZNAME:CET
DTSTART:20221030T010000
END:STANDARD
BEGIN:DAYLIGHT
TZOFFSETFROM:+0100
TZOFFSETTO:+0200
TZNAME:CEST
DTSTART:20230326T010000
END:DAYLIGHT
BEGIN:STANDARD
TZOFFSETFROM:+0200
TZOFFSETTO:+0100
TZNAME:CET
DTSTART:20231029T010000
END:STANDARD
END:VTIMEZONE
BEGIN:VEVENT
DTSTART;VALUE=DATE:20220906
DTEND;VALUE=DATE:20220907
DTSTAMP:20260422T101304
CREATED:20220728T093705Z
LAST-MODIFIED:20220728T093705Z
UID:10001483-1662422400-1662508799@www.cyclisme.bzh
SUMMARY:Grand Prix de la Ville de Fougères
DESCRIPTION:1ère & 2ème catégories : \nDépart 13h15 – Course en ligne 84.139 km + 7 tours x 9.983 km \nEngagement 10€ \nPrix coureurs : \nClassement général : 1220 / 20 – 1er prix 197€ \nClassement grimpeur : 385 / 5 – 1er prix 155€ \nClassement animateur : 300 / 5 – 1er prix 108€ \nClassement 2ème catégorie : 305 / 10 – 1er prix 62€ \nEngagements : \nOuverture le 29/07/2022 à 18h \nFermeture le 01/09/2022 à 20h \nPrésident de jury : \nGLOAGUEN Julien
URL:https://www.cyclisme.bzh/epreuve-calendrier/grand-prix-de-la-ville-de-fougeres/
LOCATION:FOUGÈRES\, France
ORGANIZER;CN="COC FOUGERAIS (4335256)":MAILTO:cocfougerais@gmail.com
END:VEVENT
BEGIN:VEVENT
DTSTART;VALUE=DATE:20220907
DTEND;VALUE=DATE:20220908
DTSTAMP:20260422T101304
CREATED:20220307T145217Z
LAST-MODIFIED:20220907T183537Z
UID:10001116-1662508800-1662595199@www.cyclisme.bzh
SUMMARY:Sévignac
DESCRIPTION:Minimes : Dép 12h30 – 4.5 km x 7 t – Prix coureurs : 107/10 1er 20 € – Engagements 6.50 € \nCadets : Dép 13h45 – 4.5 km x 12 t – Prix coureurs : 138/10 1er 28€ – Engagements 6.50 € \n3 cat+Juniors+Pass Open : Dép 15h30 – 4.5 km x 20 t – Prix coureurs : 274/15 1er 53 € – Engagements 8.50 € \nOuverture des engagements le 08/03 à 18h00 \nRenseignements : Patrice TEFFAINE – p.teffaine@gmail.com – 06 68 34 72 79
URL:https://www.cyclisme.bzh/epreuve-calendrier/sevignac/
END:VEVENT
BEGIN:VEVENT
DTSTART;VALUE=DATE:20220910
DTEND;VALUE=DATE:20220911
DTSTAMP:20260422T101304
CREATED:20220728T101325Z
LAST-MODIFIED:20220728T101325Z
UID:10001484-1662768000-1662854399@www.cyclisme.bzh
SUMMARY:Lorient Lanveur
DESCRIPTION:1ère\, 2ème & 3ème catégories / Juniors / PC Open : \nDépart 15h – 55 tours x 1.55 km \nPrix coureurs : 610 / 20 – 1er prix 122€ \nPrix juniors : 47 / 3 – 1er prix 24€ \nEngagements : \nTarif 8.50€ \nOuverture le 29/07/2022 à 18h \nFermeture le 07/09/2022 à 20h \nPrésident de jury : \nNon communiqué
URL:https://www.cyclisme.bzh/epreuve-calendrier/lorient-lanveur-2/
LOCATION:Lorient Lanveur\, France
ORGANIZER;CN="VC PAYS DE LORIENT (4356224)":MAILTO:gjtrehin@laposte.net
END:VEVENT
BEGIN:VEVENT
DTSTART;VALUE=DATE:20220910
DTEND;VALUE=DATE:20220911
DTSTAMP:20260422T101304
CREATED:20220728T112716Z
LAST-MODIFIED:20220728T112716Z
UID:10001485-1662768000-1662854399@www.cyclisme.bzh
SUMMARY:Pacé
DESCRIPTION:Cadets H/F : \nDépart 13h15 – 11 tours x 5 km \nEngagement 6.50€ \nPass / Pass Open : \nD1 / D2 : Départ 15h30 – 14 tours x 5 km \nD3 / D4 : Départ 15h32 – 11 tours x 5 km \nEngagement 8.50€ \nEngagements : \nOuverture le 29/07/2022 à 18h \nFermeture le 07/09/2022 à 20h \nPrésidente de jury : \nLOCHET Annick
URL:https://www.cyclisme.bzh/epreuve-calendrier/pace-3/
LOCATION:PACE\, France
ORGANIZER;CN="ASPTT RENNES CYCLISME (4335114)":MAILTO:aspttrennescycling@gmail.com
END:VEVENT
BEGIN:VEVENT
DTSTART;VALUE=DATE:20220910
DTEND;VALUE=DATE:20220911
DTSTAMP:20260422T101304
CREATED:20220729T122848Z
LAST-MODIFIED:20220907T135021Z
UID:10001493-1662768000-1662854399@www.cyclisme.bzh
SUMMARY:Landaul - La Landaulaise
DESCRIPTION:Pass / Pass Open : \nDépart 15h – 13 tours x 4.7 km \nEngagement 8.50€ \nEngagements : \nOuverture le 30/07/2022 à 18h \nFermeture le 09/09/2022 à 18h \nPrésident de jury : \nNon communiqué
URL:https://www.cyclisme.bzh/epreuve-calendrier/landaul-la-landaulaise-2/
LOCATION:LANDAUL\, LANDAUL\, Bretagne\, France
END:VEVENT
BEGIN:VEVENT
DTSTART;VALUE=DATE:20220910
DTEND;VALUE=DATE:20220911
DTSTAMP:20260422T101304
CREATED:20220824T084154Z
LAST-MODIFIED:20220824T084649Z
UID:10001516-1662768000-1662854399@www.cyclisme.bzh
SUMMARY:Plédran - Cyclonot' 2022 - sur invitation
DESCRIPTION:Lire en plein écranAller au contenu PDF
URL:https://www.cyclisme.bzh/epreuve-calendrier/pledran-cyclonot-2022-sur-invitation/
LOCATION:PLEDRAN\, PLEDRAN\, Bretagne\, France
CATEGORIES:Divers
ORGANIZER;CN="UC BRIOCHINE (4322028)":MAILTO:unioncyclistebriochine@gmail.com
END:VEVENT
BEGIN:VEVENT
DTSTART;VALUE=DATE:20220910
DTEND;VALUE=DATE:20220911
DTSTAMP:20260422T101304
CREATED:20220901T071823Z
LAST-MODIFIED:20220901T081702Z
UID:10001539-1662768000-1662854399@www.cyclisme.bzh
SUMMARY:Inzinzac-Lochrist - Championnat de Bretagne des Élus
DESCRIPTION:Départ de l’épreuve à 14h\, sur un circuit de 5.945 km. \nDistance selon la catégorie d’âge. \nModalités d’inscription et renseignements ci-dessous : \nlivret championnat de Bretagne cycliste des élu (e) s 2022 \nBulletin inscription V_remplissable (2) \n 
URL:https://www.cyclisme.bzh/epreuve-calendrier/inzinzac-lochrist-championnat-de-bretagne-des-elus/
LOCATION:INZINZAC LOCHRIST\, INZINZAC LOCHRIST\, Bretagne\, France
ATTACH;FMTTYPE=application/pdf:https://www.cyclisme.bzh/wp-content/uploads/2022/09/affiche.pdf
ORGANIZER;CN="AC LANESTER 56 (4356338)":MAILTO:contact@aclanester56.com
END:VEVENT
BEGIN:VEVENT
DTSTART;VALUE=DATE:20220910
DTEND;VALUE=DATE:20220911
DTSTAMP:20260422T101304
CREATED:20220905T073251Z
LAST-MODIFIED:20220905T073340Z
UID:10001543-1662768000-1662854399@www.cyclisme.bzh
SUMMARY:Vannes - Finale de la Coupe du Conseil Départemental - Souvenir Joël Bourvellec
DESCRIPTION:Championnat du Morbihan de Keirin et Américaine – Départ 14h : \nMinimes F et Cadettes :  \nKeirin – Prix coureurs : 30 / 3 – 1er prix 15€ \nScratch \nEngagement 6.50€ \nMinimes H : \nKeirin – Prix coureurs : 30 / 3 – 1er prix 15€ \nCourse aux points \nEngagement 6.50€ \nCadets : \nKeirin – Prix coureurs : 30 / 3 – 1er prix 15€ \nCourse aux points \nEngagement 6.50€ \nDames 17 + : \nKeirin – Prix coureurs : 30 / 3 – 1er prix 15€ \nScratch \nEngagement 8.50€ \nJuniors H : \nKeirin – Prix coureurs : 30 / 3 – 1er prix 15€ \nCourse aux points \nEngagement 8.50€ \nSeniors H : \nKeirin – Prix coureurs : 30 / 3 – 1er prix 15€ \nCourse aux points \nEngagement 8.50€ \nCadets H / Juniors H / Seniors H : \nAméricaine \nEngagements : \nOuverture le 05/09/2022 à 18h \nFermeture le 07/09/2022 à 20h
URL:https://www.cyclisme.bzh/epreuve-calendrier/vannes-finale-de-la-coupe-du-conseil-departemental-souvenir-joel-bourvellec/
LOCATION:VANNES\, France
ORGANIZER;CN="Comit%C3%A9 de la piste du pays de Vannes - V%C3%A9lodrome de Kermesquel":MAILTO:demayjj@neuf.fr
END:VEVENT
BEGIN:VEVENT
DTSTART;VALUE=DATE:20220910
DTEND;VALUE=DATE:20220912
DTSTAMP:20260422T101304
CREATED:20220728T120832Z
LAST-MODIFIED:20220728T120832Z
UID:10001488-1662768000-1662940799@www.cyclisme.bzh
SUMMARY:La Route du Roc - Louvigné du Désert
DESCRIPTION:3ème catégorie / Juniors / PC Open – Par équipes de 5 : \n10/09/2022 -Étape 1 : \nDépart 14h15 – 76 km en ligne + 4 tours x 8.4 km \nPrix coureurs : 91 / 10 – 1er prix 17€ \n11/09/2022 – 1/2 étape CLM : \nDépart 9h – 1 tour x 12.41 km \nPrix coureurs : 91 / 10 – 1er prix 17€ \n11/09/2022 – 1/2 étape en ligne : \nDépart 14h30 – 75.6 km en ligne + 3 tours x 7.9 km \nPrix coureurs : 91 / 10 – 1er prix 17€ \nPrix classement général : 274 / 15 – 1er prix 53€ \nEngagements : \nTarif 8.50€ \nOuverture le 29/07/2022 à 18h \nFermeture le 07/09/2022 à 20h \nPrésidente de jury : \nLE TRAOU Régine \nInformations complémentaires : \nPossibilité de repas sur place : réservation obligatoire – 15€ par personne. \nRéservations à envoyer à l’adresse suivante\, avant le 28/08/2022 : \nM. NOEL Rémy \n14 Rue du Doué \n50730 ST MARTIN DE LANDELLES \nContact : \nM. NOEL Rémy – 0668177167 – engagementsvcsl@outlook.fr
URL:https://www.cyclisme.bzh/epreuve-calendrier/la-route-du-roc-louvigne-du-desert/
LOCATION:LOUVIGNE DU DESERT\, LOUVIGNE DU DESERT\, Bretagne\, France
ORGANIZER;CN="VCS LOUVIGNEEN (4335104)":MAILTO:yvesduchesne@orange.fr
END:VEVENT
BEGIN:VEVENT
DTSTART;VALUE=DATE:20220910
DTEND;VALUE=DATE:20220912
DTSTAMP:20260422T101304
CREATED:20220729T123603Z
LAST-MODIFIED:20220729T123603Z
UID:10001495-1662768000-1662940799@www.cyclisme.bzh
SUMMARY:La Landaulaise Handisport - Trophée David Franek
DESCRIPTION:Samedi 10/09/2022 : \nDépart 9h – Nombre de tours en fonction de la catégorie \nCircuit 4.7 km \nDimanche 11/09/2022 – CLM : \nDépart 8h30 – 4 tours x 4.7 km \nEngagements : \nTarif : 12€ \nLes engagements sont à faire avant le 04/09/2022 sur le site : \nhttps://www.helloasso.com/associations/road-runner-handisport/evenements/la-landaulaise-6-trophee-david-franek-2 \nInfos et renseignements : \nGrégory LERAY – 06.70.04.47.08 – gregorybrembo@hotmail.com
URL:https://www.cyclisme.bzh/epreuve-calendrier/la-landaulaise-handisport-trophee-david-franek/
LOCATION:LANDAUL\, LANDAUL\, Bretagne\, France
CATEGORIES:Handisport
END:VEVENT
BEGIN:VEVENT
DTSTART;VALUE=DATE:20220911
DTEND;VALUE=DATE:20220912
DTSTAMP:20260422T101304
CREATED:20220729T131318Z
LAST-MODIFIED:20220802T063845Z
UID:10001497-1662854400-1662940799@www.cyclisme.bzh
SUMMARY:Guilers - 38ème journée des jeunes
DESCRIPTION:Minimes : \nDépart 14h – 16 tours x 1.7 km \nEngagement 6.50€ \nEcole de vélo : \nDépart 15h30 – Distance selon l’âge \nEngagement 2€ \nCadets : \nDépart 16h30 – 33 tours x 1.7 km \nEngagement 6.50€ \nEngagements : \nOuverture le 30/07/2022 à 18h \nFermeture le 08/09/2022 à 20h \nPrésident de jury : \nNon communiqué
URL:https://www.cyclisme.bzh/epreuve-calendrier/guilers-38eme-journee-des-jeunes/
LOCATION:GUILERS\, GUILERS\, Bretagne\, France
CATEGORIES:Ecole de cyclisme
ORGANIZER;CN="KICLOS BREST METROPOLE CYCLISME (4329455)":MAILTO:ppierre@brestmetropolecyclisme.com
END:VEVENT
BEGIN:VEVENT
DTSTART;VALUE=DATE:20220911
DTEND;VALUE=DATE:20220912
DTSTAMP:20260422T101304
CREATED:20220801T130415Z
LAST-MODIFIED:20220801T130415Z
UID:10001499-1662854400-1662940799@www.cyclisme.bzh
SUMMARY:Louvigné Du Désert
DESCRIPTION:Minimes : \nDépart 14h35 – 15 tours x 2 km \nEngagement 6.50€ \nPrix coureurs : 107 / 10 – 1er prix 20€ \nEngagements : \nOuverture le 29/07/2022 à 18h \nFermeture le 08/09/2022 à 20h \nPrésident de jury : \nNon communiqué
URL:https://www.cyclisme.bzh/epreuve-calendrier/louvigne-du-desert-5/
LOCATION:LOUVIGNE DU DESERT\, LOUVIGNE DU DESERT\, Bretagne\, France
ORGANIZER;CN="VCS LOUVIGNEEN (4335104)":MAILTO:yvesduchesne@orange.fr
END:VEVENT
BEGIN:VEVENT
DTSTART;VALUE=DATE:20220911
DTEND;VALUE=DATE:20220912
DTSTAMP:20260422T101304
CREATED:20220803T122546Z
LAST-MODIFIED:20220912T074236Z
UID:10001504-1662854400-1662940799@www.cyclisme.bzh
SUMMARY:Critérium - 40ème Grand Prix Rennes Liberté - Souvenir Yves Dubourg
DESCRIPTION:Trophée du Sprint Liberté Minimes / Cadets – Limité à 30 participants par catégorie : \nDépart 13h : Tournoi de vitesse – Circuit 700 m \nEngagement gratuit \nÉlites 1ère & 2ème catégories – Limité à 120 coureurs et 10 par équipe : \nDépart 15h30 – 40 tours x 2.4 km \nEngagement 12€ \nPrix coureurs : 915 / 20 – 1er prix 184€ \nEngagements : \nOuverture le 04/08/2022 à 18h \nFermeture le 08/09/2022 à 12h \nPrésident de jury : \nGLOAGUEN Julien
URL:https://www.cyclisme.bzh/epreuve-calendrier/criterium-40eme-grand-prix-rennes-liberte-souvenir-yves-dubourg/
LOCATION:RENNES\, RENNES\, Bretagne\, France
ATTACH;FMTTYPE=application/pdf:https://www.cyclisme.bzh/wp-content/uploads/2022/08/AFFICHE-Rennes-Liberté-2022-1.pdf
ORGANIZER;CN="EC RENNAISE (4335287)":MAILTO:ecrennes@aliceadsl.fr
END:VEVENT
BEGIN:VEVENT
DTSTART;VALUE=DATE:20220911
DTEND;VALUE=DATE:20220912
DTSTAMP:20260422T101304
CREATED:20220803T132639Z
LAST-MODIFIED:20220905T065614Z
UID:10001506-1662854400-1662940799@www.cyclisme.bzh
SUMMARY:Allaire
DESCRIPTION:Régularité route : \nDépart 13h – Distance selon l’âge – Circuit 4.5 km \nEngagement 2€ \nCadets H/F / Femmes 17 + : \nDépart 14h – 11 tours x 4.5 km \nEngagement 6.50€ \nPrix coureurs : 138 / 10 – 1er prix 28€ \nMinimes H/F : \nDépart 14h02 – 6 tours x 4.5 km \nEngagement 6.50€ \n3ème catégorie / Juniors / PC Open : \nDépart 15h30 – 22 tours x 4.5 km \nEngagement 8.50€ \nPrix coureurs : 259 / 15 – 1er prix 50€ \nPrix juniors : 91 / 5 – 1er prix 29€ \nEngagements : \nOuverture le 04/08/2022 à 18h \nFermeture le 08/09/2022 à 20h \nPrésident de jury : \nGUEGAND André
URL:https://www.cyclisme.bzh/epreuve-calendrier/allaire/
LOCATION:ALLAIRE\, ALLAIRE\, Bretagne\, France
CATEGORIES:Ecole de cyclisme
ATTACH;FMTTYPE=application/pdf:https://www.cyclisme.bzh/wp-content/uploads/2022/08/Affiche-Allaire-le-dimanche-11-Septembre-2022.pdf
ORGANIZER;CN="REDON OC (4335040)":MAILTO:gicquelpierre@orange.fr
END:VEVENT
BEGIN:VEVENT
DTSTART;VALUE=DATE:20220911
DTEND;VALUE=DATE:20220912
DTSTAMP:20260422T101304
CREATED:20220808T083659Z
LAST-MODIFIED:20220905T090134Z
UID:10001529-1662854400-1662940799@www.cyclisme.bzh
SUMMARY:Plouézec - Championnat de Bretagne Pass' Cyclisme
DESCRIPTION:Plouézec – Championnat de Bretagne Pass’ Cyclisme \nDimanche 11 septembre \nKilométrages modifiés le 01/09 \nD3 = 13h30 / 10 tours soit 64 km \nD4 = 13h31 / 9 tours soit 57.6 km \n D1 = 15h45 / 12 tours soit 76.8 km \nD2 = 15h46 / 11 tours soit 70.4 km \nListe des sélectionnés  : Les coureurs sélectionnés ont l’obligation d’y participer. Les coureurs qui ne participeront pas à celui-ci ne pourront pas participer à une autre épreuve la veille\, le jour et le lendemain du Championnat. En cas de participation à une autre épreuve\, aucune pénalité ne sera appliquée\, mais ils se verront déclassés. \nla participation est libre pour les coureurs non sélectionnés \nLire en plein écranAller au contenu PDF\nLire en plein écranAller au contenu PDF\nRenseignements : Jacques BUHOUR  –  jacques.buhour22@gmail.com
URL:https://www.cyclisme.bzh/epreuve-calendrier/plouezec-championnat-de-bretagne-pass-cyclisme/
LOCATION:PLOUEZEC\, PLOUEZEC\, Bretagne\, France
ATTACH;FMTTYPE=image/png:https://www.cyclisme.bzh/wp-content/uploads/2022/08/Ajouter-un-sous-titre.png
ORGANIZER;CN="EC PAYS DE PAIMPOL (4322323)":MAILTO:jacques.buhour22@gmail.com
END:VEVENT
BEGIN:VEVENT
DTSTART;VALUE=DATE:20220911
DTEND;VALUE=DATE:20220912
DTSTAMP:20260422T101304
CREATED:20220808T132112Z
LAST-MODIFIED:20220808T132227Z
UID:10001531-1662854400-1662940799@www.cyclisme.bzh
SUMMARY:St Thégonnec - Circuit du Loup
DESCRIPTION:Régularité : Dép 14h00 – Distance selon l’âge – Engagements 2 € \n3.Juniors.Pass Open : Dép 15h30 – 2.7 km 30 t – prix coureurs : 259/15 1er 50 € – Engagements 8.50 € \nRenseignements : Michel ROUDOT – mroudot@sfr.fr – 06 11 45 44 27
URL:https://www.cyclisme.bzh/epreuve-calendrier/st-thegonnec-circuit-du-loup/
LOCATION:ST THEGONNEC\, ST THEGONNEC\, Bretagne\, France
CATEGORIES:Ecole de cyclisme
END:VEVENT
BEGIN:VEVENT
DTSTART;VALUE=DATE:20220911
DTEND;VALUE=DATE:20220912
DTSTAMP:20260422T101304
CREATED:20220810T102022Z
LAST-MODIFIED:20220907T103738Z
UID:10001490-1662854400-1662940799@www.cyclisme.bzh
SUMMARY:St Pol de Leon - Finale de la Coupe de Bretagne Féminines Camping-Cars Jacqueline
DESCRIPTION:Cadets G : Dép 09h30 – 1 km x 50 t – Prix coureurs : 138/10 1er 28 € – Engagements 6.50 – limitée à 50 coureurs. \nMinimes G : Dép 11h00 – 1 km x 30 t – Prix coureurs : 107/10 1er 20 € – Engagements 6.50 – limitée à 50 coureurs. \nMinimes/Cadettes F\, Finale de la Coupe de Bretagne Féminines Camping-Cars Jacqueline:\n– Dép 13h30 pour les cadettes – 1 km x 50 t – Prix coureurs 138/10 1ère 28 €\n– Dép 13h32 pour les minimes F – 1 km x 30 t  – Prix coureurs : 107/10 1ère 20 € – Engagements 6.50 € \nJuniors/Seniors F \, Finale de la Coupe de Bretagne Féminines Camping-Cars Jacqueline: Dép 15h15 – 1 km x 70 t – Prix coureurs : 183/10 1ère 37 € – Engagements 8.50 € \n  \nEdit du 07/09 : La clôture des engagements est repoussée à vendredi 09/09 à 18h00 en raison d’un faible nombre d’engagés au 07/09 \nRenseignements : Thierry LIRZIN – presidence.acleonarde@gmail.com \n 
URL:https://www.cyclisme.bzh/epreuve-calendrier/st-pol-de-leon/
LOCATION:SAINT POL DE LEON\, SAINT POL DE LEON\, Bretagne\, France
ATTACH;FMTTYPE=image/jpeg:https://www.cyclisme.bzh/wp-content/uploads/2021/11/jacqueline.jpg
ORGANIZER;CN="AC LEONARDE (4329166)":MAILTO:presidence.acleonarde@gmail.com
END:VEVENT
BEGIN:VEVENT
DTSTART;VALUE=DATE:20220911
DTEND;VALUE=DATE:20220912
DTSTAMP:20260422T101304
CREATED:20220810T134340Z
LAST-MODIFIED:20220810T134340Z
UID:10001494-1662854400-1662940799@www.cyclisme.bzh
SUMMARY:Pluméliau
DESCRIPTION:Régularité route : \nDépart 13h15 – Distance selon l’âge \nEngagement 2€ \nMinimes : \nDépart 14h30 – 7 tours x 4.25 km \nEngagement 6.50€ \nPrix coureurs 107 / 10 – 1er prix 20€ \nCadets : \nDépart 1530 – 15 tours x 4.25 km \nEngagement 6.50€ \nPrix coureurs 138 / 10 – 1er prix 28€ \nEngagements : \nOuverture le 11/08/2022 à 18h \nFermeture le 08/09/2022 à 20h \nPrésident de jury : \nNon communiqué
URL:https://www.cyclisme.bzh/epreuve-calendrier/plumeliau-2/
LOCATION:PLUMÉLIAU\, PLUMÉLIAU\, Bretagne\, France
CATEGORIES:Ecole de cyclisme
ORGANIZER;CN="AC PAYS DE BAUD (4356342)":MAILTO:acpbaud@laposte.net
END:VEVENT
BEGIN:VEVENT
DTSTART;VALUE=DATE:20220911
DTEND;VALUE=DATE:20220912
DTSTAMP:20260422T101304
CREATED:20220812T112931Z
LAST-MODIFIED:20220912T084317Z
UID:10001498-1662854400-1662940799@www.cyclisme.bzh
SUMMARY:Coëtmieux - Coupe de Bretagne VTT XC
DESCRIPTION:Poussins H / F  : \nDépart 9h15 \nEngagement 6€ \nPupilles H / F : \nDépart 9h35 \nEngagement 6€ \nBenjamins H / F : \nDépart 10h10 \nEngagement 6€ \nMinimes H / F : \nDépart 11h \nEngagement 10€ \nMasters 40\,50 H : \nDépart 12h \nEngagement 11.50€ \nDépartementaux H : \nDépart 12h02 \nEngagement 11.50€ \nCadets H / F : \nDépart 14h \nEngagement 10€ \n19 ans et + H / F : \nDépart 15h30 \nEngagement 11.50€ \nJuniors H / F : \nDépart 15h30 \nEngagement 11.50€ \nEngagements : \nFermeture le 08/09/2022 à 20h \nRenseignements : Tanguy LEFEBVRE  – 06 98 27 34 82 – lefebvrelabbe@orange.fr
URL:https://www.cyclisme.bzh/epreuve-calendrier/coetmieux-coupe-de-bretagne-vtt-xc/
LOCATION:Coëtmieux
CATEGORIES:Masters
ORGANIZER;CN="VC DE L'EVRON COETMIEUX (4322265)":MAILTO:vcevron22400@gmail.com
END:VEVENT
BEGIN:VEVENT
DTSTART;VALUE=DATE:20220917
DTEND;VALUE=DATE:20220918
DTSTAMP:20260422T101304
CREATED:20220805T082321Z
LAST-MODIFIED:20220805T082321Z
UID:10001517-1663372800-1663459199@www.cyclisme.bzh
SUMMARY:Querrien
DESCRIPTION:3ème catégorie / Juniors / PC Open : \nDépart 15h – 20 tours x 4.5 km \nEngagement 8.50€ \nPrix coureurs : 259 / 15 – 1er prix 50€ \nEngagements : \nOuverture le 06/08/2022 à 18h \nFermeture le 14/09/2022 à 18h \nPrésident de jury : \nNon communiqué
URL:https://www.cyclisme.bzh/epreuve-calendrier/querrien/
LOCATION:QUERRIEN\, 29310\, France
ORGANIZER;CN="VS SCAEROIS (4329055)":MAILTO:velosportscaerois@gmail.com
END:VEVENT
BEGIN:VEVENT
DTSTART;VALUE=DATE:20220917
DTEND;VALUE=DATE:20220918
DTSTAMP:20260422T101304
CREATED:20220808T094944Z
LAST-MODIFIED:20220808T130103Z
UID:10001530-1663372800-1663459199@www.cyclisme.bzh
SUMMARY:Pleslin Trigavou - Les Landes de Reine
DESCRIPTION:Régularité : Dép 11h00 – Distance selon l’âge – Engagements 8.50 € \nMinimes : Dép 13h00 – 0.925 km x 28 t – Engagements 6.50 € \nCadets : Dép 14h00 – 0.925 km x 50 t – Engagements 6.50 € \nPass et Pass Open : Dép 15h30 – 0.925 km x 65 t – Engagements 8.50 € \nClôture des engagements le 15/09/22 à 20h00 \nRenseignements : Marie-Claude DUBOSCQ – mduboscq220@gmail.com – 06 76 97 26 46
URL:https://www.cyclisme.bzh/epreuve-calendrier/pleslin-trigavou-les-landes-de-reine-6/
LOCATION:ANNEAU LES LANDES DE REINE PLESLIN\, ANNEAU LES LANDES DE REINE PLESLIN\, Bretagne\, France
CATEGORIES:Ecole de cyclisme
ORGANIZER;CN="VC DINANNAIS (4322030)":MAILTO:mduboscq220@gmail.com
END:VEVENT
BEGIN:VEVENT
DTSTART;VALUE=DATE:20220917
DTEND;VALUE=DATE:20220918
DTSTAMP:20260422T101304
CREATED:20220809T075648Z
LAST-MODIFIED:20220915T080022Z
UID:10001486-1663372800-1663459199@www.cyclisme.bzh
SUMMARY:Romillé
DESCRIPTION:Minimes F / Cadettes : \nDépart 15h01 – 8 tours x 4.25 km \nEngagement 6.50€ \nPrix coureurs : 170 / 10 – 1er prix 20€ \nFemmes 17 + : \nDépart 15h – 16 tours x 4.25 km \nEngagement 8.50€ \nPrix coureurs : 183 / 10 – 1er prix 37€ \nEngagements : \nOuverture le 10/08/2022 à 18h \nFermeture le 14/09/2022 à 20h \nPrésident de jury : \nNon communiqué
URL:https://www.cyclisme.bzh/epreuve-calendrier/romille-2/
LOCATION:ROMILLE\, France
ATTACH;FMTTYPE=image/jpeg:https://www.cyclisme.bzh/wp-content/uploads/2022/08/affiche-courses-cyclistes-feiminines-sept22.jpeg
END:VEVENT
BEGIN:VEVENT
DTSTART;VALUE=DATE:20220917
DTEND;VALUE=DATE:20220918
DTSTAMP:20260422T101304
CREATED:20220818T065337Z
LAST-MODIFIED:20220818T074245Z
UID:10001503-1663372800-1663459199@www.cyclisme.bzh
SUMMARY:Péaule
DESCRIPTION:Régularité route : \nDépart 13h45 – Distance selon l’âge \nEngagement gratuit \nMinimes  H / F : \nDépart 15h15 – 14 tours x 1.7 km \nEngagement 6.50€ \nEngagements : \nOuverture le 05/08/2022 à 18h \nFermeture le 14/09/20225 à 20h \nPrésident de jury : \nNon communiqué \nCircuit : \n \n 
URL:https://www.cyclisme.bzh/epreuve-calendrier/peaule-4/
LOCATION:PÉAULE
CATEGORIES:Régularité route
ATTACH;FMTTYPE=image/jpeg:https://www.cyclisme.bzh/wp-content/uploads/2022/08/unnamed-scaled.jpg
ORGANIZER;CN="VELOCE VANNETAIS CYCLISME (4356083)":MAILTO:hugues.sero@wanadoo.fr
END:VEVENT
BEGIN:VEVENT
DTSTART;VALUE=DATE:20220917
DTEND;VALUE=DATE:20220918
DTSTAMP:20260422T101304
CREATED:20220824T072956Z
LAST-MODIFIED:20220906T073553Z
UID:10001509-1663372800-1663459199@www.cyclisme.bzh
SUMMARY:Parigné
DESCRIPTION:Régularité route : \nDépart 14h – Distance selon l’âge \nCircuit 2.8 k \nEngagement 2€ \nMinimes : \nDépart 15h15 – 10 tours x 2.9 km \nEngagement 6.50€ \nEngagements : \nOuverture le 25/08/2022 à 18h \nFermeture le 14/09/2022 à 20h \nPrésident de jury : \nMERDRIGNAC Jean-Claude
URL:https://www.cyclisme.bzh/epreuve-calendrier/parigne-2/
LOCATION:PARIGNE\, PARIGNE\, Bretagne\, France
CATEGORIES:Régularité route
ORGANIZER;CN="GO Fougerais":MAILTO:louis.tienvrot35@orange.fr
END:VEVENT
BEGIN:VEVENT
DTSTART;VALUE=DATE:20220917
DTEND;VALUE=DATE:20220918
DTSTAMP:20260422T101304
CREATED:20220905T073820Z
LAST-MODIFIED:20220909T093247Z
UID:10001544-1663372800-1663459199@www.cyclisme.bzh
SUMMARY:Vannes - Coupe de Bretagne des départements - Sur sélection
DESCRIPTION:Engagements réservés aux Comités départementaux \nDépart 12h \nPrix coureurs : \nDépartement : 520 / 4 – 1er prix 204€ \nEngagements :  \nMinimes / Cadets : 6.50€ \nJuniors / Seniors : 8.50€ \nOuverture le 06/09/2022 à 18h \nFermeture le 14/09/2022 à 20h
URL:https://www.cyclisme.bzh/epreuve-calendrier/vannes-coupe-de-bretagne-des-departements-sur-selection/
LOCATION:VANNES\, France
ORGANIZER;CN="Comit%C3%A9 de la piste du pays de Vannes - V%C3%A9lodrome de Kermesquel":MAILTO:demayjj@neuf.fr
END:VEVENT
BEGIN:VEVENT
DTSTART;VALUE=DATE:20220918
DTEND;VALUE=DATE:20220919
DTSTAMP:20260422T101304
CREATED:20220830T135017Z
LAST-MODIFIED:20220830T135017Z
UID:10001527-1663459200-1663545599@www.cyclisme.bzh
SUMMARY:Arzon
DESCRIPTION:Pass / Pass Open : \nD1 / D2 : Départ 13h50 – 11 tours x 5.38 km \nD3/ D4 : Départ 13h51 – 10 tours x 5.38 km \nEngagement 8.50€ \nEngagements : \nOuverture le 31/08/2022 à 18h \nFermeture le 15/09/2022 à 20h \nPrésident de jury : \nNon communiqué
URL:https://www.cyclisme.bzh/epreuve-calendrier/arzon/
LOCATION:Arzon\, 56640\, France
ORGANIZER;CN="VS DE RHUYS (4356099)":MAILTO:jerome.lappartient@wanadoo.fr
END:VEVENT
BEGIN:VEVENT
DTSTART;VALUE=DATE:20220918
DTEND;VALUE=DATE:20220919
DTSTAMP:20260422T101304
CREATED:20220630T102142Z
LAST-MODIFIED:20220630T102142Z
UID:10001436-1663459200-1663545599@www.cyclisme.bzh
SUMMARY:La Chapelle Janson
DESCRIPTION:Cadets : \nDépart 13h30 – 15 tours x 3.4 km \nEngagement 6.50€ \n3ème catégorie / Juniors / PC Open : \nDépart 15h15 – 25 tours x 3.4 km \nEngagement 8.50€ \nEngagements : \nOuverture le 03/07/2022 à 18h \nFermeture le 15/09/2022 à 20h \nPrésident de jury : \nMERDRIGNAC Jean-Claude
URL:https://www.cyclisme.bzh/epreuve-calendrier/la-chapelle-janson-2/
LOCATION:LA CHAPELLE JANSON\, France
ORGANIZER;CN="GO Fougerais":MAILTO:louis.tienvrot35@orange.fr
END:VEVENT
BEGIN:VEVENT
DTSTART;VALUE=DATE:20220918
DTEND;VALUE=DATE:20220919
DTSTAMP:20260422T101304
CREATED:20220715T111839Z
LAST-MODIFIED:20220908T083007Z
UID:10001459-1663459200-1663545599@www.cyclisme.bzh
SUMMARY:Taupont - Coupe de Bretagne XC
DESCRIPTION:Poussins H / F  : \nDépart 9h15 \nEngagement 6€ \nPupilles H / F : \nDépart 9h35 \nEngagement 6€ \nBenjamins H / F : \nDépart 10h10 \nEngagement 6€ \nMinimes H / F : \nDépart 11h \nEngagement 10€ \nMasters 40\,50 H : \nDépart 12h \nEngagement 11.50€ \nDépartementaux H : \nDépart 12h02 \nEngagement 11.50€ \nCadets H / F : \nDépart 14h \nEngagement 10€ \n19 ans et + H / F : \nDépart 15h30 \nEngagement 11.50€ \nJuniors H / F : \nDépart 15h30 \nEngagement 11.50€ \nEngagements : \nOuverture le 16/07/2022 à 18h \nFermeture le 15/09/2022 à 20h \nPrésident de jury : \nNon communiqué
URL:https://www.cyclisme.bzh/epreuve-calendrier/taupont-coupe-de-bretagne-xc/
LOCATION:TAUPONT\, France
CATEGORIES:Cyclosportive,Masters
ATTACH;FMTTYPE=image/jpeg:https://www.cyclisme.bzh/wp-content/uploads/2022/07/FB_IMG_1659334898093.jpg
ORGANIZER;CN="VELO TAUPONT (4356231)":MAILTO:richardjerome64@gmail.com
END:VEVENT
BEGIN:VEVENT
DTSTART;VALUE=DATE:20220918
DTEND;VALUE=DATE:20220919
DTSTAMP:20260422T101304
CREATED:20220804T125004Z
LAST-MODIFIED:20220804T125004Z
UID:10001515-1663459200-1663545599@www.cyclisme.bzh
SUMMARY:Noyal Sur Vilaine - Prix Cycliste Jean Clanchin
DESCRIPTION:Pass / Pass Open : \nD1 / D2 : Départ 9h30 – 16 tours x 4.6 km \nD3 / D4 : Départ 9h32 – 14 tours x 4.6 km \nEngagement 8.50€ \nCadets : \nDépart 13h30 – 12 tours x 4.6 km \nEngagement 6.50€ \nPrix coureurs : 138 / 10 – 1er prix 28€ \n2ème & 3ème catégories / Juniors / PC Open : \nDépart 15h30 – 22 tours x 4.6 km \nEngagement 8.50€ \nPrix coureurs : 274 / 15 – 1er prix 53€ \nPrix 3ème catégorie et juniors : 91 / 10 – 1er prix 17€ \nEngagements : \nOuverture le 05/08/2022 à 18h \nFermeture le 15/09/2022 à 20h \nPrésident de jury : \nISTIN Thierry
URL:https://www.cyclisme.bzh/epreuve-calendrier/noyal-sur-vilaine-prix-cycliste-jean-clanchin/
LOCATION:NOYAL SUR VILAINE\, NOYAL SUR VILAINE\, Bretagne\, France
ORGANIZER;CN="TEAM SOJASUN CYCLISME (4335344)":MAILTO:teamsojasunglh@sfr.fr
END:VEVENT
BEGIN:VEVENT
DTSTART;VALUE=DATE:20220918
DTEND;VALUE=DATE:20220919
DTSTAMP:20260422T101304
CREATED:20220805T082918Z
LAST-MODIFIED:20220916T080804Z
UID:10001520-1663459200-1663545599@www.cyclisme.bzh
SUMMARY:Beuzec-Conq en Concarneau - 3ème Manche Challenge Sud Océane
DESCRIPTION:3ème manche Challenge Sud Océane  \n1ère\, 2ème & 3ème catégories / Juniors / PC Open : \nDépart 15h – 20 tours x 4.2 km \nEngagement 8.50€ \nPrix coureurs : \nGénéral : 610 / 20 – 1er prix 122€ \n2ème catégorie : 183 / 10 – 1er prix 37€ \n3ème catégorie et juniors : 107 / 5 – 1er prix 35€ \nEngagements : \nOuverture le 06/08/2022 à 18h \nFermeture le 15/09/2022 à 20h \nPrésident de jury : \nNon communiqué
URL:https://www.cyclisme.bzh/epreuve-calendrier/beuzec-conq-en-concarneau-2eme-manche-challenge-sud-oceane/
LOCATION:Beuzec Conq Concarneau
ORGANIZER;CN="CC CONCARNOIS (4329090)":MAILTO:plefresne@laposte.net
END:VEVENT
END:VCALENDAR