BEGIN:VCALENDAR
VERSION:2.0
PRODID:-//Comité de Bretagne de Cyclisme - ECPv6.15.20//NONSGML v1.0//EN
CALSCALE:GREGORIAN
METHOD:PUBLISH
X-ORIGINAL-URL:https://www.cyclisme.bzh
X-WR-CALDESC:Évènements pour Comité de Bretagne de Cyclisme
REFRESH-INTERVAL;VALUE=DURATION:PT1H
X-Robots-Tag:noindex
X-PUBLISHED-TTL:PT1H
BEGIN:VTIMEZONE
TZID:Europe/Paris
BEGIN:DAYLIGHT
TZOFFSETFROM:+0100
TZOFFSETTO:+0200
TZNAME:CEST
DTSTART:20210328T010000
END:DAYLIGHT
BEGIN:STANDARD
TZOFFSETFROM:+0200
TZOFFSETTO:+0100
TZNAME:CET
DTSTART:20211031T010000
END:STANDARD
BEGIN:DAYLIGHT
TZOFFSETFROM:+0100
TZOFFSETTO:+0200
TZNAME:CEST
DTSTART:20220327T010000
END:DAYLIGHT
BEGIN:STANDARD
TZOFFSETFROM:+0200
TZOFFSETTO:+0100
TZNAME:CET
DTSTART:20221030T010000
END:STANDARD
BEGIN:DAYLIGHT
TZOFFSETFROM:+0100
TZOFFSETTO:+0200
TZNAME:CEST
DTSTART:20230326T010000
END:DAYLIGHT
BEGIN:STANDARD
TZOFFSETFROM:+0200
TZOFFSETTO:+0100
TZNAME:CET
DTSTART:20231029T010000
END:STANDARD
END:VTIMEZONE
BEGIN:VEVENT
DTSTART;VALUE=DATE:20220828
DTEND;VALUE=DATE:20220829
DTSTAMP:20260422T134837
CREATED:20220701T120829Z
LAST-MODIFIED:20220701T120829Z
UID:10001453-1661644800-1661731199@www.cyclisme.bzh
SUMMARY:La Telhaie En Guer - Les Boucles de l'Oyon
DESCRIPTION:2 & 3ème catégories / Juniors / PC Open : \nDépart 14h25 \nDistance course en ligne : 86.3 km + 8 tours x 4.1 km \nEngagement 8.50€ \nPrix coureurs : 459 / 20 – 1er prix 91€ \nPrix 3ème catégorie et juniors : 76 / 5 – 1er prix 27€ \nCadets H / F – Femmes 17 + : \nDépart 14h30 – 12 tours x 4.1 km \nEngagement 6.50€ \nPrix coureurs : 138 / 10 – 1er prix 28€ \nEngagements : \nOuverture le 02/07/2022 à 18h \nFermeture le 25/08/2022 à 20h \nPrésident de jury : \n2/3 – Juniors – PCO : PIETTE Jean-Louis \nCadets : Non communiqué
URL:https://www.cyclisme.bzh/epreuve-calendrier/la-telhaie-en-guer-les-boucles-de-loyon/
LOCATION:La Telhaie en Guer\, France
END:VEVENT
BEGIN:VEVENT
DTSTART;VALUE=DATE:20220828
DTEND;VALUE=DATE:20220829
DTSTAMP:20260422T134837
CREATED:20220712T124127Z
LAST-MODIFIED:20220826T090008Z
UID:10001443-1661644800-1661731199@www.cyclisme.bzh
SUMMARY:Mont Dol - Roz Sur Couesnon - Coupe de Bretagne des clubs Overstim
DESCRIPTION:Camping Cars Jacqueline 2022  \nMinimes F : Départ 10h – 5 tours x 7 km \nCadettes : Départ 10h – 7 tours x 7 km \nEngagement 6.50€ \nDames juniors / seniors : Départ 14h – 9 tours x 7 km \nEngagement 8.50€ \nCoupe de Bretagne des clubs Overstim.s 2022 \n2ème & 3ème catégories / Juniors / PC Open : \nDépart 14h – Course en ligne 100 km + 2 tours x 7 km \nEngagement 8.50€ \nPrix coureurs : 335 / 15 – 1er prix 65€ \nEngagements : \nOuverture le 13/07/2022 à 18h \nFermeture le 25/08/2022 à 20h \nPrésidents de jurys : \nDames : TIENVROT Louis \nCourse en ligne : CORLAY Nadège \nInformations complémentaires : \n 
URL:https://www.cyclisme.bzh/epreuve-calendrier/mont-dol-roz-sur-couesnon/
LOCATION:Roz sur Couesnon\, France
ATTACH;FMTTYPE=application/pdf:https://www.cyclisme.bzh/wp-content/uploads/2022/07/affiche-roz-sur-couesnon.pdf
ORGANIZER;CN="JS DOLOISE CYCLISME (4335050)":MAILTO:loic.pedron@orange.fr
END:VEVENT
BEGIN:VEVENT
DTSTART;VALUE=DATE:20220828
DTEND;VALUE=DATE:20220829
DTSTAMP:20260422T134837
CREATED:20220720T123808Z
LAST-MODIFIED:20220816T085103Z
UID:10001464-1661644800-1661731199@www.cyclisme.bzh
SUMMARY:Plouay - La Bretagne Classique Ouest-France UCI World Tour
DESCRIPTION:Professionnels – Équipes de 7 coureurs : \nDépart 10h50 \n243.3 km de course en ligne + 1 tour de 11.7 km \nPour plus d’informations : \nhttp://www.grandprix-plouay.com/4-jours-cic-plouay/grand-prix-bretagne-classic.php \nContact : \nJean-Yves TRANVAUX – tranvaux.jean-yves@wanadoo.fr
URL:https://www.cyclisme.bzh/epreuve-calendrier/plouay-la-bretagne-classique-ouest-france-uci-world-tour/
LOCATION:PLOUAY\, France
ATTACH;FMTTYPE=image/jpeg:https://www.cyclisme.bzh/wp-content/uploads/2022/07/Bretagne-Classic-2022-scaled.jpg
ORGANIZER;CN="ASSOCIATION PLOUAY CYCLISME FFC (4356472)":MAILTO:guillemot.albert@wanadoo.fr
END:VEVENT
BEGIN:VEVENT
DTSTART;VALUE=DATE:20220828
DTEND;VALUE=DATE:20220829
DTSTAMP:20260422T134837
CREATED:20220720T130817Z
LAST-MODIFIED:20220816T085327Z
UID:10001468-1661644800-1661731199@www.cyclisme.bzh
SUMMARY:Grand Prix Plouay Amateurs
DESCRIPTION:Amateurs – 8 coureurs par équipe : \nDépart 11h30 – 14 tours x 11.7 km \nPrix coureurs : 1220 / 20 \nPour plus d’informations : \nhttp://www.grandprix-plouay.com/4-jours-cic-plouay/grand-prix-amateur.php \nContact : \nColette Fléjo – flejo.colette@gmail.com
URL:https://www.cyclisme.bzh/epreuve-calendrier/grand-prix-plouay-amateurs/
LOCATION:PLOUAY\, France
ATTACH;FMTTYPE=image/jpeg:https://www.cyclisme.bzh/wp-content/uploads/2022/07/Amateurs-Plouay-2022-scaled.jpg
ORGANIZER;CN="ASSOCIATION PLOUAY CYCLISME FFC (4356472)":MAILTO:guillemot.albert@wanadoo.fr
END:VEVENT
BEGIN:VEVENT
DTSTART;VALUE=DATE:20220828
DTEND;VALUE=DATE:20220829
DTSTAMP:20260422T134837
CREATED:20220721T132520Z
LAST-MODIFIED:20220721T132520Z
UID:10001477-1661644800-1661731199@www.cyclisme.bzh
SUMMARY:Landivisiau - Souvenir Aurélie Nicolas
DESCRIPTION:École de vélo : \nDépart 13h30 – Circuit 2.8 km – Distance selon l’âge \nEngagement 2€ \nMinimes / Cadettes : \nDépart 15h – 6 tours x 5.1 km \nEngagement 6.50€ \nPrix coureurs : 107 / 10 – 1er prix 20€ \nPrix minimes F / Cadettes : 30 / 3 – 1er prix 15€ \nCadets : \nDépart 16h30 – 12 tours x 5.1 km \nEngagement 6.50€ \nPrix coureurs : 138 / 10 – 1er prix 28€ \nEngagements : \nOuverture le 22/07/2022 à 18h \nFermeture le 25/08/2022 à 20h \nPrésidente de jury : \nDEBELHOIR Edith
URL:https://www.cyclisme.bzh/epreuve-calendrier/landivisiau-souvenir-aurelie-nicolas-2/
LOCATION:LANDIVISIAU\, LANDIVISIAU\, Bretagne\, France
CATEGORIES:Ecole de cyclisme
ORGANIZER;CN="LANDIVISIENNE CYCLISTE (4329019)":MAILTO:landivisienne.c@laposte.net
END:VEVENT
BEGIN:VEVENT
DTSTART;VALUE=DATE:20220829
DTEND;VALUE=DATE:20220830
DTSTAMP:20260422T134837
CREATED:20220711T124829Z
LAST-MODIFIED:20220711T130640Z
UID:10001430-1661731200-1661817599@www.cyclisme.bzh
SUMMARY:St Philibert en Trégunc - Grand Prix Henry Paul - Challenge Sud Océane #2
DESCRIPTION:1.2.3.Juniors.Pass Open : Dép 15h00 – 7.86 km x 15 t – Prix coureurs : 610/20 1er 122 € – 183/10 1er 37€ ps 2ème cat – 107/5 1er 35 €  ps 3 cat et juniors – Engagements 8. 50€ \nRenseignements : Patrice LE FRESNE – 07 86 89 89 23 – plefresne@laposte.net
URL:https://www.cyclisme.bzh/epreuve-calendrier/st-philibert-en-tregunc-grand-prix-henry-paul-challenge-sud-oceane-2/
LOCATION:ST PHILIBERT EN TRÉGUNC\, ST PHILIBERT EN TRÉGUNC\, Bretagne\, France
ORGANIZER;CN="CC CONCARNOIS (4329090)":MAILTO:plefresne@laposte.net
END:VEVENT
BEGIN:VEVENT
DTSTART;VALUE=DATE:20220902
DTEND;VALUE=DATE:20220903
DTSTAMP:20260422T134837
CREATED:20220713T125739Z
LAST-MODIFIED:20220713T125739Z
UID:10001447-1662076800-1662163199@www.cyclisme.bzh
SUMMARY:Argentré Du Plessis
DESCRIPTION:2ème & 3ème catégories / Juniors / PC Open – Limité à 70 coureurs : \nDépart 18h30 – 38 tours x 2.2 km \nEngagement 8.50€ \nPrix coureurs : 518 / 20 – 1er prix 102€ \nEngagements : \nOuverture le 13/07/2022 à 18h \nFermeture le 30/08/2022 à 20h \nPrésident de jury : \nORRIERE Jean-Luc
URL:https://www.cyclisme.bzh/epreuve-calendrier/argentre-du-plessis-2/
LOCATION:ARGENTRE DU PLESSIS\, ARGENTRE DU PLESSIS\, Bretagne\, France
ORGANIZER;CN="ASPTT RENNES CYCLISME (4335114)":MAILTO:aspttrennescycling@gmail.com
END:VEVENT
BEGIN:VEVENT
DTSTART;VALUE=DATE:20220902
DTEND;VALUE=DATE:20220903
DTSTAMP:20260422T134837
CREATED:20220715T092830Z
LAST-MODIFIED:20220830T123147Z
UID:10001457-1662076800-1662163199@www.cyclisme.bzh
SUMMARY:Locminé - Grand Prix des Commerçants
DESCRIPTION:1ère\, 2ème & 3ème catégories / Juniors / PC Open – Limité à 100 coureurs : \nDépart 18h30 – 40 tours x 2.3 km \nEngagement 8.50€ \nPrix : \nPrix coureurs : 610 / 20 – 1er prix 122€ \nPrix 2ème catégorie : 107 / 5 – 1er prix 35€ \nPrix 3ème catégorie : 91 / 5 – 1er prix 29€ \nEngagements :  \nOuverture le 16/07/2022 à 18h \nFermeture le 31/08/2022 à 20h \nPrésident de jury : \nNon communiqué
URL:https://www.cyclisme.bzh/epreuve-calendrier/locmine-grand-prix-des-commercants/
LOCATION:Locminé
ORGANIZER;CN="OC LOCMINE (4356009)":MAILTO:henrimoreac@gmail.com
END:VEVENT
BEGIN:VEVENT
DTSTART;VALUE=DATE:20220902
DTEND;VALUE=DATE:20220903
DTSTAMP:20260422T134837
CREATED:20220801T140400Z
LAST-MODIFIED:20220801T140400Z
UID:10001502-1662076800-1662163199@www.cyclisme.bzh
SUMMARY:Fougères - Grand Prix des partenaires du COCF
DESCRIPTION:Minimes – Limité à 60 engagés : \nDépart 19h – 20 tours x 1.2 km \nEngagement 6.50€ \nPrix coureurs : 107 / 10 – 1er prix 20€ \nCadets – Limité à 80 engagés : \nDépart 20h – 40 tours x 1.2 km \nEngagement 6.50€ \nPrix coureurs : 168 / 10 – 1er prix 1.2 km \nEngagements : \nOuverture le 02/08/2022 à 18h \nFermeture le 30/08/2022 à 20h \nPrésident de jury : \nDANION Michel
URL:https://www.cyclisme.bzh/epreuve-calendrier/fougeres-grand-prix-des-partenaires-du-cocf/
LOCATION:FOUGÈRES\, France
ORGANIZER;CN="COC FOUGERAIS (4335256)":MAILTO:cocfougerais@gmail.com
END:VEVENT
BEGIN:VEVENT
DTSTART;VALUE=DATE:20220903
DTEND;VALUE=DATE:20220904
DTSTAMP:20260422T134837
CREATED:20220630T101635Z
LAST-MODIFIED:20220630T101635Z
UID:10001433-1662163200-1662249599@www.cyclisme.bzh
SUMMARY:Monthault
DESCRIPTION:3ème catégorie / Juniors / PC Open : \nDépart 15h – 17 tours x 6 km \nEngagement 8.50€ \nPrix coureurs : 305 / 15 – 1er prix 61€ \nEngagements : \nOuverture le 01/07/2022 à 18h \nFermeture le 31/08/2022 à 20h \nPrésident de jury : \nEVANNO Raymond
URL:https://www.cyclisme.bzh/epreuve-calendrier/monthault/
LOCATION:MONTHAULT\, MONTHAULT\, Bretagne\, France
ORGANIZER;CN="GO Fougerais":MAILTO:louis.tienvrot35@orange.fr
END:VEVENT
BEGIN:VEVENT
DTSTART;VALUE=DATE:20220903
DTEND;VALUE=DATE:20220904
DTSTAMP:20260422T134837
CREATED:20220701T125911Z
LAST-MODIFIED:20220701T125911Z
UID:10001405-1662163200-1662249599@www.cyclisme.bzh
SUMMARY:Saint Onen La Chapelle
DESCRIPTION:Cadets : \nDépart 13h – 9 tours x 6.3 km \nEngagement 6.50€ \nPass cyclisme / Pass Open : \nD1 / D2 : Départ 15h – 13 tours x 6.3 km \nD3 / D4 : Départ 15h02 – 11 tours x 6.3 km \nEngagement 8.50€ \nEngagements : \nOuverture le 02/07/2022 à 18h \nFermeture le 31/08/2022 à 20h \nPrésident de jury : \nLOUESSARD Daniel
URL:https://www.cyclisme.bzh/epreuve-calendrier/saint-onen-la-chapelle/
LOCATION:ST ONEN LA CHAPELLE\, France
END:VEVENT
BEGIN:VEVENT
DTSTART;VALUE=DATE:20220903
DTEND;VALUE=DATE:20220904
DTSTAMP:20260422T134837
CREATED:20220701T134624Z
LAST-MODIFIED:20220902T094950Z
UID:10001407-1662163200-1662249599@www.cyclisme.bzh
SUMMARY:Rieux
DESCRIPTION:D3 / D4 : \nDépart 13h30 – 30 tours x 1.9 km \nD1 / D2 : \nDépart 15h30 – 35 tours x 1.9 km \nEngagements : \nTarif : 8.50€ \nOuverture le 02/07/2022 à 18h \nFermeture le 31/08/2022 à 20h \nPrésident de jury : \nNon communiqué
URL:https://www.cyclisme.bzh/epreuve-calendrier/rieux-3/
LOCATION:RIEUX
ORGANIZER;CN="VS RIEUXOIS 56 (4356005)":MAILTO:romainlelievre2011@gmail.com
END:VEVENT
BEGIN:VEVENT
DTSTART;VALUE=DATE:20220903
DTEND;VALUE=DATE:20220904
DTSTAMP:20260422T134837
CREATED:20220721T135945Z
LAST-MODIFIED:20220831T131021Z
UID:10001478-1662163200-1662249599@www.cyclisme.bzh
SUMMARY:Vern Sur Seiche
DESCRIPTION:Cadets H / F – Limité à 60 engagés : \nDépart 16h – 20 tours x 2 km \nEngagement 6.50€ \nPrix coureurs : 107 / 10 – 1er prix 20€ \nDames 17 + Limité à 60 engagés : \nDépart 17h30 – 22 tours x 2 km \nEngagement 8.50€ \nPrix coureurs : 183 / 10 – 1er prix 37€ \n3ème catégorie / juniors / PC Open – Limité à 100 engagés : \nDépart 19h15 – 33 tours x 2 km \nEngagement 8.50€ \nPrix coureurs : 183 / 10 – 1er prix 37€ \nEngagements : \nOuverture le 22/07/2022 à 18h \nFermeture le 31/08/2022 à 20h \nPrésident de jury : \nPIETTE Jean-Louis
URL:https://www.cyclisme.bzh/epreuve-calendrier/vern-sur-seiche-3/
LOCATION:VERN SUR SEICHE\, VERN SUR SEICHE\, Bretagne\, France
ORGANIZER;CN="US VERN CYCLISME (4335091)":MAILTO:jlguillard35@hotmail.fr
END:VEVENT
BEGIN:VEVENT
DTSTART;VALUE=DATE:20220903
DTEND;VALUE=DATE:20220904
DTSTAMP:20260422T134837
CREATED:20220726T101255Z
LAST-MODIFIED:20220726T101255Z
UID:10001452-1662163200-1662249599@www.cyclisme.bzh
SUMMARY:Moustoir Ac - La Route des Mégalithes
DESCRIPTION:Cadets : \nDépart 14h15 – 9 tours x 4.8 km \nEngagement 6.50€ \nPrix coureurs : 138 / 10 – 1er prix 28€ \nPrix cadets 1 : 30 / 3 – 1er prix 15€ \n1ère\, 2ème & 3ème catégories / Juniors / PC Open : \nDépart 14h – 78 km en ligne + 8 tours x 4.8 km \nEngagement 8.50€ \nPrix coureurs : 610 / 20 – 1er prix 122€ \nPrix 2ème catégorie : 138 / 3 – 1er prix 69€ \nPrix 3ème catégorie et juniors : 107 / 5 – 1er prix 35€ \nEngagements : \nOuverture le 27/07/2022 à 18h \nFermeture le 31/08/2022 à 20h \nPrésident de jury : \nNon communiqué
URL:https://www.cyclisme.bzh/epreuve-calendrier/moustoir-ac-la-route-des-megalithes/
LOCATION:MOUSTOIR AC\, France
ORGANIZER;CN="OC LOCMINE (4356009)":MAILTO:henrimoreac@gmail.com
END:VEVENT
BEGIN:VEVENT
DTSTART;VALUE=DATE:20220903
DTEND;VALUE=DATE:20220904
DTSTAMP:20260422T134837
CREATED:20220726T135336Z
LAST-MODIFIED:20220726T135336Z
UID:10001458-1662163200-1662249599@www.cyclisme.bzh
SUMMARY:Megrit
DESCRIPTION:Régularité route : \nDépart 14h \nDistance selon l’âge – Circuit 2 km \nEngagement 2€ \nEngagements : \nOuverture le 27/07/2022 à 18h \nFermeture le 31/08/2022 à 20h
URL:https://www.cyclisme.bzh/epreuve-calendrier/megrit-4/
LOCATION:MEGRIT\, MEGRIT\, Bretagne\, France
CATEGORIES:Régularité route
ORGANIZER;CN="TEAM MEGRIT (4322459)":MAILTO:patrice.lebras@wanadoo.fr
END:VEVENT
BEGIN:VEVENT
DTSTART;VALUE=DATE:20220903
DTEND;VALUE=DATE:20220904
DTSTAMP:20260422T134837
CREATED:20220804T092057Z
LAST-MODIFIED:20220804T092057Z
UID:10001513-1662163200-1662249599@www.cyclisme.bzh
SUMMARY:Plélan Le Grand - 2ème Manche Challenge Emmanuel Frin - Trophée de Brocéliande des poursuiteurs
DESCRIPTION:Minimes H/F : \nOmnium – Vitesse ou scratch + 1 tour départ arrêté \nEngagement 6.50€ \nCadets H/F : \nOmnium – 500 m + poursuite individuelle \nEngagement 6.50€ \nJuniors / Seniors Dames : \nOmnium – 500 m + poursuite individuelle \nEngagement 8.50€ \nJuniors / Seniors Hommes : \nOmnium – Km + poursuite individuelle \nEngagement 8.50€ \nPass cyclisme H/F : \nOmnium – 500 m + poursuite individuelle \nOmnium – Km + poursuite individuelle \nEngagement 8.50€ \nVitesse par équipe : \nToutes catégories \nPoursuite par équipe : \n17 ans et + \nBenjamins / Minimes / Cadets H/F – Avec vélo de route – Limité à 45 engagés : \nBenjamins : 1 tour départ arrêté + scratch \nMinimes : 2 tours départ arrêté + scratch \nCadets : 3 tours départ arrêté + scratch \nEngagement gratuit \nEngagements : \nOuverture le 05/08/2022 à 18h \nFermeture le 31/08/2022 à 20h \nPrésident de jury : \nNon communiqué \nInformations complémentaires : \nRèglement samedis du vélodrome 2021 2022(1) \nRèglement Challenge Emmanuel FRIN 2022 \n 
URL:https://www.cyclisme.bzh/epreuve-calendrier/plelan-le-grand-2eme-manche-challenge-emmanuel-frin-trophee-de-broceliande-des-poursuiteurs/
LOCATION:PLÉLAN LE GRAND\, France
END:VEVENT
BEGIN:VEVENT
DTSTART;VALUE=DATE:20220904
DTEND;VALUE=DATE:20220905
DTSTAMP:20260422T134837
CREATED:20220706T141510Z
LAST-MODIFIED:20220706T141510Z
UID:10001415-1662249600-1662335999@www.cyclisme.bzh
SUMMARY:Cyclo pour le climat
DESCRIPTION:De Brest au Mont St Michel\, venez participer à une randonnée pour la bonne cause ! \nL’ECP Guichen organise une randonnée pour le climat le dimanche 4 septembre 2022\, dont le parcours est le suivant : \n \nL’objectif de cette journée est d’organiser une épreuve de cyclisme\, afin de sensibiliser sur l’importance de l’urgence à agir pour la protection de notre planète. \nPour tout renseignement\, vous pouvez contacter Mickaël Jardin par mail à l’adresse jardinmickael@gmail.com \n 
URL:https://www.cyclisme.bzh/epreuve-calendrier/cyclo-pour-le-climat/
ATTACH;FMTTYPE=image/png:https://www.cyclisme.bzh/wp-content/uploads/2022/07/Poster-C4C-Bzh-version-finale.png
END:VEVENT
BEGIN:VEVENT
DTSTART;VALUE=DATE:20220904
DTEND;VALUE=DATE:20220905
DTSTAMP:20260422T134837
CREATED:20220804T070357Z
LAST-MODIFIED:20220826T085848Z
UID:10001508-1662249600-1662335999@www.cyclisme.bzh
SUMMARY:Hennebont Langroix - 34ème Tour du Morbihan Juniors - Coupe de Bretagne Crédit Agricole Mozaïc #6
DESCRIPTION:Juniors  – Limité à 150 engagés et 7 coureurs par équipe : \nDépart 15h – Course en ligne 84.7 km + 5 tours x 4.5 km \nEngagement 8.50€ \nPrix coureurs : 610 / 20 – 1er prix 184€ \nEngagements : \nOuverture le 05/08/2022 à 18h \nFermeture le 01/09/2022 à 20h \nPrésident de jury : \nBOTREL Yannick
URL:https://www.cyclisme.bzh/epreuve-calendrier/hennbont-langroix-34eme-tour-du-morbihan-juniors/
LOCATION:Hennebont Langroix\, France
ATTACH;FMTTYPE=image/jpeg:https://www.cyclisme.bzh/wp-content/uploads/2022/08/TMJ-2022-Affiche-scaled.jpg
ORGANIZER;CN="UCL HENNEBONT (4356110)":MAILTO:eric-puren@wanadoo.fr
END:VEVENT
BEGIN:VEVENT
DTSTART;VALUE=DATE:20220904
DTEND;VALUE=DATE:20220905
DTSTAMP:20260422T134837
CREATED:20220527T134802Z
LAST-MODIFIED:20220527T140817Z
UID:10001353-1662249600-1662335999@www.cyclisme.bzh
SUMMARY:Le Menec Trévé Loudéac
DESCRIPTION:Régularité : Dép 12h45 – Distance selon l’âge – SP – Engagements : 2 € \nMinimes et Minimes/cadettes: Dép 14h00 – 3.4 km x 10 t – Gr 107/10 – Engagements : 6.50 € \n3 cat+Juniors+PC Open : Dép 15h30 – 3.4 km x 24 t – Gr 305/15  – Gr 28/3 ps juniors – Engagements : 8.50 € \nRenseignements : Christian CONNAN 02.96.28.11.96  –  06.30.29.64.83\nE-Mail : christian.connan2@wanadoo.fr
URL:https://www.cyclisme.bzh/epreuve-calendrier/le-menec-treve-loudeac-2/
LOCATION:Le Menec Trévé
CATEGORIES:Ecole de cyclisme
ORGANIZER;CN="VC LOUDEAC 38 (4322004)":MAILTO:rene.fercoq@neuf.fr
END:VEVENT
BEGIN:VEVENT
DTSTART;VALUE=DATE:20220904
DTEND;VALUE=DATE:20220905
DTSTAMP:20260422T134837
CREATED:20220713T125159Z
LAST-MODIFIED:20220713T125159Z
UID:10001445-1662249600-1662335999@www.cyclisme.bzh
SUMMARY:Combourg
DESCRIPTION:Cadets : \nDépart 13h30 – 10 tours x 5.2 km \nEngagement 6.50€ \n2ème & 3ème catégories / Juniors / PC Open : \nDépart 15h30 – 20 tours x 5.2 km \nEngagement 8.50€ \nEngagements : \nOuverture le 14/07/2022 à 18h \nFermeture le 01/09/2022 à 20h \nPrésident de jury : \nCUPIF Antoine
URL:https://www.cyclisme.bzh/epreuve-calendrier/combourg-2/
LOCATION:COMBOURG\, COMBOURG\, Bretagne\, France
ORGANIZER;CN="JS DOLOISE CYCLISME (4335050)":MAILTO:loic.pedron@orange.fr
END:VEVENT
BEGIN:VEVENT
DTSTART;VALUE=DATE:20220904
DTEND;VALUE=DATE:20220905
DTSTAMP:20260422T134837
CREATED:20220713T133324Z
LAST-MODIFIED:20220713T133324Z
UID:10001455-1662249600-1662335999@www.cyclisme.bzh
SUMMARY:Saint Jacques De La Lande - La Haie des Cognets
DESCRIPTION:D3 / D4 : \nDépart 10h30 – 15 tours x 3.6 km \nEngagement 8.50€ \nD1 / D2 : \nDépart 13h30 – 18 tours x 3.6 km \nEngagement 8.50€ \n2ème & 3ème catégories / Juniors / PC Open : \nDépart 15h30 – 25 tours x 3.6 km \nEngagement 8.50€ \nPrix coureurs : 518 / 20 – 1er prix 102€ \nPrix 3ème catégorie et juniors : 107 / 5 – 1er prix 35€ \nEngagements : \nOuverture le 14/07/2022 à 18h \nFermeture le 01/09/2022 à 20h \nPrésident de jury : \nMARIN Christian
URL:https://www.cyclisme.bzh/epreuve-calendrier/saint-jacques-de-la-lande-la-haie-des-cognets/
LOCATION:ST JACQUES DE LA LANDE\, ST JACQUES DE LA LANDE\, Bretagne\, France
ORGANIZER;CN="ASPTT RENNES CYCLISME (4335114)":MAILTO:aspttrennescycling@gmail.com
END:VEVENT
BEGIN:VEVENT
DTSTART;VALUE=DATE:20220904
DTEND;VALUE=DATE:20220905
DTSTAMP:20260422T134837
CREATED:20220721T080610Z
LAST-MODIFIED:20220901T082343Z
UID:10001472-1662249600-1662335999@www.cyclisme.bzh
SUMMARY:Grand-Champ - Grand Prix DPMF
DESCRIPTION:Pass cyclisme : \nDépart 13h \nD1 / D2 : 15 tours x 4.58 km \nD3 / D4 : 13 tours x 4.58 km \nEngagement 8.50€ \nDames juniors / seniors : \nDépart 15h30 – 15 tours x 4.58 km \nEngagement 8.50€ \nPrix coureurs : 915 / 20 – 1er prix 184€ \nEngagements : \nOuverture le 22/07/2022 à 18h \nFermeture le 02/09/2022 à 12h \nPrésident de jury : \nNon communiqué
URL:https://www.cyclisme.bzh/epreuve-calendrier/grand-champ-grand-prix-dpmf/
LOCATION:GRAND CHAMP\, GRAND CHAMP\, Bretagne\, France
ORGANIZER;CN="LA PETITE REINE DU LOCH (4356465)":MAILTO:lapetitereineduloch@gmail.com
END:VEVENT
BEGIN:VEVENT
DTSTART;VALUE=DATE:20220904
DTEND;VALUE=DATE:20220905
DTSTAMP:20260422T134837
CREATED:20220726T120041Z
LAST-MODIFIED:20220726T120041Z
UID:10001454-1662249600-1662335999@www.cyclisme.bzh
SUMMARY:Saint Gonlay
DESCRIPTION:3ème catégorie / Juniors / PC Open : \nDépart 15h – 17 tours x 5.7 km \nEngagement 8.50€ \nPrix coureurs : 274 / 15 – 1er prix 53€ \nEngagements : \nOuverture le 27/07/2022 à 18h \nFermeture le 01/09/2022 à 20h \nPrésident de jury : \nTRUTTIN Gaston
URL:https://www.cyclisme.bzh/epreuve-calendrier/saint-gonlay-2/
LOCATION:Saint Gonlay\, France
ORGANIZER;CN="CC RENNAIS (4335078)":MAILTO:patrick.frin@orange.fr
END:VEVENT
BEGIN:VEVENT
DTSTART;VALUE=DATE:20220904
DTEND;VALUE=DATE:20220905
DTSTAMP:20260422T134837
CREATED:20220726T131001Z
LAST-MODIFIED:20220726T131001Z
UID:10001456-1662249600-1662335999@www.cyclisme.bzh
SUMMARY:Megrit
DESCRIPTION:D3 / D4 : \nDépart 13h30 – 11 tours x 6.2 km \nEngagement 8.50€ \nD1 / D2 : \nDépart 15h30 – 13 tours x 6.2 km \nEngagement 8.50€ \nEngagements : \nOuverture le 27/07/2022 à 18h \nFermeture le 01/09/2022 à 20h \nPrésident de jury : \nNon communiqué
URL:https://www.cyclisme.bzh/epreuve-calendrier/megrit-3/
LOCATION:MEGRIT\, MEGRIT\, Bretagne\, France
ORGANIZER;CN="TEAM MEGRIT (4322459)":MAILTO:patrice.lebras@wanadoo.fr
END:VEVENT
BEGIN:VEVENT
DTSTART;VALUE=DATE:20220904
DTEND;VALUE=DATE:20220905
DTSTAMP:20260422T134837
CREATED:20220726T135912Z
LAST-MODIFIED:20220727T065530Z
UID:10001460-1662249600-1662335999@www.cyclisme.bzh
SUMMARY:Comblessac
DESCRIPTION:Benjamins H/F : \nDépart 9h45 \nEngagement 6€ \nMinimes H/F : \nDépart 10h15 \nEngagement 7€ \nCadets H/F : \nDépart 11h15 \nEngagement 7€ \nPoussins H/F : \nDépart 12h30 \nEngagement 6€ \nPupilles H/F : \nDépart 13h \nEngagement 6€ \n17 + / Masters 40\,50  H/F : \nDépart 14h30 \nEngagement 9.50€ \nEngagements : \nOuverture le 27/07/2022 à 18h \nFermeture le 01/09/2022 à 20h \n 
URL:https://www.cyclisme.bzh/epreuve-calendrier/comblessac/
LOCATION:COMBLESSAC\, COMBLESSAC\, Bretagne\, France
CATEGORIES:Cyclosportive,Masters
END:VEVENT
BEGIN:VEVENT
DTSTART;VALUE=DATE:20220904
DTEND;VALUE=DATE:20220905
DTSTAMP:20260422T134837
CREATED:20220728T090946Z
LAST-MODIFIED:20220728T090946Z
UID:10001482-1662249600-1662335999@www.cyclisme.bzh
SUMMARY:Plouhinec - grand Prix Savina
DESCRIPTION:École de vélo : \nDépart 11h – Distance selon l’âge \nEngagement 2€ \nCadets H/F / Femmes 17 + : \nDépart 13h30 – 14 tours x 3.6 km \nEngagement 6.50€ \nPrix coureurs : 107 / 10 – 1er prix 20€ \nMinimes H/F / Cadettes : \nDépart 15h – 10 tours x 3.6 km \nEngagement 6.50€ \nPrix coureurs : 107 / 10 – 1er prix 20€ \nPass / Pass Open : \nDépart 16h15 – 18 tours x 3.6 km \nEngagements : \nOuverture le 29/07/2022 à 18h \nFermeture le 01/09/2022 à 20h \nPrésidente de jury : \nDONNARD Agathe
URL:https://www.cyclisme.bzh/epreuve-calendrier/plouhinec-grand-prix-savina/
LOCATION:PLOUHINEC\, 29780\, France
CATEGORIES:Ecole de cyclisme
ORGANIZER;CN="CAP SIZUN CYCLISME (4329304)":MAILTO:y29thomas@orange.fr
END:VEVENT
BEGIN:VEVENT
DTSTART;VALUE=DATE:20220904
DTEND;VALUE=DATE:20220905
DTSTAMP:20260422T134837
CREATED:20220729T114429Z
LAST-MODIFIED:20220729T114429Z
UID:10001491-1662249600-1662335999@www.cyclisme.bzh
SUMMARY:Saint Judoce
DESCRIPTION:Minimes : \nDépart 12h45 – 6 tours x 4.3 km \nEngagement 6.50€ \nPrix coureurs : 107 / 10 – 1er prix 20€ \nCadets : \nDépart 14h – 12 tours x 4.3 km \nEngagement 6.50€ \nPrix coureurs : 138 / 10 – 1er prix 28€ \n3ème catégorie / Juniors  /PC Open : \nDépart 15h30 – 20 tours x 4.3 km \nEngagement 8.50€ \nPrix coureurs : 259 / 15 – 1er prix 50€ \nEngagements : \nOuverture le 30/07/2022 à 18h \nFermeture le 01/09/2022 à 19h \nPrésident de jury : \nNon communiqué
URL:https://www.cyclisme.bzh/epreuve-calendrier/saint-judoce/
LOCATION:SAINT JUDOCE\, SAINT JUDOCE\, Bretagne\, France
END:VEVENT
BEGIN:VEVENT
DTSTART;VALUE=DATE:20220904
DTEND;VALUE=DATE:20220905
DTSTAMP:20260422T134837
CREATED:20220804T070836Z
LAST-MODIFIED:20220901T093702Z
UID:10001511-1662249600-1662335999@www.cyclisme.bzh
SUMMARY:Hennebont Langroix - Course d'attente du Tour du Morbihan Juniors - Coupe de Bretagne des Clubs Overstim•s 2022
DESCRIPTION:2ème & 3ème catégories / PC Open : \nDépart 14h – 18 tours x 4.5 km \nEngagement 8.50€ \nPrix coureurs : 518 / 20 – 1er prix 102€ \nEngagements : \nOuverture le 05/08/2022 à 18h \nFermeture le 01/09/2022 à 20h \nPrésident de jury : \nNon communiqué
URL:https://www.cyclisme.bzh/epreuve-calendrier/hennebont-langroix-course-dattente-du-tour-du-morbihan-juniors/
LOCATION:Hennebont Langroix\, France
ATTACH;FMTTYPE=image/jpeg:https://www.cyclisme.bzh/wp-content/uploads/2022/02/overstims-rouge.jpg
ORGANIZER;CN="UCL HENNEBONT (4356110)":MAILTO:eric-puren@wanadoo.fr
END:VEVENT
BEGIN:VEVENT
DTSTART;VALUE=DATE:20220906
DTEND;VALUE=DATE:20220907
DTSTAMP:20260422T134837
CREATED:20220728T093705Z
LAST-MODIFIED:20220728T093705Z
UID:10001483-1662422400-1662508799@www.cyclisme.bzh
SUMMARY:Grand Prix de la Ville de Fougères
DESCRIPTION:1ère & 2ème catégories : \nDépart 13h15 – Course en ligne 84.139 km + 7 tours x 9.983 km \nEngagement 10€ \nPrix coureurs : \nClassement général : 1220 / 20 – 1er prix 197€ \nClassement grimpeur : 385 / 5 – 1er prix 155€ \nClassement animateur : 300 / 5 – 1er prix 108€ \nClassement 2ème catégorie : 305 / 10 – 1er prix 62€ \nEngagements : \nOuverture le 29/07/2022 à 18h \nFermeture le 01/09/2022 à 20h \nPrésident de jury : \nGLOAGUEN Julien
URL:https://www.cyclisme.bzh/epreuve-calendrier/grand-prix-de-la-ville-de-fougeres/
LOCATION:FOUGÈRES\, France
ORGANIZER;CN="COC FOUGERAIS (4335256)":MAILTO:cocfougerais@gmail.com
END:VEVENT
BEGIN:VEVENT
DTSTART;VALUE=DATE:20220907
DTEND;VALUE=DATE:20220908
DTSTAMP:20260422T134837
CREATED:20220307T145217Z
LAST-MODIFIED:20220907T183537Z
UID:10001116-1662508800-1662595199@www.cyclisme.bzh
SUMMARY:Sévignac
DESCRIPTION:Minimes : Dép 12h30 – 4.5 km x 7 t – Prix coureurs : 107/10 1er 20 € – Engagements 6.50 € \nCadets : Dép 13h45 – 4.5 km x 12 t – Prix coureurs : 138/10 1er 28€ – Engagements 6.50 € \n3 cat+Juniors+Pass Open : Dép 15h30 – 4.5 km x 20 t – Prix coureurs : 274/15 1er 53 € – Engagements 8.50 € \nOuverture des engagements le 08/03 à 18h00 \nRenseignements : Patrice TEFFAINE – p.teffaine@gmail.com – 06 68 34 72 79
URL:https://www.cyclisme.bzh/epreuve-calendrier/sevignac/
END:VEVENT
END:VCALENDAR