BEGIN:VCALENDAR
VERSION:2.0
PRODID:-//Comité de Bretagne de Cyclisme - ECPv6.15.20//NONSGML v1.0//EN
CALSCALE:GREGORIAN
METHOD:PUBLISH
X-ORIGINAL-URL:https://www.cyclisme.bzh
X-WR-CALDESC:Évènements pour Comité de Bretagne de Cyclisme
REFRESH-INTERVAL;VALUE=DURATION:PT1H
X-Robots-Tag:noindex
X-PUBLISHED-TTL:PT1H
BEGIN:VTIMEZONE
TZID:Europe/Paris
BEGIN:DAYLIGHT
TZOFFSETFROM:+0100
TZOFFSETTO:+0200
TZNAME:CEST
DTSTART:20210328T010000
END:DAYLIGHT
BEGIN:STANDARD
TZOFFSETFROM:+0200
TZOFFSETTO:+0100
TZNAME:CET
DTSTART:20211031T010000
END:STANDARD
BEGIN:DAYLIGHT
TZOFFSETFROM:+0100
TZOFFSETTO:+0200
TZNAME:CEST
DTSTART:20220327T010000
END:DAYLIGHT
BEGIN:STANDARD
TZOFFSETFROM:+0200
TZOFFSETTO:+0100
TZNAME:CET
DTSTART:20221030T010000
END:STANDARD
BEGIN:DAYLIGHT
TZOFFSETFROM:+0100
TZOFFSETTO:+0200
TZNAME:CEST
DTSTART:20230326T010000
END:DAYLIGHT
BEGIN:STANDARD
TZOFFSETFROM:+0200
TZOFFSETTO:+0100
TZNAME:CET
DTSTART:20231029T010000
END:STANDARD
END:VTIMEZONE
BEGIN:VEVENT
DTSTART;VALUE=DATE:20220804
DTEND;VALUE=DATE:20220805
DTSTAMP:20260422T122908
CREATED:20220527T124909Z
LAST-MODIFIED:20220720T074046Z
UID:10001351-1659571200-1659657599@www.cyclisme.bzh
SUMMARY:Pléhédel Bourg - Criterium de Pléhédel
DESCRIPTION:Minimes et Minimes/Cadettes : Dép 19h – 3.1 km x 8 t – Prix coureurs : 107/10 1er 20 € – Engagements 6.50 € \n3ème cat+Juniors+Pass Open : Dép 20h – 3.1 km x 25 t – Prix coureurs : 183/10 1er 37 € – Engagements 8.50 € \nOuverture des engagements le 28/05 à 18h \nRenseignements : Jacques BUHOUR – jacques.buhour22@gmail.com – 06 15 05 70 09
URL:https://www.cyclisme.bzh/epreuve-calendrier/plehedel-bourg-criterium-de-plehedel/
LOCATION:PLEHEDEL
ATTACH;FMTTYPE=image/jpeg:https://www.cyclisme.bzh/wp-content/uploads/2022/05/IMG_20220719_222809.jpg
ORGANIZER;CN="EC PAYS DE PAIMPOL (4322323)":MAILTO:jacques.buhour22@gmail.com
END:VEVENT
BEGIN:VEVENT
DTSTART;VALUE=DATE:20220805
DTEND;VALUE=DATE:20220809
DTSTAMP:20260422T122908
CREATED:20220615T080702Z
LAST-MODIFIED:20220715T075047Z
UID:10001383-1659657600-1660003199@www.cyclisme.bzh
SUMMARY:L'Estivale Bretonne - sur invitation
DESCRIPTION:Liste des équipes Invitées \n\n\n\nCOrdEq\nCEquiCode\nCEquiNom\n\n\n1\nDIN\nDINAN SPORT CYCLISME\n\n\n2\nBIS\nAC BISONTINE\n\n\n3\nAIX\nAVC AIX EN PROVENCE\n\n\n4\nETU\nCC ETUPES PAYS DE MONBELLIARD\n\n\n5\nCTL\nCROSS TEAM LEGENDRE\n\n\n6\nARM\nCOTES D ARMOR MARIE MORIN U\n\n\n7\nDOV\nDOVY KEUKENS FCC\n\n\n8\nSEL\nEC SAINT ETIENNE LOIRE\n\n\n9\nB31\nGSC BLAGNAC VS 31\n\n\n10\nGCH\nGUIDON CHALETTOIS\n\n\n11\nAG2\nAG2R CITROEN U23 TEAM\n\n\n12\nOCF\nOCCITANE CYCLISME FORMATION\n\n\n13\nO16\nOCEANE TOP 16\n\n\n14\nPCO\nPARIS CYCLISME OLYMPIQUE\n\n\n15\nDIJ\nSCO DIJON TEAM MATERIEL VELO.COM\n\n\n16\nSEN\nSENSA KVK CYCLING TEAM\n\n\n17\nSOJ\nSOJASUN ESPOIR ACNC\n\n\n18\nBRO\nTEAM LA CREPE BROCELIANDE\n\n\n19\nC17\nTEAM U CUBE 17 A PO GE CYCLISTE\n\n\n20\nKEM\nTWC DE KEMPEN\n\n\n21\nBRI\nUC BRIOCHINE BLEU MERCURE\n\n\n22\nHER\nUS SAINT HERBLAIN\n\n\n23\nLOU\nVCP LOUDEAC\n\n\n24\nVEU\nVENDEE U PAYS DE LA LOIRE\n\n\n25\nLOC\nWB FYBOLIA LOCMINE MORBIHAN\n\n\n26\nWPA\nWIELERPLOEG GROOT AMSTERDAM\n\n\n\n  \nEtape 1 : Grand-Champ – Grand-Champ \nDépart 13 h 30 \nBoucle 67\,7 km + 7 tours x 9\,7 km \nPrix coureurs : 1220/20 1er 246 € \n – Etape 2 : Scrignac – Poullaouen \nDépart 14 h \n   Parcours en ligne de 4\,6 km + 5 tours x 6\,5 km + parcours en ligne de 14\,1 km + 11 tours de 7\,8 km \nPrix coureurs : 1220/20 1er 246 € \n  – Etape 3 : Guerlesquin – Le Ponthou\n \nDépart 14 h \nParcours en ligne 8 km + 6 tours x 8\,9 km + parcours en ligne 8\,6 km + 7 tours de 9\,5 km \nPrix coureurs : 1220/20 1er 246 € \n   – Etape 4 : Loudéac – Loudéac \nDépart 13h30 \nGrande boucle 23\,9 km + petite boucle 25\,25 km + 14 tours de 7\,2 km \nPrix coureurs : 1220/20 1er 246 € \nClassement général : 2440/25 \nPlus d’informations : Nicole TANGUY – tanguy.nicole993@orange.fr – 07.88.83.35.08 https://lestivalebretonne.com/
URL:https://www.cyclisme.bzh/epreuve-calendrier/lestivale-bretonne-sur-invitation/
LOCATION:GRAND CHAMP\, GRAND CHAMP\, Bretagne\, France
ORGANIZER;CN="VCP Loud%C3%A9ac":MAILTO:secretariatvcpl@orange.fr
END:VEVENT
BEGIN:VEVENT
DTSTART;VALUE=DATE:20220806
DTEND;VALUE=DATE:20220807
DTSTAMP:20260422T122908
CREATED:20220622T142407Z
LAST-MODIFIED:20220622T144140Z
UID:10001406-1659744000-1659830399@www.cyclisme.bzh
SUMMARY:Plélan Le Petit
DESCRIPTION:Pass cyclisme D3/D4 : Dép 17h00 – 2.86 km x 21 t – Engagements 8.50 € \nPass cyclisme et Open D1/D2 : Dép 19h00 – 2.86 km x 28 t – Engagements 8.50 € \nRenseignements : Céline LEBRAS – patrice.lebras@wanadoo.fr – 06 32 29 94 52 \n 
URL:https://www.cyclisme.bzh/epreuve-calendrier/plelan-le-petit/
LOCATION:PLELAN LE PETIT\, PLELAN LE PETIT\, Bretagne\, France
ORGANIZER;CN="TEAM MEGRIT (4322459)":MAILTO:patrice.lebras@wanadoo.fr
END:VEVENT
BEGIN:VEVENT
DTSTART;VALUE=DATE:20220806
DTEND;VALUE=DATE:20220807
DTSTAMP:20260422T122908
CREATED:20220627T115942Z
LAST-MODIFIED:20220627T120354Z
UID:10001416-1659744000-1659830399@www.cyclisme.bzh
SUMMARY:Poullaouen
DESCRIPTION:Régularité : Dép 13h – Distance selon l’âge – Engagements 2 € \nRenseignements : Henri LE CORRE – 06 86 74 19 63 – henrilecorre@gmail.com ou ententecyclisterostrenen@gmail.com \n 
URL:https://www.cyclisme.bzh/epreuve-calendrier/poullaouen-2/
LOCATION:POULLAOUEN\, POULLAOUEN\, Bretagne\, France
CATEGORIES:Ecole de cyclisme
END:VEVENT
BEGIN:VEVENT
DTSTART;VALUE=DATE:20220806
DTEND;VALUE=DATE:20220807
DTSTAMP:20260422T122908
CREATED:20220708T084307Z
LAST-MODIFIED:20220726T083150Z
UID:10001420-1659744000-1659830399@www.cyclisme.bzh
SUMMARY:Gourin
DESCRIPTION:2 & 3ème catégories / Juniors / PC Open : \nDépart 15h – 38 tours x 2.4 km \nEngagement 8.50€ \nPrix coureurs : 259 / 15 – 1er prix 50€ \nEngagements : \nOuverture le 09/07/2022 à 18h \nFermeture le 03/08/2022 à 20h \nPrésidente de jury : \nFLEJO Colette
URL:https://www.cyclisme.bzh/epreuve-calendrier/gourin-3/
LOCATION:GOURIN\, France
ATTACH;FMTTYPE=image/jpeg:https://www.cyclisme.bzh/wp-content/uploads/2022/07/TOUL-AN-CHY-3.jpg
ORGANIZER;CN="CHASSEURS DE GOURIN (4356096)":MAILTO:clubcyclistegourin@gmail.com
END:VEVENT
BEGIN:VEVENT
DTSTART;VALUE=DATE:20220807
DTEND;VALUE=DATE:20220808
DTSTAMP:20260422T122908
CREATED:20220609T122804Z
LAST-MODIFIED:20220609T122804Z
UID:10001376-1659830400-1659916799@www.cyclisme.bzh
SUMMARY:Guehenno - Grand Prix Cycliste
DESCRIPTION:Régularité route : \nDépart 13h30 – Distance selon l’âge – Circuit 1.8 km \nEngagement 2€ \nMinimes : \nDépart 14h30 – 7 tours x 3.8 km \nEngagement 6.50€ \nCadets : \nDépart 15h45 – 15 tours x 3.8 km \nEngagement 6.50€ \nEngagements :  \nOuverture le 10/06/2022 à 18h \nFermeture le 03/08/2022 à 20h \nPrésident de jury : \nNon communiqué
URL:https://www.cyclisme.bzh/epreuve-calendrier/guehenno-grand-prix-cycliste/
LOCATION:GUEHENNO\, GUEHENNO\, Bretagne\, France
CATEGORIES:Ecole de cyclisme
ORGANIZER;CN="OC LOCMINE (4356009)":MAILTO:henrimoreac@gmail.com
END:VEVENT
BEGIN:VEVENT
DTSTART;VALUE=DATE:20220807
DTEND;VALUE=DATE:20220808
DTSTAMP:20260422T122908
CREATED:20220615T115557Z
LAST-MODIFIED:20220615T125159Z
UID:10001390-1659830400-1659916799@www.cyclisme.bzh
SUMMARY:Pleyben - Souvenir Bernard Gueguen - Trophée Jo Velly
DESCRIPTION:Pass Cyclisme et Pass Open\, Souvenir Bernard Gueguen: Dép 14h00 – 5.5 km x 12 t – Engagements 8.50 € \n3ème cat+Juniors+Pass Open\, 17ème Trophée Jo Velly: Dép 16h00 – 5.5 km x 16 t – Engagements 8.50 € \nOuverture des engagements le 15/06 à 18h \nRenseignements : Jean-Pierre GINIAUX – 06 52 16 46 15 – giniauxjeanpierre@gmail.com
URL:https://www.cyclisme.bzh/epreuve-calendrier/pleyben-souvenir-bernard-gueguen-trophee-jo-velly/
LOCATION:Pleyben
ORGANIZER;CN="VC CHATEAULINOIS (4329221)":MAILTO:vcccontact@laposte.net
END:VEVENT
BEGIN:VEVENT
DTSTART;VALUE=DATE:20220807
DTEND;VALUE=DATE:20220808
DTSTAMP:20260422T122908
CREATED:20220622T150452Z
LAST-MODIFIED:20220622T150452Z
UID:10001409-1659830400-1659916799@www.cyclisme.bzh
SUMMARY:Plénée Jugon
DESCRIPTION:Pass Cyclisme et Pass Open : Dép 13h30 – 2.4 km x 26 t – Engagements 8.50 € \n1.2.3.Juniors :Dép 15h30 – 2.4 km x 40 t – Prix coureurs : 610/20 1er 122€ – Engagements 8.50 € \nClôture des engagements le 04/08 à 19h00 \nRenseignements : Nicolas COLOMBEL – colombel.teampaysdinan@outtlook.fr – 06 74 42 93 75
URL:https://www.cyclisme.bzh/epreuve-calendrier/plenee-jugon/
LOCATION:PLENEE JUGON\, PLENEE JUGON\, Bretagne\, France
END:VEVENT
BEGIN:VEVENT
DTSTART;VALUE=DATE:20220807
DTEND;VALUE=DATE:20220808
DTSTAMP:20260422T122908
CREATED:20220622T150819Z
LAST-MODIFIED:20220622T151908Z
UID:10001410-1659830400-1659916799@www.cyclisme.bzh
SUMMARY:St André des Eaux
DESCRIPTION:Minimes : Dép 12h15 – 4 km x 7 t – Engagements 6.50 € \nCadets : Dép 13h30 – 4 km x 13 t – Engagements 6.50 € \n3 cat+Juniors+Pass Open : Dép 15h30 – 4 km x 25 t – Engagements 8.50 € \nClôture des engagements le 04/08 à 19h00 \nRenseignements : Nicolas COLOMBEL – colombel.teampaysdinan@outtlook.fr – 06 74 42 93 75
URL:https://www.cyclisme.bzh/epreuve-calendrier/st-andre-des-eaux-2/
LOCATION:SAINT ANDRE DES EAUX\, SAINT ANDRE DES EAUX\, Bretagne\, France
END:VEVENT
BEGIN:VEVENT
DTSTART;VALUE=DATE:20220807
DTEND;VALUE=DATE:20220808
DTSTAMP:20260422T122908
CREATED:20220630T131245Z
LAST-MODIFIED:20220705T081208Z
UID:10001444-1659830400-1659916799@www.cyclisme.bzh
SUMMARY:Lieuron
DESCRIPTION:Pass cyclistes / Pass Open : \nDépart 13h30 – 25 tours x 2.5 km \nEngagement 8.50€ \n2ème & 3ème catégories / Juniors / Pass Open : \nDépart 15h30 – 38 tours x 2.5 km \nEngagement 8.50€ \nPrix coureurs : 274 / 15 – 1er prix 53€ \nPrix 3ème catégorie et juniors : 61 / 5 – 1er prix 21€ \nEngagements : \nOuverture le 01/07/2022 à 18h \nFermeture le 04/08/2022 à 20h \nPrésident de jury : \nDUCLOYER Ludovic
URL:https://www.cyclisme.bzh/epreuve-calendrier/lieuron/
LOCATION:LIEURON\, LIEURON\, Bretagne\, France
ORGANIZER;CN="VC RENNAIS (4335044)":MAILTO:a.r.ollivier@orange.fr
END:VEVENT
BEGIN:VEVENT
DTSTART;VALUE=DATE:20220808
DTEND;VALUE=DATE:20220809
DTSTAMP:20260422T122908
CREATED:20220629T134417Z
LAST-MODIFIED:20220629T135122Z
UID:10001423-1659916800-1660003199@www.cyclisme.bzh
SUMMARY:Huelgoat - Circuit du Lac
DESCRIPTION:2.3.Juniors.Pass Open : Dép 15h00 – 4 km x 24 t – Prix coureurs : 259/15 1er 50 € – 122/10 € – Engagements 8.50 € \nRenseignements : Florence GUYOMARC’H – 06 27 05 61 60 – guyomarch29@wanadoo.fr
URL:https://www.cyclisme.bzh/epreuve-calendrier/huelgoat-circuit-du-lac-2/
LOCATION:Huelgoat
ORGANIZER;CN="UC Carhaix":MAILTO:angellegr56@gmail.com
END:VEVENT
BEGIN:VEVENT
DTSTART;VALUE=DATE:20220812
DTEND;VALUE=DATE:20220813
DTSTAMP:20260422T122908
CREATED:20220630T142213Z
LAST-MODIFIED:20220630T142213Z
UID:10001446-1660262400-1660348799@www.cyclisme.bzh
SUMMARY:Lorient Port de Pêche - GP Lorient Souvenir Xavier Le Louarne - La Ronde Finistérienne
DESCRIPTION:1ère\, 2ème & 3ème catégories / Juniors : \nDépart 19h – 42 tours x 2.1 km \nEngagement 8.50€ \nPrix coureurs : 793 / 20 – 1er prix 160€ \nPrix 2ème catégorie : 152 / 5 – 1er prix 54€ \nPrix 3ème catégorie et juniors : 107 / 5 – 1er prix 35€ \nEngagements : \nOuverture le 01/07/2022 à 18h \nFermeture le 10/08/2022 à 21h \nPrésidente de jury : \nGUILLEMOT Camille \nInformations : \nLe VCP de Lorient organise une animation du cyclisme à 18h15\, juste avant le départ de la Ronde Finistérienne. Cet évènement est sur invitation.
URL:https://www.cyclisme.bzh/epreuve-calendrier/lorient-port-de-peche-gp-lorient-souvenir-xavier-le-louarne-la-ronde-finisterienne/
LOCATION:LORIENT\, LORIENT\, Bretagne\, France
ATTACH;FMTTYPE=image/jpeg:https://www.cyclisme.bzh/wp-content/uploads/2022/05/affiche-2022-site.jpg
ORGANIZER;CN="VC PAYS DE LORIENT (4356224)":MAILTO:gjtrehin@laposte.net
END:VEVENT
BEGIN:VEVENT
DTSTART;VALUE=DATE:20220812
DTEND;VALUE=DATE:20220813
DTSTAMP:20260422T122908
CREATED:20220721T082341Z
LAST-MODIFIED:20220725T063321Z
UID:10001473-1660262400-1660348799@www.cyclisme.bzh
SUMMARY:Laurenan - Circuit du Ninian
DESCRIPTION:3ème catégorie / Juniors / PC Open : \nDépart 19h – 16 tours x 5.3 km \nEngagement 8.50€ \nPrix coureurs : 259 / 15 – 1er prix 50€ \nEngagements : \nOuverture le 22/07/2022 à 18h \nFermeture le 09/08/2022 à 20h \nPrésident de jury : \nBRUNEL Daniel
URL:https://www.cyclisme.bzh/epreuve-calendrier/laurenan-circuit-du-ninian-2/
LOCATION:LAURENAN\, LAURENAN\, Bretagne\, France
ATTACH;FMTTYPE=image/jpeg:https://www.cyclisme.bzh/wp-content/uploads/2022/07/IMG-20220721-WA0000.jpg
END:VEVENT
BEGIN:VEVENT
DTSTART;VALUE=DATE:20220813
DTEND;VALUE=DATE:20220814
DTSTAMP:20260422T122908
CREATED:20220630T124819Z
LAST-MODIFIED:20220630T124819Z
UID:10001439-1660348800-1660435199@www.cyclisme.bzh
SUMMARY:Saint Maudan - Course d'attente Ronde des Vallées
DESCRIPTION:2\, 3ème catégorie\, Juniors\,Pass Open : Dép 13h00 – 6.2 km x 16 t – Prix coureurs : 366/15 1er 73 € – 61/5 1er 21 € ps 3 cat et juniors – Engagements 8.50 € \nRenseignements : Jean-Yves Mahoudo – jy.mahoudo@orange.fr – 06 81 26 99 48 \n 
URL:https://www.cyclisme.bzh/epreuve-calendrier/saint-maudan-course-dattente-ronde-des-vallees/
LOCATION:SAINT MAUDAN
ORGANIZER;CN="VCP Loud%C3%A9ac":MAILTO:secretariatvcpl@orange.fr
END:VEVENT
BEGIN:VEVENT
DTSTART;VALUE=DATE:20220813
DTEND;VALUE=DATE:20220814
DTSTAMP:20260422T122908
CREATED:20220715T132217Z
LAST-MODIFIED:20220805T114051Z
UID:10001462-1660348800-1660435199@www.cyclisme.bzh
SUMMARY:St Rivoal - La Ronde Finistérienne #7 - Prix de la municipalité
DESCRIPTION:Régularité : Dép 14h00 – Distance selon l’âge – Engagements 2 € \n1.2.3.Juniors : Dép 15h00 – 7.4 km x 14 t – prix coureurs : 793/20 1er 160 € – 152/5 1er 54 € ps 2ème cat – 107/5 1er 35 € ps 3 cat et juniors – Engagements 8.50 € \nRenseignements : Emile PRIGENT – emileprigent@orange.fr
URL:https://www.cyclisme.bzh/epreuve-calendrier/st-rivoal-la-ronde-finisterienne-7-prix-de-la-municipalite/
LOCATION:ST RIVOAL\, ST RIVOAL\, Bretagne\, France
CATEGORIES:Ecole de cyclisme
ORGANIZER;CN="EC PLESTIN PAYS TREGOR (4322163)":MAILTO:gilbert.lacelle@orange.fr
END:VEVENT
BEGIN:VEVENT
DTSTART;VALUE=DATE:20220813
DTEND;VALUE=DATE:20220815
DTSTAMP:20260422T122908
CREATED:20220629T145217Z
LAST-MODIFIED:20220629T150439Z
UID:10001427-1660348800-1660521599@www.cyclisme.bzh
SUMMARY:La Ronde des Vallées - sur invitation
DESCRIPTION:La Ronde des Vallées – sur invitation \nEtape 1 le samedi 13 août à ST MAUDAN : Dép 14h30 – 83.3 km en ligne + 6.2 km x 5 t – prix coureurs : 910/20 1er 175 € \nEtape 2 le dimanche 14 août à ST CARADEC-HÉMONSTOIR : Dép 8h30 – Contre la montre individuel de 11.9 km – Prix coureurs : 645/20 1er 100€ \nEtape 3 le dimanche 14 août à HÉMONSTOIR : Dép 14h30 – 67.5 km en ligne + 7.9 km x 4 t – Prix coureurs : 645/20 1er 100€ \nGénéral : 1113/20 1er 221 € \nLes équipes engagées\nClubs français\nAC Lanester 56\nCC Plancoët\nOC Locminé\nTeam Culture Vélo Look Racing Team U19\nTeam Inca\nTeam SportBreizh-Harmonie Mutuelle\nTeam U Nantes Atlantique\nUC Alréenne\nUC Briochine\nUS Vern Cyclisme\nVéloce Vannetais\nVC Pays de Loudéac\nVS Trégueux\nVS Valletais \nSélections départementales\nCôtes d’Armor\nLoire-Atlantique \nEquipes mixtes\nEntente Centre Armor\nEntente Corrèze Juniors\nTeam 31 Jolly Cycles U19\nU19 Academy La Pomme Marseille Provence\nU19 Pyrénées Performance Academy \nSélection nationale\nLuxembourg \nEquipes étrangères\nDistrict Oost KNWU (Pays-Bas)\nDrone Hopper-GSport-Teika (Espagne)\nGipuzkoa (Espagne)\nHot Tubes Development CT (Etats-Unis)\nLux-CTS p/b Specialized (Etats-Unis)\nSpokes Racing Team (Grande-Bretagne)\nStreet Jump-ABloc Development Team (Pays-Bas)\nSwealand Cycling Team (Suède)\nTofauti Everyone Active (Grande-Bretagne)\nVC Ardennes (Belgique)\nWielerzone Nederland (Pays-Bas)\nWillebrord Will Vooruit (Pays-Bas)\nWPG Amsterdam Junior (Pays-Bas) \n  \nRenseignements  : Jean-Yves Mahoudo – jy.mahoudo@orange.fr – 06 81 26 99 48
URL:https://www.cyclisme.bzh/epreuve-calendrier/la-ronde-des-vallees-sur-invitation/
LOCATION:SAINT MAUDAN
ORGANIZER;CN="VCP Loud%C3%A9ac":MAILTO:secretariatvcpl@orange.fr
END:VEVENT
BEGIN:VEVENT
DTSTART;VALUE=DATE:20220814
DTEND;VALUE=DATE:20220815
DTSTAMP:20260422T122908
CREATED:20220630T125120Z
LAST-MODIFIED:20220630T134236Z
UID:10001442-1660435200-1660521599@www.cyclisme.bzh
SUMMARY:Hémonstoir - Courses d'attente Ronde des Vallées
DESCRIPTION:Minimes : Dép 13h00 – 5.4 km x 6 t – Prix coureurs : 107/10 1er 20 € – Engagements 6.50 € \nCadets : Dép 14h45 – 5.4 km x 10 t – Prix coureurs : 138/10 1er 28€ – Engagements 6.50 € \nRenseignements : Jean-Yves Mahoudo – jy.mahoudo@orange.fr – 06 81 26 99 48
URL:https://www.cyclisme.bzh/epreuve-calendrier/hemonstoir-courses-dattente-ronde-des-vallees/
LOCATION:HÉMONSTOIR\, HÉMONSTOIR\, Bretagne\, France
ORGANIZER;CN="VCP Loud%C3%A9ac":MAILTO:secretariatvcpl@orange.fr
END:VEVENT
BEGIN:VEVENT
DTSTART;VALUE=DATE:20220814
DTEND;VALUE=DATE:20220815
DTSTAMP:20260422T122908
CREATED:20220711T132042Z
LAST-MODIFIED:20220711T132042Z
UID:10001432-1660435200-1660521599@www.cyclisme.bzh
SUMMARY:Roz Landrieux
DESCRIPTION:Cadets : \nDépart 10h – 20 tours x 2.7km \nEngagement 6.50€ \n2ème & 3ème catégories / Juniors / PC Open : \nDépart 15h – 35 tours x 2.7 km \nEngagement 8.50€ \nEngagements : \nOuverture le 12/07/2022 à 18h \nFermeture le 11/08/2022 à 20h \nPrésident de jury : \nMELLIER Franck
URL:https://www.cyclisme.bzh/epreuve-calendrier/roz-landrieux/
LOCATION:ROZ LANDRIEUX\, ROZ LANDRIEUX\, Bretagne\, France
ORGANIZER;CN="JS DOLOISE CYCLISME (4335050)":MAILTO:loic.pedron@orange.fr
END:VEVENT
BEGIN:VEVENT
DTSTART;VALUE=DATE:20220814
DTEND;VALUE=DATE:20220815
DTSTAMP:20260422T122908
CREATED:20220711T142321Z
LAST-MODIFIED:20220711T142321Z
UID:10001434-1660435200-1660521599@www.cyclisme.bzh
SUMMARY:Malachappe Pluvigner - Grand Prix Jean-Marie Goasmat
DESCRIPTION:Cadets : \nDépart 13h30 – 19 tours x 3.1 km \nEngagement 6.50€ \nPrix coureurs : 138 / 10 – 1er prix 27€ \n3ème catégorie / Juniors / PC Open : \nDépart 15h30 – 30 tours x 3.1 km \nEngagement 8.50€ \nPrix coureurs : 335 / 15 – 1er prix 65€ \nPrix juniors : 122 / 10 – 1er prix 24€ \nEngagements : \nOuverture le 12/07/2022 à 18h \nFermeture le 11/08/2022 à 20h \nPrésident de jury : \nNon communiqué
URL:https://www.cyclisme.bzh/epreuve-calendrier/malachappe-pluvigner-grand-prix-jean-marie-goasmat-2/
LOCATION:MALACHAPPE PLUVIGNER\, France
ORGANIZER;CN="EC PLUVIGNOISE (4356136)":MAILTO:ecp56330@gmail.com
END:VEVENT
BEGIN:VEVENT
DTSTART;VALUE=DATE:20220814
DTEND;VALUE=DATE:20220815
DTSTAMP:20260422T122908
CREATED:20220712T121141Z
LAST-MODIFIED:20220712T121141Z
UID:10001440-1660435200-1660521599@www.cyclisme.bzh
SUMMARY:Plumaudan
DESCRIPTION:Minimes : Dép 13h00 – 5 km x 6 t – Prix coureurs : 107/10 1er 20 € – Engagements 6.50€ \nCadets : Dép 14h00 – 5 km x 11 t – Prix coureurs : 138/10 1er 28 € – Engagements 6.50€ \n3.Juniors.pass Open – Dép 15h45 – 5 km x 20 t – Prix coureurs : 442/20 1er 88 € – Engagements 8.50€ \nClôture des engagements le 11/08 à 19h00 \nrenseignements : Nicolas Colombel – colombel.teampaysdinan@outlook.fr – 06 74 42 93 75
URL:https://www.cyclisme.bzh/epreuve-calendrier/plumaudan-2/
LOCATION:PLUMAUDAN\, PLUMAUDAN\, Bretagne\, France
END:VEVENT
BEGIN:VEVENT
DTSTART;VALUE=DATE:20220815
DTEND;VALUE=DATE:20220816
DTSTAMP:20260422T122908
CREATED:20220615T121345Z
LAST-MODIFIED:20220628T140254Z
UID:10001391-1660521600-1660607999@www.cyclisme.bzh
SUMMARY:Plounéour Brignogan Plages - La Ronde Finistérienne
DESCRIPTION:1.2.3 cat+Juniors : Dép 15h00 – 2.8 km x 36 t – Prix coureurs : 793/20 1er 160 € – 152/5 1er 54 € ps 2ème cat – 107/5 1er 35 € ps 3 cat et juniors – Engagements 8.50 € \nOuverture des engagements le 16/06 à 18h \nRenseignements : Jean-Paul FAVE – jeanpaulfave@orange.fr – 06 20 55 31 37 \n 
URL:https://www.cyclisme.bzh/epreuve-calendrier/plouneour-brignogan-plages-la-ronde-finisterienne/
LOCATION:PLOUNEOUR BRIGNOGAN PLAGES\, PLOUNEOUR BRIGNOGAN PLAGES\, Bretagne\, France
ATTACH;FMTTYPE=image/jpeg:https://www.cyclisme.bzh/wp-content/uploads/2022/05/affiche-2022-site.jpg
ORGANIZER;CN="LA RONDE FINISTERIENNE (4329395)":MAILTO:jeanpaulfave@orange.fr
END:VEVENT
BEGIN:VEVENT
DTSTART;VALUE=DATE:20220815
DTEND;VALUE=DATE:20220816
DTSTAMP:20260422T122908
CREATED:20220701T121901Z
LAST-MODIFIED:20220701T123352Z
UID:10001404-1660521600-1660607999@www.cyclisme.bzh
SUMMARY:Ergué-Gabéric Bourg - Trophée Jo Velly
DESCRIPTION:3ème cat.Juniors.Pass open : Dép 15h00 – 4.4 km x 20 t – Prix coureurs : 259/15 1er 50€ – Grille 76/5 1er 27 € ps Juniors – Engagements 8.50 € \nRenseignements : Edith Debelhoir – 06 45 27 79 97 – edith.debelhoir@wanadoo.fr
URL:https://www.cyclisme.bzh/epreuve-calendrier/ergue-gaberic-bourg-trophee-jo-velly/
LOCATION:Ergué Gabéric\, Ergué Gabéric\, France
ORGANIZER;CN="KERFEUNTEUN AS (4329264)":MAILTO:edith.debelhoir@wanadoo.fr
END:VEVENT
BEGIN:VEVENT
DTSTART;VALUE=DATE:20220815
DTEND;VALUE=DATE:20220816
DTSTAMP:20260422T122908
CREATED:20220708T091608Z
LAST-MODIFIED:20220708T091608Z
UID:10001422-1660521600-1660607999@www.cyclisme.bzh
SUMMARY:Broualan
DESCRIPTION:Régularité route : \nDépart 13h30 – Distance selon l’âge \nCircuit 4.1 km \nEngagement 2€ \n2 & 3ème catégories / Juniors / PC Open : \nDépart 15h30 – 25 tours x 4.1 km \nEngagement 8.50€ \nEngagements : \nOuverture le 09/07/2022 à 18h \nFermeture le 11/08/2022 à 20h \nPrésidente de jury : \nMELLIER Cécile
URL:https://www.cyclisme.bzh/epreuve-calendrier/broualan/
LOCATION:BROUALAN\, BROUALAN\, Bretagne\, France
CATEGORIES:Régularité route
ORGANIZER;CN="JS DOLOISE CYCLISME (4335050)":MAILTO:loic.pedron@orange.fr
END:VEVENT
BEGIN:VEVENT
DTSTART;VALUE=DATE:20220815
DTEND;VALUE=DATE:20220816
DTSTAMP:20260422T122908
CREATED:20220721T085828Z
LAST-MODIFIED:20220721T085828Z
UID:10001474-1660521600-1660607999@www.cyclisme.bzh
SUMMARY:Saint Yves Bubry
DESCRIPTION:Cadets : \nDépart 14h – 11 tours x 5.5 km \nEngagement 6.50€ \n3ème catégorie / Juniors / PC Open : \nDépart 16h15 – 17 tours x 5.5 km \nEngagement 8.50€ \nEngagements : \nOuverture le 22/07/2022 à 18h \nFermeture le 11/08/2022 à 20h \nPrésident de jury : \nNon communiqué
URL:https://www.cyclisme.bzh/epreuve-calendrier/saint-yves-bubry/
LOCATION:SAINT YVES BUBRY
ORGANIZER;CN="UC INGUINIEL (4356125)":MAILTO:emeline.uci@orange.fr
END:VEVENT
BEGIN:VEVENT
DTSTART;VALUE=DATE:20220819
DTEND;VALUE=DATE:20220820
DTSTAMP:20260422T122908
CREATED:20220715T133914Z
LAST-MODIFIED:20220715T135125Z
UID:10001463-1660867200-1660953599@www.cyclisme.bzh
SUMMARY:Scrignac - Circuit du Venguel-Goz
DESCRIPTION:3.Juniors.Pass Open : Dép 18h00 – 6.5 km x 12 t – Prix coureurs : 259/15 1er 50 € – Engagements 8.50 € \nRenseignements : Michel ROUDOT – 06 11 45 44 27 – mroudot@sfr.fr
URL:https://www.cyclisme.bzh/epreuve-calendrier/scrignac-circuit-du-venguel-goz-2/
LOCATION:SCRIGNAC\, SCRIGNAC\, Bretagne\, France
END:VEVENT
BEGIN:VEVENT
DTSTART;VALUE=DATE:20220820
DTEND;VALUE=DATE:20220821
DTSTAMP:20260422T122908
CREATED:20220708T095632Z
LAST-MODIFIED:20220708T095632Z
UID:10001426-1660953600-1661039999@www.cyclisme.bzh
SUMMARY:Le Pertre - Circuit des Meilleraies
DESCRIPTION:2 & 3ème catégories / Juniors / PC Open : \nDépart 16h – 16 tours x 4.85 km \nEngagement 8.50€ \nPrix coureurs : 518 / 20 – 1er prix 102€ \nPrix 3ème catégorie / Juniors / PC Open : 91 / 10 – 1er prix 17€ \nEngagements : \nOuverture le 09/07/2022 à 18h \nFermeture le 17/08/2022 à 20h \nPrésident de jury : \nGUERINEL Olivier
URL:https://www.cyclisme.bzh/epreuve-calendrier/le-pertre-circuit-des-meilleraies-2/
LOCATION:LE PERTRE\, LE PERTRE\, Bretagne\, France
END:VEVENT
BEGIN:VEVENT
DTSTART;VALUE=DATE:20220820
DTEND;VALUE=DATE:20220821
DTSTAMP:20260422T122908
CREATED:20220711T121200Z
LAST-MODIFIED:20220711T121509Z
UID:10001428-1660953600-1661039999@www.cyclisme.bzh
SUMMARY:Langoëlan
DESCRIPTION:Régularité : Dép 13h30 – Distance selon l’âge – Engagements 2 € \nPass et pass Open :  \nDép 15h30 –  D1/D2 : 6.25 km x 12 t – Engagements 8.50 € \nDép 15h32 – D3/D4 : 6.25 x 10 t – Engagements 8.50 € \nRenseignements : Alain BONNY – bonny.alain@hotmail.fr – 06 47 27 04 27 – ententecyclisterostrenen@gmail.com
URL:https://www.cyclisme.bzh/epreuve-calendrier/langoelan/
LOCATION:LANGOËLAN\, LANGOËLAN\, Bretagne\, France
CATEGORIES:Ecole de cyclisme
ATTACH;FMTTYPE=image/jpeg:https://www.cyclisme.bzh/wp-content/uploads/2022/07/Affiche-2022-Langoelan_page-0001.jpg
END:VEVENT
BEGIN:VEVENT
DTSTART;VALUE=DATE:20220820
DTEND;VALUE=DATE:20220821
DTSTAMP:20260422T122908
CREATED:20220727T084602Z
LAST-MODIFIED:20220727T084602Z
UID:10001479-1660953600-1661039999@www.cyclisme.bzh
SUMMARY:Ploeuc Sur Lié - Courses d'attente Agglo Tour
DESCRIPTION:Régularité route : \nDépart 11h – Distance selon l’âge \nCircuit de 2.48 km \nEngagement 2€ \nMinimes : \nDépart 12h30 – 13 tours x 2.48 km \nEngagement 6.50€ \nPrix coureurs : 107 / 10 – 1er prix 20€ \nEngagements : \nOuverture le 28/07/2022 à 18h \nFermeture le 18/08/2022 à 20h \nPrésident de jury : \nPRIGENT Émile
URL:https://www.cyclisme.bzh/epreuve-calendrier/ploeuc-sur-lie-courses-dattente-agglo-tour/
LOCATION:PLOEUC SUR LIÉ\, PLOEUC SUR LIÉ\, Bretagne\, France
CATEGORIES:Régularité route
END:VEVENT
BEGIN:VEVENT
DTSTART;VALUE=DATE:20220820
DTEND;VALUE=DATE:20220821
DTSTAMP:20260422T122908
CREATED:20220727T085007Z
LAST-MODIFIED:20220727T085007Z
UID:10001480-1660953600-1661039999@www.cyclisme.bzh
SUMMARY:Ploeuc L'Hermitage - Course d'attente Agglo Tour
DESCRIPTION:Pass D1 – D2 : \nDépart 14h15 – 11 tours x 6.6 km \nEngagement 8.50€ \nPass D3 – D4 : \nDépart 14h17 – 8 tours x 6.6 km \nEngagement 8.50€ \nEngagements : \nOuverture le 28/07/2022 à 18h \nFermeture le 17/08/2022 à 20h \nPrésident de jury : \nPRIGENT Émile
URL:https://www.cyclisme.bzh/epreuve-calendrier/ploeuc-lhermitage-course-dattente-agglo-tour/
LOCATION:Ploeuc L’Hermitage
END:VEVENT
BEGIN:VEVENT
DTSTART;VALUE=DATE:20220820
DTEND;VALUE=DATE:20220822
DTSTAMP:20260422T122908
CREATED:20220727T090350Z
LAST-MODIFIED:20220817T135134Z
UID:10001481-1660953600-1661126399@www.cyclisme.bzh
SUMMARY:Saint-Brieuc Agglo Tour
DESCRIPTION:20/08/2022 – Étape 1 – 1ère & 2ème catégories : \nDépart 14h15 – 117 km de course en ligne + 5 tours x 6.6 km \nPrix coureurs : 1220 / 25 – 1er prix 197€ \n21/08/2022 – 1/2 étape CLM – 1ère & 2ème catégories : \nDépart 8h30 – 1 tour x 8.37 km \nPrix coureurs : 518 / 20 – 1er prix 102€ \n21/08/2022 – 1/2 étape en ligne – 1ère & 2ème catégories : \nDépart 15h – 15 tours x 6.5 km \nPrix coureurs : 762 / 20 – 1er prix 155€ \nClassement général : \nPrix coureurs : 762 / 25 – 1er prix 124€ \nPrix animateurs : 200 / 5 – 1er prix 75€ \nPrix grimpeurs : 200 / 5 – 1er prix 75€ \nPrix espoirs : 200 / 5 – 1er prix 75€ \nClassement par équipe : 200 / 5 – 1er prix 75€ \nEngagements : \nÉpreuve sur invitation \n1 – TWC DE KEMPEN (Hollande)\n2 – GUIDON CHALLETOIS\n3 – OCEANE TOP 16\n4 – MOYON PERCY VELO CLUB\n5– TEAM ESPOIR LA CRÊPE DE BROCÉLIANDE\n6 – TEAM LMP – LA ROCHE VENDÉE CYCLISME\n7 – COTES D’ARMOR MARIE MORIN – U\n8 – V.C. AVRANCHES\n9– SOJASUN ESPOIR\n10 – VENDEE U\n11 – G.S.C. BLAGNAC\n12 -TEAM BRIQUEBEC COTENTIN\n13 – CR4C ROANNE\n14 – CYCLO CLUB PÉRIGUEUX Dordogne\n15 – APOGE CYCLISME -TEAM U CUBE 17\n16 – UNION CYCLISTE BRIOCHINE\n17 – GRENOBLE METROPOLE CYCLISME\n18 – DINAN SPORT CYCLING\n19 – CENTRE CYCLISTE D’ETUPES\n20 – CHARVIEU-CHAVAGNEUX-ISERE-CYCLISME\n21 – VELO CLUB PAYS DE LOUDEAC – B&B HOTELS P/B KTM\n22 – TEAM LA GODASSE\n23 – WB-FYBOLIA MORBIHAN\n24 – UCK-BRETAGNE SUD CYCLISME (ex Hennebont Cyclisme)\n25 – V.C.P. .LORIENT\n26– U.V. AUBE \nTarif 25.50 € par coureur \nPrésident de jury : BIHOUEE Jérôme \nRenseignements : Daniel TACHEN – Mobile : 06.88.87.26.80\nE-Mail : daniel.tachen@orange.fr \n 
URL:https://www.cyclisme.bzh/epreuve-calendrier/saint-brieuc-agglo-tour/
LOCATION:SAINT BRIEUC\, SAINT BRIEUC\, Bretagne\, France
ATTACH;FMTTYPE=image/jpeg:https://www.cyclisme.bzh/wp-content/uploads/2022/07/297598112_1569225856826651_4607498848474514494_n.jpg
ORGANIZER;CN="VS BRIOCHIN AG (4322031)":MAILTO:daniel.tachen@orange.fr
END:VEVENT
END:VCALENDAR