BEGIN:VCALENDAR
VERSION:2.0
PRODID:-//Comité de Bretagne de Cyclisme - ECPv6.15.20//NONSGML v1.0//EN
CALSCALE:GREGORIAN
METHOD:PUBLISH
X-ORIGINAL-URL:https://www.cyclisme.bzh
X-WR-CALDESC:Évènements pour Comité de Bretagne de Cyclisme
REFRESH-INTERVAL;VALUE=DURATION:PT1H
X-Robots-Tag:noindex
X-PUBLISHED-TTL:PT1H
BEGIN:VTIMEZONE
TZID:Europe/Paris
BEGIN:DAYLIGHT
TZOFFSETFROM:+0100
TZOFFSETTO:+0200
TZNAME:CEST
DTSTART:20210328T010000
END:DAYLIGHT
BEGIN:STANDARD
TZOFFSETFROM:+0200
TZOFFSETTO:+0100
TZNAME:CET
DTSTART:20211031T010000
END:STANDARD
BEGIN:DAYLIGHT
TZOFFSETFROM:+0100
TZOFFSETTO:+0200
TZNAME:CEST
DTSTART:20220327T010000
END:DAYLIGHT
BEGIN:STANDARD
TZOFFSETFROM:+0200
TZOFFSETTO:+0100
TZNAME:CET
DTSTART:20221030T010000
END:STANDARD
BEGIN:DAYLIGHT
TZOFFSETFROM:+0100
TZOFFSETTO:+0200
TZNAME:CEST
DTSTART:20230326T010000
END:DAYLIGHT
BEGIN:STANDARD
TZOFFSETFROM:+0200
TZOFFSETTO:+0100
TZNAME:CET
DTSTART:20231029T010000
END:STANDARD
END:VTIMEZONE
BEGIN:VEVENT
DTSTART;VALUE=DATE:20220713
DTEND;VALUE=DATE:20220714
DTSTAMP:20260422T170723
CREATED:20220520T132950Z
LAST-MODIFIED:20220629T065234Z
UID:10001336-1657670400-1657756799@www.cyclisme.bzh
SUMMARY:Redon - 71ème Grand Prix Cycliste de la Ville
DESCRIPTION:2 & 3ème Catégories / Juniors / PC Open : \nDépart 19h15 – 42 tours x 2.2 km \nEngagement 8.50€ \nPrix coureurs : 274 / 15 – 1er prix : 53€ \nPrix juniors : 122 / 10 – 1er prix : 24€ \nPrix 3ème cat : 61 / 5 – 1er prix : 21€ \nPrix PC Open : 61 / 5 – 1er prix : 21€ \nEngagements : \nOuverture le 20/05/2022 à 18h \nFermeture le 11/07/2022 à 20h \nPrésident de jury : \nGUEGAND André
URL:https://www.cyclisme.bzh/epreuve-calendrier/redon-71eme-grand-prix-cycliste-de-la-ville/
LOCATION:REDON\, France
ATTACH;FMTTYPE=application/pdf:https://www.cyclisme.bzh/wp-content/uploads/2022/05/Affiche-du-13-JUILLET-2022-REDON-avec-le-nouveau-LOGO-de-la-Ville-le-LOGO-du-Critos-TOUR-1.pdf
ORGANIZER;CN="REDON OC (4335040)":MAILTO:gicquelpierre@orange.fr
END:VEVENT
BEGIN:VEVENT
DTSTART;VALUE=DATE:20220713
DTEND;VALUE=DATE:20220714
DTSTAMP:20260422T170723
CREATED:20220527T074934Z
LAST-MODIFIED:20220527T074934Z
UID:10001346-1657670400-1657756799@www.cyclisme.bzh
SUMMARY:Grand Prix Cycliste de Janzé - Trophée Yves Samson
DESCRIPTION:PC / PC Open – Limité à 70 coureurs : \nDépart 20h – 35 tours x 2.3 km \nEngagement 8.50€ \nEngagements : \nOuverture le 28/05/2022 à 18h \nFermeture le 10/07/2022 à 20h \nEngagement sur la ligne 10€ \nPrésident de jury : \nDEBROISE Joël
URL:https://www.cyclisme.bzh/epreuve-calendrier/grand-prix-cycliste-de-janze-trophee-yves-samson/
LOCATION:JANZÉ\, JANZÉ\, Bretagne\, France
ORGANIZER;CN="TEAM PODIOCOM JANZE (4335431)":MAILTO:yves.samson4@orange.fr
END:VEVENT
BEGIN:VEVENT
DTSTART;VALUE=DATE:20220713
DTEND;VALUE=DATE:20220714
DTSTAMP:20260422T170723
CREATED:20220615T092859Z
LAST-MODIFIED:20220615T111228Z
UID:10001385-1657670400-1657756799@www.cyclisme.bzh
SUMMARY:Cléguérec - Souvenir Didier Le Botmel - Prix du Christ Per - Challenge du Roi Morvan
DESCRIPTION:Minimes / Cadettes : \nDépart 16h – 7 tours x 3.73 km \nEngagement 6.50€ \nPrix coureurs : 107 / 10 – 1er prix 20€ \n2ème & 3ème catégories / Juniors / PC Open : \nDépart 18h – 22 tours x 3.73 km \nEngagement 8.50€ \nPrix coureurs : 259 / 15 – 1er prix 50€ \nPrix juniors : 30 / 3 – 1er prix 15€ \nEngagements : \nOuverture le 16/06/2022 à 18h \nFermeture le 10/07/2022 à 20h \nPrésident de jury : \nNon communiqué
URL:https://www.cyclisme.bzh/epreuve-calendrier/cleguerec-souvenir-didier-le-botmel-prix-du-christ-per-challenge-du-roi-morvan/
LOCATION:CLÉGUÉREC\, CLÉGUÉREC\, Bretagne\, France
ATTACH;FMTTYPE=application/pdf:https://www.cyclisme.bzh/wp-content/uploads/2022/06/Affiche_Comite_Cleguerec-2022-07-13.pdf
ORGANIZER;CN="VC PONTIVYEN (4356017)":MAILTO:vcpontivyen2017@gmail.com
END:VEVENT
BEGIN:VEVENT
DTSTART;VALUE=DATE:20220714
DTEND;VALUE=DATE:20220715
DTSTAMP:20260422T170723
CREATED:20220609T121641Z
LAST-MODIFIED:20220609T121641Z
UID:10001375-1657756800-1657843199@www.cyclisme.bzh
SUMMARY:Pleslin Trigavou - Les Landes de Reine
DESCRIPTION:Régularité : Dép 11h00  – Distance selon l’âge – Engagements 2 € \nMinimes : Dép 13h00 – 0.925 km x 28 t – Engagements 6.50 € \nCadets : Dép 14h00 – 0.925 km x 50 t – Engagements 6.50 € \nPass et Pass Open : Dép 15h30 – 0.925 km x 65 t – Engagements 8.50 € \nOuverture le 10/06 à 18h00\, clôture le 12/07 à 20 h \nRenseignements : Marie Claude Duboscq – 06 76 97 26 46 \n 
URL:https://www.cyclisme.bzh/epreuve-calendrier/pleslin-trigavou-les-landes-de-reine-5/
LOCATION:PLESLIN TRIGAVOU\, PLESLIN TRIGAVOU\, Bretagne\, France
CATEGORIES:Ecole de cyclisme
ORGANIZER;CN="VC DINANNAIS (4322030)":MAILTO:mduboscq220@gmail.com
END:VEVENT
BEGIN:VEVENT
DTSTART;VALUE=DATE:20220714
DTEND;VALUE=DATE:20220715
DTSTAMP:20260422T170723
CREATED:20220615T093440Z
LAST-MODIFIED:20220615T094320Z
UID:10001386-1657756800-1657843199@www.cyclisme.bzh
SUMMARY:Plouguernével - Challenge du Kreiz Breizh
DESCRIPTION:Minimes : Dép 13h30 – 5.3 km x 5 t – Engagements 6.50 € \nCadets : Dép 14h30 – 5.3 km x 9 t – Engagements 6.50 € \n3  cat+Juniors+Pass Open : Dép 16h15 – 5.3 km x 16 t – Engagements 8.50 € \nOuverture des engagements le 15/06 à 18h \nRenseignements : Michel MONCHAUX – 06 07 24 23 44 – michelmonchaux@orange.fr \n 
URL:https://www.cyclisme.bzh/epreuve-calendrier/plouguernevel-challenge-du-kreiz-breizh/
LOCATION:PLOUGUERNEVEL\, PLOUGUERNEVEL\, Bretagne\, France
END:VEVENT
BEGIN:VEVENT
DTSTART;VALUE=DATE:20220714
DTEND;VALUE=DATE:20220715
DTSTAMP:20260422T170723
CREATED:20220615T112235Z
LAST-MODIFIED:20220615T112235Z
UID:10001388-1657756800-1657843199@www.cyclisme.bzh
SUMMARY:Saint-Thuriau
DESCRIPTION:Cadets H/F / Juniors dames : \nDépart 13h30 – 13 tours x 4.58 km \nEngagement 6.50€ \nPrix coureurs : 138 / 10 – 1er prix 28€ \n3ème catégorie / Juniors / PC Open \nDépart 15h30 \n18 tours x 4.58 km \nEngagement 8.50€ \nPrix coureurs : 259 / 15 – 1er prix 50€ \nEngagements : \nOuverture le 16/06/2022 à 18h \nFermeture le 11/07/2022 à 20h \nPrésident de jury : \nNon communiqué
URL:https://www.cyclisme.bzh/epreuve-calendrier/saint-thuriau/
LOCATION:SAINT THURIAU\, SAINT THURIAU\, Bretagne\, France
ATTACH;FMTTYPE=application/pdf:https://www.cyclisme.bzh/wp-content/uploads/2022/06/2022-07-14-AFFICHE-Saint-Thuriau.pdf
ORGANIZER;CN="VC PONTIVYEN (4356017)":MAILTO:vcpontivyen2017@gmail.com
END:VEVENT
BEGIN:VEVENT
DTSTART;VALUE=DATE:20220714
DTEND;VALUE=DATE:20220715
DTSTAMP:20260422T170723
CREATED:20220617T132731Z
LAST-MODIFIED:20220617T132731Z
UID:10001399-1657756800-1657843199@www.cyclisme.bzh
SUMMARY:Mauron
DESCRIPTION:Pass / Pass Open : \nDépart 14h – 35 tours x 2 km \nEngagement 8.50€ \n1\,2 & 3ème catégories / Juniors : \nDépart 16h15 – 50 tours x 2 km \nEngagement 8.50€ \nPrix coureurs : 610 / 20 – 1er prix 122€ \nPrix 2/3 & juniors : 76 / 5 – 1er prix 27€ \nEngagements : \nOuverture le 18/06/2022 à 18h \nFermeture le 10/07/2022 à 23h \nPrésidente de jury : \nBRINDEJONC Joëlle
URL:https://www.cyclisme.bzh/epreuve-calendrier/mauron/
LOCATION:MAURON
ORGANIZER;CN="VC MEVENNAIS (4335001)":MAILTO:simonlaur@wanadoo.fr
END:VEVENT
BEGIN:VEVENT
DTSTART;VALUE=DATE:20220714
DTEND;VALUE=DATE:20220718
DTSTAMP:20260422T170723
CREATED:20220704T091746Z
LAST-MODIFIED:20220712T070125Z
UID:10001408-1657756800-1658102399@www.cyclisme.bzh
SUMMARY:La Sportbreizh Juniors - Sur Invitation
DESCRIPTION:La Sportbreizh des Juniors\n14 > 17 juillet 2022 \nAttention\, que les équipes ci-dessous peuvent s’engager sur l’épreuve \nOuverture des engagements pour les équipes françaises  ce lundi 04/07\, Clôture le 11/07 à 20h00 \nLes équipes 2022 : \nBSC FORMATION\nCD35\nCD44\nCREUSE OXYGENE\nENTENTE BREST PAYS D’IROISE\nENTENTE CENTRE ARMOR MIXTE\nENTENTE DU MOULIN NEUF\nEquipe Mixte AVRANCHES/ST JAMES\nOLYMPIC CYCLISTE LOCMINE\nOLYMPIQUE GRANDE SYNTHE\nTEAM SPORTBREIZH\nU19 PYRENEES PERFORMANCE ACADEMY\nUC ALREENNE\nUC BRIOCHINE\nUS VERN\nVC ESSARTAIS\nVCP LOUDEAC\nEquipe Mixte VELO SPORT QUIMPEROIS / DC QUEDILLAC\nVS TREGUEUX\nMAES CYCLING TEAM GLABEEK BELGIQUE \nEquipe de 6 coureurs et 3 remplaçants maximum \n  \nLire en plein écranAller au contenu PDF\nLire en plein écranAller au contenu PDF\nRenseignements complémentaires : \nThibault QUENTRIC\nP – 0649090396\nM- thibault@sportbreizh.com
URL:https://www.cyclisme.bzh/epreuve-calendrier/la-sportbreizh-juniors-sur-invitation/
ATTACH;FMTTYPE=image/jpeg:https://www.cyclisme.bzh/wp-content/uploads/2022/07/220629-La-Sportbreizh-Junior-2022_page-0001.jpg
ORGANIZER;CN="TEAM SPORTBREIZH (4329476)":MAILTO:gurvan.musset@sportbreizh.com
END:VEVENT
BEGIN:VEVENT
DTSTART;VALUE=DATE:20220716
DTEND;VALUE=DATE:20220717
DTSTAMP:20260422T170724
CREATED:20220525T084510Z
LAST-MODIFIED:20220527T072140Z
UID:10001344-1657929600-1658015999@www.cyclisme.bzh
SUMMARY:Saint Denoual - Trophée Noret
DESCRIPTION:Régularité : Dép 10h45 – Distance selon l’âge – Engagements 2 € \nMinimes et Minimes/Cadettes : Dép 10h – 5.2 km x 5 t – Prix coureurs : 107/10 1er 20 € – Engagements 6.50 € \nCadets : Dép 14h00 – 5.2 km x 11 t – Prix coureurs : 138/10 1er 28 € – Engagements 6.50 € \n1.2.3.Juniors.Pass Open\, en ligne : Dép 13h30 – 108 km en ligne + 5.2 km x 3 t – Prix coureurs : 915/20 1er 184 € – 91/5 1er 29 € ps juniors – Engagements 8.50 € \nOuverture des engagements le 26/05 à 18h \nRenseignements : Yves COLIN – ccycloclubplancoetin@sfr.fr
URL:https://www.cyclisme.bzh/epreuve-calendrier/saint-denoual-trophee-noret/
LOCATION:SAINT DENOUAL\, SAINT DENOUAL\, Bretagne\, France
CATEGORIES:Ecole de cyclisme
ORGANIZER;CN="CC PLANCOETIN (4322069)":MAILTO:ccycloclubplancoetin@sfr.fr
END:VEVENT
BEGIN:VEVENT
DTSTART;VALUE=DATE:20220716
DTEND;VALUE=DATE:20220717
DTSTAMP:20260422T170724
CREATED:20220609T132932Z
LAST-MODIFIED:20220621T150707Z
UID:10001378-1657929600-1658015999@www.cyclisme.bzh
SUMMARY:Lescouët Gouarec
DESCRIPTION:Minimes : Dép 14h00 – 9.6 km x 4 t – Engagements 6.50 € \nPass et Pass Open : \nD1/D2 : Dép 15h30 – 9.6 km x 8 t\nD3/D4 : Dép 15h32 – 9.6 km x 6 t\nEngagements 8.50 € \nOuverture des engagements le 10/06 à 18h \nLire en plein écranAller au contenu PDF\n  \nRenseignements : Alain BONNY – bonny.alain@hotmail.fr – 06 47 27 04 27
URL:https://www.cyclisme.bzh/epreuve-calendrier/lescouet-gouarec/
LOCATION:LESCOUËT-GOUAREC\, LESCOUËT-GOUAREC\, Bretagne\, France
ATTACH;FMTTYPE=image/jpeg:https://www.cyclisme.bzh/wp-content/uploads/2022/06/Affiche-2022-La-Lescouettaise_page-0001.jpg
END:VEVENT
BEGIN:VEVENT
DTSTART;VALUE=DATE:20220716
DTEND;VALUE=DATE:20220717
DTSTAMP:20260422T170724
CREATED:20220624T132855Z
LAST-MODIFIED:20220624T134710Z
UID:10001412-1657929600-1658015999@www.cyclisme.bzh
SUMMARY:Pordic - Vélodrome Jacques Prigent - Finale de la Coupe de Bretagne Piste
DESCRIPTION:Départ : 12h30 \nPrix coureurs :\nMinimes : Gr 47/5 1er 18 € \nCadets : Gr 47/5 1er 18 € \nDames 17ans et + : Gr 61/5 1ère 21 € \nJuniors H : Gr 61/5 1er 21 € \nSeniors H : Gr 61/5 1er 21 € \nAméricaine Cadets : Gr 47/5 1er 18 € \nAméricaine Cadettes : Gr 47/5 1ère 18 € \nAméricaine Dames 17ans et + : Gr 76/3 1ère 38 € \nAméricaine 17ans et + : Gr 76/3 1er 38 € \nEngagements 6.50 pour les Minimes et Cadets et 8.50 € pour les 17ans et + \nRenseignements et bulletins à envoyer à Jacques QUEMARD : jacques.quemard@orange.fr – 06 87 51 92 73
URL:https://www.cyclisme.bzh/epreuve-calendrier/pordic-velodrome-jacques-prigent-finale-de-la-coupe-de-bretagne-piste/
LOCATION:PORDIC\, PORDIC\, Bretagne\, France
ATTACH;FMTTYPE=image/jpeg:https://www.cyclisme.bzh/wp-content/uploads/2022/05/piste-e1651844689310.jpg
ORGANIZER;CN="EP PORDIC AADP":MAILTO:jacques.quemard@orange.fr
END:VEVENT
BEGIN:VEVENT
DTSTART;VALUE=DATE:20220717
DTEND;VALUE=DATE:20220718
DTSTAMP:20260422T170724
CREATED:20220609T092701Z
LAST-MODIFIED:20220713T081238Z
UID:10001371-1658016000-1658102399@www.cyclisme.bzh
SUMMARY:Sains - Circuit Des Marais
DESCRIPTION:Régularité route : \nDépart 13h – Distance selon l’âge \nEngagement 2€ \nDames minimes / cadettes : \nDépart 15h01 \nMinimes : 9 tours x 3.8 km \nCadettes : 12 tours x 3.8 km \nEngagement 6.50€ \nDames juniors / seniors : \nDépart 15h – 16 tours x 3.8 km \nEngagement 8.50€ \nEngagements : \nOuverture le 10/06/2022 à 18h \nFermeture le 14/07/2022 à 20h \nPrésident de jury : \nDANION Michel
URL:https://www.cyclisme.bzh/epreuve-calendrier/sains-circuit-des-marais/
LOCATION:SAINS\, SAINS\, Bretagne\, France
ORGANIZER;CN="JS DOLOISE CYCLISME (4335050)":MAILTO:loic.pedron@orange.fr
END:VEVENT
BEGIN:VEVENT
DTSTART;VALUE=DATE:20220717
DTEND;VALUE=DATE:20220718
DTSTAMP:20260422T170724
CREATED:20220609T113614Z
LAST-MODIFIED:20220628T135807Z
UID:10001374-1658016000-1658102399@www.cyclisme.bzh
SUMMARY:Guissény - La Ronde Finistérienne - Pardon de Brendaouez
DESCRIPTION:1.2.3.Juniors\, La Ronde Finistérienne: Dép 15h30 – 6.3 km x 16 t – Prix coureurs : 793/20 1er 160 € – 152/5 1er 54 € ps 2ème cat  – 107/5 1er 35 € ps 3 cat et juniors – Engagements 8.50 € \nOuverture des engagements le 10/06 à 18h00 \nEn ouverture\, à 14h00\, épreuve d’attente Animation/promotion cyclisme\, renseignements ci-dessous. \nRenseignements : Laurence KERBIRIOU – kerbiriou.laurence777@gmail.com – 02 98 68 08 12 \n  \n 
URL:https://www.cyclisme.bzh/epreuve-calendrier/guisseny-la-ronde-finisterienne-pardon-de-brendaouez/
LOCATION:GUISSENY\, GUISSENY\, Bretagne\, France
CATEGORIES:Divers
ATTACH;FMTTYPE=image/jpeg:https://www.cyclisme.bzh/wp-content/uploads/2022/05/affiche-2022-site.jpg
ORGANIZER;CN="VS DRENNECOIS (4329116)":MAILTO:philippe.tel5929@orange.fr
END:VEVENT
BEGIN:VEVENT
DTSTART;VALUE=DATE:20220717
DTEND;VALUE=DATE:20220718
DTSTAMP:20260422T170724
CREATED:20220615T114042Z
LAST-MODIFIED:20220713T131040Z
UID:10001389-1658016000-1658102399@www.cyclisme.bzh
SUMMARY:Pordic-Tréméloir
DESCRIPTION:Cadets : Dép 13h30 – 8.3 km x 6 t – Prix coureurs : 168/10 1er 34€ – Engagements 6.50 € \nMinimes : Dép 13h32 – 8.3 km x 4 t – Prix coureurs : 107/10 1er 20 € – Engagements 6.50 € \nPass et  Pass Open :\nD1/D2 : Dép 15h30 – 8.3 km x 9 t\nD3/D4 : Dép 15h32 – 8.3 km x 7 t \nOuverture des engagements le 15/06 à 18h\, clôture repoussée au 15/07 à 200 \nRenseignements : Daniel TACHEN – daniel.tachen@orange.fr – 06 88 87 26 80 \n 
URL:https://www.cyclisme.bzh/epreuve-calendrier/pordic-tremeloir-2/
LOCATION:Pordic Tréméloir
ORGANIZER;CN="VS BRIOCHIN AG (4322031)":MAILTO:daniel.tachen@orange.fr
END:VEVENT
BEGIN:VEVENT
DTSTART;VALUE=DATE:20220717
DTEND;VALUE=DATE:20220718
DTSTAMP:20260422T170724
CREATED:20220617T102609Z
LAST-MODIFIED:20220617T112013Z
UID:10001398-1658016000-1658102399@www.cyclisme.bzh
SUMMARY:Les Champs Géraux
DESCRIPTION:Minimes : Dép 13h – 5.9 km x 5 t – Prix coureurs : 107/10 1er 20€ – Engagements 6.50 € \nCadets : Dép 14h – 5.9 km x 8 t – Prix coureurs : 138/10 1er 28€ – Engagements 6.50 € \n3 cat+Juniors+Pass Open : Dép 15h30 – 5.9 km x 16 t – Prix coureurs : 259/15 1er 50€ – Engagements 8.50 € \nRenseignements : Marie-Claude DUBOSCQ – mduboscq220@gmail.com – 06 76 97 26 46
URL:https://www.cyclisme.bzh/epreuve-calendrier/les-champs-geraux/
LOCATION:LES CHAMPS GERAUX\, LES CHAMPS GERAUX\, Bretagne\, France
ORGANIZER;CN="VC DINANNAIS (4322030)":MAILTO:mduboscq220@gmail.com
END:VEVENT
BEGIN:VEVENT
DTSTART;VALUE=DATE:20220717
DTEND;VALUE=DATE:20220718
DTSTAMP:20260422T170724
CREATED:20220621T091745Z
LAST-MODIFIED:20220621T091745Z
UID:10001403-1658016000-1658102399@www.cyclisme.bzh
SUMMARY:Inguiniel
DESCRIPTION:Régularité route : \nDépart 13h30 – Distance selon l’âge \nEngagement 2€ \nCadets : \nDépart 10h – 10 tours x 4.9 km \nEngagement 6.50€ \n3ème catégorie / Juniors / PC Open : \nDépart 15h30 – 18 tours x 4.9 km \nEngagement 8.50€ \nEngagements :  \nOuverture le 22/06/2022 à 18h \nFermeture le 14/07/2022 à 20h \nPrésidente de jury : \nLE CORRE Maria
URL:https://www.cyclisme.bzh/epreuve-calendrier/inguiniel-2/
LOCATION:INGUINIEL\, France
CATEGORIES:Ecole de cyclisme
ORGANIZER;CN="UC INGUINIEL (4356125)":MAILTO:emeline.uci@orange.fr
END:VEVENT
BEGIN:VEVENT
DTSTART;VALUE=DATE:20220717
DTEND;VALUE=DATE:20220718
DTSTAMP:20260422T170724
CREATED:20220630T080708Z
LAST-MODIFIED:20220630T083252Z
UID:10001431-1658016000-1658102399@www.cyclisme.bzh
SUMMARY:La Chapelle Caro
DESCRIPTION:Cadets : \nDépart 13h30 – 9 tours x 6.74 km \nEngagement 6.50€ \nPass cyclistes : \nD1 / D2 : Départ 15h30 – 11 tours x 6.74 km \nD3 / D4 : Départ 15h30 – 9 tours x 6.74 km \nEngagement 8.50€ \nEngagements : \nOuverture le 01/07/2022 à 18h \nFermeture le 14/07/2022 à 20h \nPrésidente de jury : \nBONNO Françoise
URL:https://www.cyclisme.bzh/epreuve-calendrier/la-chapelle-caro-2/
LOCATION:LA CHAPELLE CARO\, LA CHAPELLE CARO\, Bretagne\, France
END:VEVENT
BEGIN:VEVENT
DTSTART;VALUE=DATE:20220721
DTEND;VALUE=DATE:20220722
DTSTAMP:20260422T170724
CREATED:20220701T075854Z
LAST-MODIFIED:20220705T070152Z
UID:10001448-1658361600-1658447999@www.cyclisme.bzh
SUMMARY:Morlaix Centre Ville - 48ème Ronde du Viaduc
DESCRIPTION:1.2.3.Juniors.Pass Open : Dép 19h45 – 1.2 km x 65 t – Prix coureurs : 610/20 1er 122 € – Engagements 8.50 € \nChaussée refaite sur une grande partie du circuit\, suppression de nombreux passages pavés \nRenseignements : Michel Roudot – mroudot@sfr.fr – 06 11 45 44 27 \n 
URL:https://www.cyclisme.bzh/epreuve-calendrier/morlaix-centre-ville-48eme-ronde-du-viaduc/
LOCATION:Morlaix
ATTACH;FMTTYPE=image/jpeg:https://www.cyclisme.bzh/wp-content/uploads/2022/07/Ronde-du-viaduc-2022-Affiche-A3.jpg
END:VEVENT
BEGIN:VEVENT
DTSTART;VALUE=DATE:20220722
DTEND;VALUE=DATE:20220723
DTSTAMP:20260422T170724
CREATED:20220621T083953Z
LAST-MODIFIED:20220621T084302Z
UID:10001401-1658448000-1658534399@www.cyclisme.bzh
SUMMARY:Plurien
DESCRIPTION:Pass Cyclisme D1 D2 D3 D4 (sauf Pass Open) : Dép 18h15 – 2.2 km x 27 t – Engagements 8.50 € \n3ème catégorie + Juniors+Pass Open : Dép 20h00 – 2.2 km x 38 t – Prix coureurs : 259/15 1er 50 € – Engagements 8.50 € \nOuverture des engagements le 22/06 à 18h00 \nRenseignements : Dominique PERCHE – vcplurien-perche@orange.fr – 06 76 78 78 58
URL:https://www.cyclisme.bzh/epreuve-calendrier/plurien-2/
LOCATION:PLURIEN
ORGANIZER;CN="VC Plurien":MAILTO:vcplurien-perche@orange.fr
END:VEVENT
BEGIN:VEVENT
DTSTART;VALUE=DATE:20220723
DTEND;VALUE=DATE:20220724
DTSTAMP:20260422T170724
CREATED:20220609T111611Z
LAST-MODIFIED:20220609T113016Z
UID:10001373-1658534400-1658620799@www.cyclisme.bzh
SUMMARY:Lantic
DESCRIPTION:Minimes : Dép 12h30 – 3.1 km x 8 t – Prix coureurs : 107/10 – Engagements 6.50 € \nCadets : Dép 13h30 – 3.1 km x 15 t – Prix coureurs : 168/10 – Engagements 6.50 € \n2.3.Juniors.Pass Open : Dép 15h15 – 3.1 km x 30 t – Prix coureurs : 396/20  – Engagements 8.50 € \n 
URL:https://www.cyclisme.bzh/epreuve-calendrier/lantic/
LOCATION:LANTIC\, LANTIC\, Bretagne\, France
ORGANIZER;CN="UC BRIOCHINE (4322028)":MAILTO:unioncyclistebriochine@gmail.com
END:VEVENT
BEGIN:VEVENT
DTSTART;VALUE=DATE:20220723
DTEND;VALUE=DATE:20220724
DTSTAMP:20260422T170724
CREATED:20220621T085230Z
LAST-MODIFIED:20220621T090915Z
UID:10001402-1658534400-1658620799@www.cyclisme.bzh
SUMMARY:Quéven - Semi Nocturne
DESCRIPTION:Cadets / Cadettes – Limité à 80 coureurs : \nDépart 17h15 – 16 tours x 2.67 km \nEngagement 6.50€ \nPrix coureurs : 107 / 10 – 1er prix 20€ \n3ème catégorie / Juniors / PC Open – Limité à 80 coureurs : \nDépart 19h – 28 tours x 2.67 km \nEngagement 8.50€ \nPrix coureurs : 259 / 15 – 1er prix 50€ \nEngagements : \nOuverture le 22/06/2022 à 18h \nFermeture le 20/07/2022 à 20h \nPrésident de jury : \nCOZ Claude
URL:https://www.cyclisme.bzh/epreuve-calendrier/queven-semi-nocturne/
LOCATION:Queven\, France
ORGANIZER;CN="EC QUEVENOISE (4356186)":MAILTO:w.leclercq@gueguen-perennou.fr
END:VEVENT
BEGIN:VEVENT
DTSTART;VALUE=DATE:20220723
DTEND;VALUE=DATE:20220724
DTSTAMP:20260422T170724
CREATED:20220701T101727Z
LAST-MODIFIED:20220713T122856Z
UID:10001451-1658534400-1658620799@www.cyclisme.bzh
SUMMARY:Guipry Messac
DESCRIPTION:Cadets H/F / Femmes 17 + : \nDépart 13h45 – 9 tours x 6 km \nEngagement 6.50€ \nPrix coureurs : 183 / 10 – 1er prix 37€ \nPass / Pass Open : \nD1 / D2 : Départ 16h – 12 tours x 6 km \nD3 / D4 : Départ 16h02 – 10 tours x 6 km \nEngagement 8.50€ \n2ème & 3ème catégories / Juniors / PC Open – Limité à 50 coureurs : \nDépart 19h – Course par élimination \n7 tours d’échauffement x 1.5km + 50 tours x 1.5 km \n2 coureurs éliminés tous les 2 tours \nEngagements : \nOuverture le 02/07/2022 à 18h \nFermeture le 20/07/2022 à 20h \nPrésident de jury : \nGUEGAND André \nInformations complémentaires :
URL:https://www.cyclisme.bzh/epreuve-calendrier/guipry-messac/
LOCATION:GUIPRY MESSAC\, GUIPRY MESSAC\, Bretagne\, France
ATTACH;FMTTYPE=image/jpeg:https://www.cyclisme.bzh/wp-content/uploads/2022/07/Affiche-Juillet-2022.jpg
ORGANIZER;CN="REDON OC (4335040)":MAILTO:gicquelpierre@orange.fr
END:VEVENT
BEGIN:VEVENT
DTSTART;VALUE=DATE:20220723
DTEND;VALUE=DATE:20220725
DTSTAMP:20260422T170724
CREATED:20220630T071326Z
LAST-MODIFIED:20220713T071309Z
UID:10001429-1658534400-1658707199@www.cyclisme.bzh
SUMMARY:L'Armoricaine Cycliste - sur invitation
DESCRIPTION:  \nLe plateau de l’Armoricaine Cycliste est composé d’un total de 27 équipes (160 coureurs)\ndont deux équipes hollandaises\, deux équipes belges\, une équipe mauricienne\, 11 N1\, 5 N2\, 4N3\, 2 clubs étrangers \n01. Ile Maurice (Equipe nationale)\n02. Steeds Vooraan Kontich (Belgique)\n03. TWC de Kempen (Pays Bas)\n04. VDM Trawobo Cycling Team (Belgique)\n05. Willebrord Will Vooruit (Pays Bas)\nN1 FRANCAISES\n06. AG2R La Mondiale U23 N1 (Savoie)\n07. Côtes d’Armor Marie Morin U N1 (Côtes d’Armor)\n08. Dinan Sport Cycling N1 (Côtes d’Armor)\n09. Guidon Chalettois N1 (Loiret)\n10. Laval Cyclisme 53 N1 (Mayenne)\n11. Sojasun Espoir N1 (Ille et Vilaine)\n12. Team Cube U 17 N1 (Charente Maritime)\n13. VCP Loudéac N1 (Côtes d’Armor)\n14. VC Rouen N1 (Seine Maritime)\n15. Vendée U Pays de la Loire N1 (Vendée)\n16. WB Fybolia Morbihan N1 (Morbihan)\nN2. FRANCAISES\n17. Bricquebec Cotentin N2 (Manche)\n18. C’Chartres cyclisme N2 (Eure et Loir)\n19. La Roche Vendée Cyclisme N2 (Vendée)\n20. Orléans LC N2 (Loiret)\n21. VS Valletais N2 (Loire Atlantique)\nN3. FRANCAISES\n22. Team La crêpe de Brocéliande – Bodemer Auto N3 (Morbihan)\n23. UC Briochine Bleu Mercure N3 (Côtes d’Armor)\n24. UV Troyes N3 (Aube)\n25. Morlaix Cyclisme Performance N3 (Finistère)\nCLUB FRANCAIS\n26. UCK Vannes (Morbihan)\n27. Equipe mixte Team La Godasse-VC Avranches (Côtes d’Armor-Manche) \nAttention\, que ces équipes peuvent s’engager sur l’épreuve \nClôture des engagements le 16/07 à 20h00 \nEngagements à 17 € par coureur \nEtape 1 à Plédran : Départ 14h00 – 9\,8 km x 15 t – Prix coureurs : 1220/20 1er 246 € \nEtape 2 à Hénon : Départ 14h00 – 11.7 km x 5 t + 7 km x 11 t – Prix coureurs : 1220/20 1er 246 € \nGénéral : Prix coureurs : 1220/20 1er 246 € \nRenseignements : Gilles LANDIN – 06 31 47 88 98 – ccm_landin_hotmail.com
URL:https://www.cyclisme.bzh/epreuve-calendrier/larmoricaine-cycliste-sur-invitation/
LOCATION:PLEDRAN\, PLEDRAN\, Bretagne\, France
ATTACH;FMTTYPE=image/jpeg:https://www.cyclisme.bzh/wp-content/uploads/2022/06/220711_LARMORICAINE-AFFICHE-A3-2022_page-0001.jpg
END:VEVENT
BEGIN:VEVENT
DTSTART;VALUE=DATE:20220724
DTEND;VALUE=DATE:20220725
DTSTAMP:20260422T170724
CREATED:20220701T085801Z
LAST-MODIFIED:20220722T070635Z
UID:10001449-1658620800-1658707199@www.cyclisme.bzh
SUMMARY:Tréflaouénan
DESCRIPTION:Cadets\, Trophée Super U St Pol de Leon  : Dép 13h00 – 3.31 km x 18 t – Prix coureurs : 138/10 1er 28 € – Engagements 6.50 € \nMinimes\, Trophée Centrakor-Litrimarché St Pol de Leon : Dép 15h00 – 3.31 km x 10 t – Prix coureurs : 107/10 1er 20 € – Engagements 6.50 € \nRégularité\, Trophée Mc Do St Pol de Leon : Dép 16h15  – Distance selon l’âge – Engagements 2 € \nRenseignements : Thierry Lirzin – 06 43 69 45 69 – presidence.acleonarde@gmail.com
URL:https://www.cyclisme.bzh/epreuve-calendrier/treflaouenan-2/
LOCATION:TREFLAOUENAN\, TREFLAOUENAN\, Bretagne\, France
CATEGORIES:Ecole de cyclisme
ORGANIZER;CN="AC LEONARDE (4329166)":MAILTO:presidence.acleonarde@gmail.com
END:VEVENT
BEGIN:VEVENT
DTSTART;VALUE=DATE:20220727
DTEND;VALUE=DATE:20220728
DTSTAMP:20260422T170724
CREATED:20220615T125818Z
LAST-MODIFIED:20220615T125818Z
UID:10001393-1658880000-1658966399@www.cyclisme.bzh
SUMMARY:Camors - Présentation des Écoles de vélo du Morbihan
DESCRIPTION:A l’occasion du Critérium de Camors le 27 juillet 2022\, l’EC Pluvigner organise une présentation des écoles de vélo du Morbihan. \nLes écoles de vélo seront invitées par le club organisateur. Il s’agit d’une présentation sans classement\, il n’y a pas d’engagements à faire. \nChaque club encadrera ses licenciés. \nInformations : \nDépart 16h30 – 1 tour x 2 km \nÉvènement gratuit – Sur invitation \nContact : \nM. GUEGAN Jean-Claude – 0642662982 – guegan56330@orange.fr
URL:https://www.cyclisme.bzh/epreuve-calendrier/camors-presentation-des-ecoles-de-velo-du-morbihan/
LOCATION:CAMORS\, CAMORS\, Bretagne\, France
CATEGORIES:Ecole de cyclisme
ORGANIZER;CN="EC PLUVIGNOISE (4356136)":MAILTO:ecp56330@gmail.com
END:VEVENT
BEGIN:VEVENT
DTSTART;VALUE=DATE:20220730
DTEND;VALUE=DATE:20220731
DTSTAMP:20260422T170724
CREATED:20220629T131215Z
LAST-MODIFIED:20220629T131215Z
UID:10001419-1659139200-1659225599@www.cyclisme.bzh
SUMMARY:Plouray
DESCRIPTION:Pass Cyclisme et Pass Open : Dép 13h30 – 8 km x 9 t – Engagements 8.50 € \nRenseignements Michel MONCHAUX – michelmonchaux@orange.fr – 06.07.24.23.44
URL:https://www.cyclisme.bzh/epreuve-calendrier/plouray-2/
LOCATION:PLOURAY\, PLOURAY\, Bretagne\, France
END:VEVENT
BEGIN:VEVENT
DTSTART;VALUE=DATE:20220730
DTEND;VALUE=DATE:20220731
DTSTAMP:20260422T170724
CREATED:20220708T071753Z
LAST-MODIFIED:20220708T080219Z
UID:10001417-1659139200-1659225599@www.cyclisme.bzh
SUMMARY:Coatélan Plougonven - Prix du Comité des fêtes
DESCRIPTION:1.2.3.Juniors.Pass Open : Dép 15h00 – 4.6 km x 22 t – Prix coureurs : 610/20 1er 122 € – 152/5 1er 54 € ps 2ème cat – 107/5 1er 35 € ps 3cat et juniors – Engagements 8.50 € \nRenseignements : Emile PRIGENT – emileprigent@orange.fr – 06 82 44 08 85
URL:https://www.cyclisme.bzh/epreuve-calendrier/coatelan-plougonven-prix-du-comite-des-fetes/
LOCATION:COATÉLAN-PLOUGONVEN\, COATÉLAN-PLOUGONVEN\, Bretagne\, France
ORGANIZER;CN="EC PLESTIN PAYS TREGOR (4322163)":MAILTO:gilbert.lacelle@orange.fr
END:VEVENT
BEGIN:VEVENT
DTSTART;VALUE=DATE:20220731
DTEND;VALUE=DATE:20220801
DTSTAMP:20260422T170724
CREATED:20220609T124340Z
LAST-MODIFIED:20220609T130059Z
UID:10001377-1659225600-1659311999@www.cyclisme.bzh
SUMMARY:Châteaulin - 17ème Trophée Jo Velly - Grand Prix Optic 2000
DESCRIPTION:3.Juniors.Pass Open : Dép 15h – 3.2 km x 25 t – Prix coureurs : 259/15 1er 50 € \nOuverture des engagements le 10/06 à 18h00 \nRenseignements : Jean-Pierre GINIAUX – giniauxjeanpierre@gmail.com – 06 52 16 46 15
URL:https://www.cyclisme.bzh/epreuve-calendrier/chateaulin-17eme-trophee-jo-velly-grand-prix-optic-2000/
LOCATION:CHÂTEAULIN\, CHÂTEAULIN\, Bretagne\, France
ORGANIZER;CN="VC CHATEAULINOIS (4329221)":MAILTO:vcccontact@laposte.net
END:VEVENT
BEGIN:VEVENT
DTSTART;VALUE=DATE:20220731
DTEND;VALUE=DATE:20220801
DTSTAMP:20260422T170724
CREATED:20220609T142241Z
LAST-MODIFIED:20220628T140109Z
UID:10001379-1659225600-1659311999@www.cyclisme.bzh
SUMMARY:St Jacques Guiclan - La Ronde Finistérienne et Championnat de Bretagne du Monde Agricole
DESCRIPTION:1-2-3-Juniors\, La Ronde Finistérienne : Dép 16h – 5 km x 20 t – Prix coureurs : 793/20 1er 160 € – 152/5 1er 54 € ps 2 cat – 107/5 1er 35 € ps 3 cat et juniors – Engagements 8.50 € \nRenseignements : Xavier Salaun – xaviersalaun.lesaout@gmail.com \nEn ouverture\, Championnat de Bretagne du Monde Agricole : Dép 14h00 – 5 km x 10 t – Ouvert aux Agriculteurs\, salariés et Retraités hors licenciés FFC 1.2.3.Juniors\nRenseignements et inscriptions : Raymond BAOUDOUR – raymond.baoudour@orange.fr – 06 65 55 16 46
URL:https://www.cyclisme.bzh/epreuve-calendrier/st-jacques-guiclan-la-ronde-finisterienne/
LOCATION:ST JACQUES GUICLAN\, ST JACQUES GUICLAN\, Bretagne\, France
CATEGORIES:Divers
ATTACH;FMTTYPE=image/jpeg:https://www.cyclisme.bzh/wp-content/uploads/2022/05/affiche-2022-site.jpg
ORGANIZER;CN="LANDIVISIENNE CYCLISTE (4329019)":MAILTO:landivisienne.c@laposte.net
END:VEVENT
BEGIN:VEVENT
DTSTART;VALUE=DATE:20220731
DTEND;VALUE=DATE:20220801
DTSTAMP:20260422T170724
CREATED:20220629T131650Z
LAST-MODIFIED:20220629T133251Z
UID:10001421-1659225600-1659311999@www.cyclisme.bzh
SUMMARY:Plessala
DESCRIPTION:Cadets : Dép 13h30 – 5.25 km x 10 t – Prix coureurs : 138/10 1er 28 € – Engagements 6.50 € \n3ème catégorie+Juniors+Pass Open : Dép 15h30 – 5.25 km x 18 t – Prix coureurs : 259/15 1er 50 € – Engagements 8.50 € \nRenseignements : René FERCOQ – rene.fercoq@neuf.fr – 06.37.77.11.74
URL:https://www.cyclisme.bzh/epreuve-calendrier/plessala-2/
LOCATION:PLESSALA\, PLESSALA\, Bretagne\, France
ORGANIZER;CN="VC LOUDEAC 38 (4322004)":MAILTO:rene.fercoq@neuf.fr
END:VEVENT
END:VCALENDAR