BEGIN:VCALENDAR
VERSION:2.0
PRODID:-//Comité de Bretagne de Cyclisme - ECPv6.15.20//NONSGML v1.0//EN
CALSCALE:GREGORIAN
METHOD:PUBLISH
X-ORIGINAL-URL:https://www.cyclisme.bzh
X-WR-CALDESC:Évènements pour Comité de Bretagne de Cyclisme
REFRESH-INTERVAL;VALUE=DURATION:PT1H
X-Robots-Tag:noindex
X-PUBLISHED-TTL:PT1H
BEGIN:VTIMEZONE
TZID:Europe/Paris
BEGIN:DAYLIGHT
TZOFFSETFROM:+0100
TZOFFSETTO:+0200
TZNAME:CEST
DTSTART:20210328T010000
END:DAYLIGHT
BEGIN:STANDARD
TZOFFSETFROM:+0200
TZOFFSETTO:+0100
TZNAME:CET
DTSTART:20211031T010000
END:STANDARD
BEGIN:DAYLIGHT
TZOFFSETFROM:+0100
TZOFFSETTO:+0200
TZNAME:CEST
DTSTART:20220327T010000
END:DAYLIGHT
BEGIN:STANDARD
TZOFFSETFROM:+0200
TZOFFSETTO:+0100
TZNAME:CET
DTSTART:20221030T010000
END:STANDARD
BEGIN:DAYLIGHT
TZOFFSETFROM:+0100
TZOFFSETTO:+0200
TZNAME:CEST
DTSTART:20230326T010000
END:DAYLIGHT
BEGIN:STANDARD
TZOFFSETFROM:+0200
TZOFFSETTO:+0100
TZNAME:CET
DTSTART:20231029T010000
END:STANDARD
END:VTIMEZONE
BEGIN:VEVENT
DTSTART;VALUE=DATE:20220701
DTEND;VALUE=DATE:20220702
DTSTAMP:20260422T023725
CREATED:20220520T132943Z
LAST-MODIFIED:20220520T134108Z
UID:10001335-1656633600-1656719999@www.cyclisme.bzh
SUMMARY:Quessoy
DESCRIPTION:Pass et Pass Open  :Dép 18h00 – D1/D2 : 3.2 km x 20 t – D3/D4 : 3.2 km x 15 t – Engagements 8.50 € \n1.2.3 cat+Juniors+pass Open : Dép 19h45 – 3.2 km x 30 t – Prix coureurs : 610/20 1er 122€ – Engagements 8.50 € \nOuverture des engagements le 21/05 à 18h \n 
URL:https://www.cyclisme.bzh/epreuve-calendrier/quessoy/
LOCATION:QUESSOY
ORGANIZER;CN="UC BRIOCHINE (4322028)":MAILTO:unioncyclistebriochine@gmail.com
END:VEVENT
BEGIN:VEVENT
DTSTART;VALUE=DATE:20220701
DTEND;VALUE=DATE:20220702
DTSTAMP:20260422T023725
CREATED:20220602T074227Z
LAST-MODIFIED:20220607T094646Z
UID:10001359-1656633600-1656719999@www.cyclisme.bzh
SUMMARY:Châteaugiron - Trophée Pays de Châteaugiron / Critos Tour- Nouveau circuit
DESCRIPTION:2 & 3èmes catégories / Juniors / PC Open – Limité à 80 coureurs : \nDépart 20h – 40 tours x 1.7 km \nEngagement 8.50€ \nPrix coureurs : 396 / 20 – 1er prix 78€ \nEngagements : \nOuverture le 03/06/2022 à 18h \nFermeture le 28/06/2022 à 20h \nPrésident de jury : \nLEMERCIER Jean-Claude
URL:https://www.cyclisme.bzh/epreuve-calendrier/chateaugiron-trophee-pays-de-chateaugiron-critos-tour/
LOCATION:CHÂTEAUGIRON\, France
ORGANIZER;CN="CLUB CYCLISTE CHATEAUGIRON (4335101)":MAILTO:jeanclaude.madiot1@orange.fr
END:VEVENT
BEGIN:VEVENT
DTSTART;VALUE=DATE:20220702
DTEND;VALUE=DATE:20220703
DTSTAMP:20260422T023725
CREATED:20220531T122213Z
LAST-MODIFIED:20220627T132458Z
UID:10001358-1656720000-1656806399@www.cyclisme.bzh
SUMMARY:Saint Brice En Coglès
DESCRIPTION:Régularité route : \nDépart 12h30 \n\nPré licenciés : 1/2 tour x 2.5 km\nPoussins : 2 tours x 2.5 km\nPupilles : 4 tours x 2.5 km\nBenjamins : 6 tours x 2.5 km\n\nEngagement 2€ \nMinimes\, limité à 50 coureurs : \nDépart 14h30 – 10 tours x 2.5 km \nEngagement 6.50€ \nPrix coureurs : 107 / 10 – 1er prix 20€ \nCadets\, limité à 50 coureurs : \nDépart 16h – 20 tours x 2.5 km \nEngagement 6.50€ \nPrix coureurs : 107 / 10 – 1er prix 20€ \nEngagements : \nOuverture le 01/06/2022 à 18h \nFermeture le 29/06/2022 à 20h \nPrésident de jury : \nPEDRON Loïc
URL:https://www.cyclisme.bzh/epreuve-calendrier/saint-brice-en-cogles/
LOCATION:SAINT BRICE EN COGLES\, France
CATEGORIES:Régularité route
ORGANIZER;CN="TEAM TED DIT AUTISME (4335450)":MAILTO:teamtedditautisme@yahoo.com
END:VEVENT
BEGIN:VEVENT
DTSTART;VALUE=DATE:20220702
DTEND;VALUE=DATE:20220703
DTSTAMP:20260422T023725
CREATED:20220603T125616Z
LAST-MODIFIED:20220603T131646Z
UID:10001362-1656720000-1656806399@www.cyclisme.bzh
SUMMARY:Loguivy-Plougras - Le Dresnay
DESCRIPTION:Pass Cyclisme et Pass Open :\nD1/D2 : Dép 16h – 8.8 km x 8 t\nD3/D4 : Dép 16h02 – 8.8 km x 6 t\nEngagements : 8.50 € \nune portion de 1km de ribin figure sur le circuit \nRenseignements : Aurélie LORINQUER – Mobile : 06.60.98.56.37\nE-Mail : aurelie.lorinquer@laposte.net
URL:https://www.cyclisme.bzh/epreuve-calendrier/loguivy-plougras-le-dresnay/
LOCATION:LE DRESNAY LOGUIVY PLOUGRAS\, LE DRESNAY LOGUIVY PLOUGRAS\, Bretagne\, France
ORGANIZER;CN="HERMINE CYC. DU TREGOR (4322409)":MAILTO:hct22@laposte.net
END:VEVENT
BEGIN:VEVENT
DTSTART;VALUE=DATE:20220702
DTEND;VALUE=DATE:20220703
DTSTAMP:20260422T023725
CREATED:20220603T135408Z
LAST-MODIFIED:20220603T135408Z
UID:10001363-1656720000-1656806399@www.cyclisme.bzh
SUMMARY:Louvigné Du Désert
DESCRIPTION:D3 / D4 : \nDépart 16h – 25 tours x 2 km \nEngagement 8.50€ \n3ème catégorie / Juniors / PC Open : \nDépart 18h – 40 tours x 2 km \nEngagement 8.50€ \nPrix coureurs : 274 / 15 – 1er prix 53€ \nEngagements : \nOuverture le 04/06/2022 à 18h \nFermeture le 29/06/2022 à 20h \nPrésident de jury : \nDANION Michel \nAucun engagement sur la ligne
URL:https://www.cyclisme.bzh/epreuve-calendrier/louvigne-du-desert-4/
LOCATION:LOUVIGNE DU DESERT\, LOUVIGNE DU DESERT\, Bretagne\, France
ORGANIZER;CN="VCS LOUVIGNEEN (4335104)":MAILTO:yvesduchesne@orange.fr
END:VEVENT
BEGIN:VEVENT
DTSTART;VALUE=DATE:20220702
DTEND;VALUE=DATE:20220703
DTSTAMP:20260422T023725
CREATED:20220610T081358Z
LAST-MODIFIED:20220610T081358Z
UID:10001380-1656720000-1656806399@www.cyclisme.bzh
SUMMARY:Quedillac - Trophée ATFB
DESCRIPTION:Pass D3/D4 : \nDépart 14h30 – 14 tours x 4.5 km \nEngagement 8.50€ \nPass D1/D2 : \nDépart 16h30 – 16 tours x 4.5 km \nEngagement 8.50€ \n3ème catégorie / Juniors : \nDépart 19h – 20 tours x 4.5 km \nEngagement 8.50€ \nPrix coureurs : 259 / 15 – 1er prix 50€ \nEngagements : \nOuverture le 11/06/2022 à 18h \nFermeture le 29/06/2022 à 20h \nPrésident de jury : \nROYER Maxime
URL:https://www.cyclisme.bzh/epreuve-calendrier/quedillac-trophee-atfb-2/
LOCATION:QUÉDILLAC\, France
ORGANIZER;CN="DYNAMIC CLUB QUEDILLAC (4335398)":MAILTO:joelle.brindejonc@wanadoo.fr
END:VEVENT
BEGIN:VEVENT
DTSTART;VALUE=DATE:20220703
DTEND;VALUE=DATE:20220704
DTSTAMP:20260422T023725
CREATED:20220518T092416Z
LAST-MODIFIED:20220518T092416Z
UID:10001325-1656806400-1656892799@www.cyclisme.bzh
SUMMARY:La  Chapelle Des Fougeretz - Prix Gérard Lahaye
DESCRIPTION:Pass D3 / D4 : \nDépart 14h – 12 tours x 5 km \nEngagement 8.50€ \nPass D1 / D2 : \nDépart 15h45 – 15 tours x 5 km \nEngagement 8.50€ \nEngagements : \nOuverture le 19/05/2022 à 18h \nFermeture le 30/06/2022 à 20h \nPrésident de jury : \nTIENVROT Louis
URL:https://www.cyclisme.bzh/epreuve-calendrier/la-chapelle-des-fougeretz-prix-gerard-lahaye/
LOCATION:LA CHAPELLE DES FOUGERETZ\, LA CHAPELLE DES FOUGERETZ\, Bretagne\, France
ORGANIZER;CN="VC RENNAIS (4335044)":MAILTO:a.r.ollivier@orange.fr
END:VEVENT
BEGIN:VEVENT
DTSTART;VALUE=DATE:20220703
DTEND;VALUE=DATE:20220704
DTSTAMP:20260422T023725
CREATED:20220608T134725Z
LAST-MODIFIED:20220628T095448Z
UID:10001369-1656806400-1656892799@www.cyclisme.bzh
SUMMARY:Lanfains - Championnat de Bretagne de l'Avenir - sur sélection
DESCRIPTION:Cadets G : Dép 09h30 – 8.3 km x 9 t – Engagements 6.50 € \nMinimes G : Dép 13h30 – 8.3 km x 5 t – Engagements 6.50 € \nJuniors H : Dép 15h30 – 8.3 km x 15 t – Engagements 8.50 € \nLes engagements sont à réaliser par les comités départementaux avant le 28 juin 20h00. Si absence\, prévenir votre comité départemental \nHors Quota Juniors \n\n\n\nPlace\nNOM\nPrénom\nEQUIPE / CLUB\n\n\n1\nLAURENSOT\nEDGAR\nOC CYCL.CESSONNAIS\n\n\n2\nGILLET\nBAPTISTE\nVC PAYS DE LOUDEAC\n\n\n3\nHUE\nANTOINE\nVC PAYS DE LOUDEAC\n\n\n4\nBASSET\nPIERRE HENRY\nVC PAYS DE LOUDEAC\n\n\n5\nDELALANDE\nBASILE\nOC LOCMINE\n\n\n6\nHAMONIC\nMAXIMILIEN\nDYNAMIC CLUB QUEDILLAC\n\n\n7\nCORLAY LE BARON\nMathis\nAC PAYS DE BAUD\n\n\n8\nDATTIN\nVICTOR\nUS VERN CYCLISME\n\n\n9\nLE BARS BRESSON\nMARIUS\nOC LOCMINE\n\n\n10\nKLEWAIS\nTRISTAN\nOC LOCMINE\n\n\n11\nBARGUIL\nBRAYANN\nAC LANESTER 56\n\n\n12\nMC KAY\nSHANE\nAC LANESTER 56\n\n\n13\nLAOT\nKELVIN\nCC BOURG BLANC\n\n\n14\nMAZEVET\nROHANN\nUC BRIOCHINE\n\n\n15\nHINGANT\nMELVYN\nVS TREGUEUX\n\n\n16\nTROTEL\nMALO\nUC BRIOCHINE\n\n\n17\nMOREL\nTOM\nUS VERN CYCLISME\n\n\n18\nLE MAITRE\nPIERRE\nVC PAYS DE LOUDEAC\n\n\n19\nHUBY\nTHOMAS\nCC UZELAIS\n\n\n20\nGLOUX\nFANTIN\nUS VERN CYCLISME\n\n\n\n  \nHors Quota Cadets \n\n\n\n1\nPIQUET\nDorian\nTEAM COTE DE GRANIT ROSE\n\n\n2\nROUXEL\nTHOMAS\nUC BRIOCHINE\n\n\n3\nDOLTAIRE\nALEX\nVELOCE VANNETAIS CYCLISME\n\n\n4\nVAUGRENARD\nJULES\nVELOCE VANNETAIS CYCLISME\n\n\n5\nTHIERRY\nPAUL\nOC LOCMINE\n\n\n6\nQUERE\nElian\nTEAM COTE DE GRANIT ROSE\n\n\n7\nBASSET\nANTOINE\nVC PAYS DE LOUDEAC\n\n\n8\nCREN\nLenny\nAC LANESTER 56\n\n\n9\nPARIS\nTHEO\nMOELAN CYCLO CLUB\n\n\n10\nBARRE\nWILLIAM\nVC PAYS DE LOUDEAC\n\n\n11\nGUITTET GRARD\nMAEL\nTEAM COTE DE GRANIT ROSE\n\n\n12\nBOULET\nELIOTT\nCC PLANCOETIN\n\n\n13\nBOURHIS\nMaxime\nAC TREGUNCOISE\n\n\n14\nROUE\nLOAN\nVS DRENNECOIS\n\n\n15\nHERNOT\nLOMICK\nEC PLESTIN PAYS TREGOR\n\n\n16\nKEROUEDAN\nQUENTIN\nOC LOCMINE\n\n\n17\nGEFFROY\nGabin\nOC LOCMINE\n\n\n18\nGUEGUEN\nMATTEO\nVS QUIMPEROIS\n\n\n19\nCOGEN\nLUCAS\nST RENAN IROISE VELO\n\n\n20\nLE GALL\nCLEMENT\nRO BEGARROISE\n\n\n\n  \nLes sélectionnés du 29 \nLire en plein écranAller au contenu PDF\nLes sélectionnés du 56 \nLire en plein écranAller au contenu PDF\nLes sélectionnés du 22 \nLire en plein écranAller au contenu PDF\nLes sélectionnés du 35 \nLire en plein écranAller au contenu PDF\nLes critères de sélection ci-dessous :  \nLire en plein écranAller au contenu PDF
URL:https://www.cyclisme.bzh/epreuve-calendrier/lanfains-championnat-de-bretagne-de-lavenir-sur-selection/
LOCATION:LANFAINS\, LANFAINS\, Bretagne\, France
ATTACH;FMTTYPE=image/jpeg:https://www.cyclisme.bzh/wp-content/uploads/2021/05/championnat-bretagne-hommes.jpg
ORGANIZER;CN="VC QUINTINAIS (4322053)":MAILTO:cycle.rault@orange.fr
END:VEVENT
BEGIN:VEVENT
DTSTART;VALUE=DATE:20220703
DTEND;VALUE=DATE:20220704
DTSTAMP:20260422T023725
CREATED:20220615T121530Z
LAST-MODIFIED:20220615T121530Z
UID:10001392-1656806400-1656892799@www.cyclisme.bzh
SUMMARY:Manche Océan
DESCRIPTION:Course d’attente 3ème catégorie / Juniors / PC Open :  \nDépart 13h30 – 15 tours x 4.7 km \nEngagement 8.50€ \nPrix coureurs : 259 / 15 – 1er prix 50€ \n1ère & 2ème catégories : \nDépart 13h30 \nCourse en ligne 101.6 km + 11 tours x 4.7 km – Distance totale 153.3 km \nEngagement 8.50€ \nPrix coureurs : 1220 / 25 – 1er prix 197€ \nPrix 2ème cat : 152 / 5 – 1er prix 54€ \nEngagements : \nOuverture le 16/06/2022 à 18h \nFermeture le 28/08/2022 à 18h \nPrésident de jury : \nCourse d’attente : Non communiqué \nÉpreuve en ligne : PUREN Éric
URL:https://www.cyclisme.bzh/epreuve-calendrier/manche-ocean/
LOCATION:PLUNERET\, France
END:VEVENT
BEGIN:VEVENT
DTSTART;VALUE=DATE:20220705
DTEND;VALUE=DATE:20220706
DTSTAMP:20260422T023725
CREATED:20220520T134315Z
LAST-MODIFIED:20220520T134710Z
UID:10001338-1656979200-1657065599@www.cyclisme.bzh
SUMMARY:Plouha
DESCRIPTION:1\,2\,3ème catégories+Juniors+Pass Open : Dép 19h15 – 4 km x 23 t – Prix coureurs : 610/20 1er 122 € – Engagements 8.50 € \nOuverture des engagements le 21/05 à 18h \n 
URL:https://www.cyclisme.bzh/epreuve-calendrier/plouha-2/
LOCATION:PLOUHA\, PLOUHA\, Bretagne\, France
ORGANIZER;CN="UC BRIOCHINE (4322028)":MAILTO:unioncyclistebriochine@gmail.com
END:VEVENT
BEGIN:VEVENT
DTSTART;VALUE=DATE:20220706
DTEND;VALUE=DATE:20220707
DTSTAMP:20260422T023725
CREATED:20220603T161832Z
LAST-MODIFIED:20220603T162924Z
UID:10001364-1657065600-1657151999@www.cyclisme.bzh
SUMMARY:Taden - Trophée Dinan Agglo
DESCRIPTION:Pass\, Pass Open\, Féminines 17ans et + : Dép 19h00 – 2.2 km x 19 t – Engagements 8.50 € – Limitée à 120 coureurs. \n2ème cat\,3ème cat\, Juniors : Dép 20H15 – 2.2 KM X 32 t – Prix coureurs : 366/15 1er 78 € – Engagements 8.50 € – Limitée à 120 coureurs. \nOuverture des engagements le 04/06 à 18h00\, clôture le 4/07 à 20h00 \nRenseignements : Marie-Claude DUBOSCQ – Mobile : 0676972646 E-Mail : mduboscq220@gmail.com
URL:https://www.cyclisme.bzh/epreuve-calendrier/29829/
LOCATION:TADEN\, TADEN\, Bretagne\, France
ORGANIZER;CN="VC DINANNAIS (4322030)":MAILTO:mduboscq220@gmail.com
END:VEVENT
BEGIN:VEVENT
DTSTART;VALUE=DATE:20220707
DTEND;VALUE=DATE:20220708
DTSTAMP:20260422T023725
CREATED:20220512T094705Z
LAST-MODIFIED:20220607T142548Z
UID:10001310-1657152000-1657238399@www.cyclisme.bzh
SUMMARY:Grand Prix de la Ville de Vannes
DESCRIPTION:1ère\, 2ème & 3ème catégories / Juniors – Limité à 120 engagements : \nDépart 20h – 20 tours x 4.3 km \nEngagement 8.50€ \nPrix coureurs : 610 / 20 – 1er prix : 122€ \nPrix juniors : 47 / 3 – 1er prix : 24€ \nPrésident de jury : \nNon communiqué \nEngagements : \nOuverture le 13/05/2022 à 18h \nFermeture le 04/07/2022 à 20h
URL:https://www.cyclisme.bzh/epreuve-calendrier/grand-prix-de-la-ville-de-vannes/
LOCATION:VANNES\, France
ORGANIZER;CN="VELOCE VANNETAIS CYCLISME (4356083)":MAILTO:hugues.sero@wanadoo.fr
END:VEVENT
BEGIN:VEVENT
DTSTART;VALUE=DATE:20220708
DTEND;VALUE=DATE:20220709
DTSTAMP:20260422T023725
CREATED:20220511T072524Z
LAST-MODIFIED:20220511T072524Z
UID:10001304-1657238400-1657324799@www.cyclisme.bzh
SUMMARY:Loheac
DESCRIPTION: Juniors / 2\,3ème catégorie / PC Open : \nDépart 19h15 – 24 tours x 3.6 km \nEngagement 8.50€ \nPrix coureurs 518 / 20 – 1er prix : 102€ \nEngagements : \nOuverture le 12/05/2022 \nFermeture le 05/07/2022
URL:https://www.cyclisme.bzh/epreuve-calendrier/loheac-2/
LOCATION:LOHEAC\, LOHEAC\, Bretagne\, France
END:VEVENT
BEGIN:VEVENT
DTSTART;VALUE=DATE:20220708
DTEND;VALUE=DATE:20220709
DTSTAMP:20260422T023725
CREATED:20220525T125108Z
LAST-MODIFIED:20220628T135023Z
UID:10001345-1657238400-1657324799@www.cyclisme.bzh
SUMMARY:Carhaix - La Ronde Finistèrienne
DESCRIPTION:Pass et Pass Open : Dép 17h – 2 km x 25 t – Engagements 8.50 € \n1.2.3.Juniors\, La Ronde Finistérienne : Dép 19h – 2 km x 40 t – Prix coureurs : 793/20 1er 160 € – 152/ 1er 54 € ps 2ème cat – 107/5 1er 35 € ps 3 et juniors – Engagements 8.50 € \nEngagements ouverts le 26/05 à 18h \nRenseignements : Florence GUYOMARC’H – 06 27 05 61 60 – guyomarch29@wanadoo.fr
URL:https://www.cyclisme.bzh/epreuve-calendrier/carhaix-la-ronde-finisterienne/
LOCATION:CARHAIX\, CARHAIX\, Bretagne\, France
ATTACH;FMTTYPE=image/jpeg:https://www.cyclisme.bzh/wp-content/uploads/2022/05/affiche-2022-site.jpg
ORGANIZER;CN="UC Carhaix":MAILTO:angellegr56@gmail.com
END:VEVENT
BEGIN:VEVENT
DTSTART;VALUE=DATE:20220709
DTEND;VALUE=DATE:20220710
DTSTAMP:20260422T023725
CREATED:20220518T100851Z
LAST-MODIFIED:20220518T100851Z
UID:10001326-1657324800-1657411199@www.cyclisme.bzh
SUMMARY:Bazouge La Pérouse - Challenge Couesnon Marches De Bretagne
DESCRIPTION:2 & 3ème catégories / Juniors / PC Open : \nDépart 15h30 – 11 tours x 8 km \nEngagement 8.50€ \nPrix coureurs : 259 / 15 – 1er prix : 50€ \nPrix juniors : 47 / 3 – 1er prix : 24€ \nEngagements : \nOuverture le 19/05/2022 à 18h \nFermeture le 06/07/2022 à 20h \nPrésident de jury: \nBRIAND Pierre
URL:https://www.cyclisme.bzh/epreuve-calendrier/bazouge-la-perouse-challenge-couesnon-marches-de-bretagne/
LOCATION:BAZOUGE LA PÉROUSE\, BAZOUGE LA PÉROUSE\, Bretagne\, France
ORGANIZER;CN="TEAM TED DIT AUTISME (4335450)":MAILTO:teamtedditautisme@yahoo.com
END:VEVENT
BEGIN:VEVENT
DTSTART;VALUE=DATE:20220709
DTEND;VALUE=DATE:20220710
DTSTAMP:20260422T023725
CREATED:20220527T122047Z
LAST-MODIFIED:20220531T122131Z
UID:10001350-1657324800-1657411199@www.cyclisme.bzh
SUMMARY:Plouzané - Vélodrome Brest Ponant Iroise - Championnat de Bretagne Omnium
DESCRIPTION:Dép 09h00 \nMinimes G – Sans Prix\nMinimes-Cadettes – Sans Prix\nCadets- Sans Prix\nJuniors H – 47/3 1er 24 €\nSeniors H – 47/3 1er 24 €\nDames 17ans et + – 47/3 1er 24 € \nRenseignements et bulletin à envoyer : Hervé GUILLAOUIC – chris.herveg@free.fr – 06 61.11.48.57 \n 
URL:https://www.cyclisme.bzh/epreuve-calendrier/plouzane-velodrome-brest-ponant-iroise-championnat-de-bretagne-omnium/
LOCATION:PLOUZANE\, PLOUZANE\, Bretagne\, France
ATTACH;FMTTYPE=image/jpeg:https://www.cyclisme.bzh/wp-content/uploads/2021/05/championnat-bretagne-hommes.jpg
ORGANIZER;CN="EP BREST PONANT IROISE":MAILTO:chris.herveg@free.fr
END:VEVENT
BEGIN:VEVENT
DTSTART;VALUE=DATE:20220709
DTEND;VALUE=DATE:20220710
DTSTAMP:20260422T023725
CREATED:20220609T101221Z
LAST-MODIFIED:20220706T092236Z
UID:10001372-1657324800-1657411199@www.cyclisme.bzh
SUMMARY:Plourhan
DESCRIPTION:Cadets : Dép 13h00 – 4.3 km x 12 t – Prix coureurs : 168/10 – Engagements 6.50 € \n2.3.Juniors.Pass Open : Dép 15h00 – 4.3 km x 22 t – Prix coureurs 396/20 – Engagements 8.50 € \nClôture des engagements le jeudi 7/07 à 20h00
URL:https://www.cyclisme.bzh/epreuve-calendrier/plourhan-2/
LOCATION:Plourhan\, France
ATTACH;FMTTYPE=image/jpeg:https://www.cyclisme.bzh/wp-content/uploads/2022/06/291999484_2065617023621259_306539192483206683_n.jpg
ORGANIZER;CN="UC BRIOCHINE (4322028)":MAILTO:unioncyclistebriochine@gmail.com
END:VEVENT
BEGIN:VEVENT
DTSTART;VALUE=DATE:20220709
DTEND;VALUE=DATE:20220710
DTSTAMP:20260422T023725
CREATED:20220616T074007Z
LAST-MODIFIED:20220629T084630Z
UID:10001394-1657324800-1657411199@www.cyclisme.bzh
SUMMARY:Plumelec - Critérium
DESCRIPTION:Cadets : \nDépart 13h30 – 11 tours x 4.6 km \nEngagement 6.50€ \nPrix coureurs : 107 / 10 – 1er prix 20€ \n3ème catégorie / Juniors / PC Open : \nDépart 15h30 – 19 tours x 4.6 km \nEngagement 8.50€ \nPrix coureurs : 183 / 10 – 1er prix 37€ \nPass Cyclisme / PC Open : \nDépart 18h – 14 tours x 4.6 km \nCourse par handicap : Les D1 / D2 partent 5 minutes après les D3 / D4\, et il n’y a qu’un classement et un podium pour tous les pass. \nEngagement 8.50€ \nEngagements : \nOuverture le 08/06/2022 à 18h \nFermeture le 06/07/2022 à 20h \nPrésidente de jury : \nBLÉHER Pauline
URL:https://www.cyclisme.bzh/epreuve-calendrier/plumelec-criterium/
LOCATION:Plumelec\, France
ORGANIZER;CN="ALLROADS PLUMELEC (4356478)":MAILTO:allroadsplumelec@outlook.com
END:VEVENT
BEGIN:VEVENT
DTSTART;VALUE=DATE:20220709
DTEND;VALUE=DATE:20220710
DTSTAMP:20260422T023725
CREATED:20220617T094330Z
LAST-MODIFIED:20220627T070308Z
UID:10001396-1657324800-1657411199@www.cyclisme.bzh
SUMMARY:Plouégat-Guérand - Prix du Comité des Fêtes - La Ronde Finistérienne
DESCRIPTION:Régularité : Dép 14h00 – Distance selon l’âge – Engagements 2 € \n1.2.3.Juniors\, La Ronde Finistérienne : Dép 15h00 – 4.35 km x 24 t – Prix coureurs : 793/20 1er 160 € – 152/5 ps 2ème cat – 107/5 ps 35 € – Engagements 8.50 € \nRenseignements : Emile PRIGENT – emileprigent@orange.fr – 06.82.44.08.85 \n 
URL:https://www.cyclisme.bzh/epreuve-calendrier/plouegat-guerand-prix-du-comite-des-fetes-la-ronde-finisterienne/
LOCATION:PLOUEGAT-GUERRAND\, PLOUEGAT-GUERRAND\, Bretagne\, France
CATEGORIES:Ecole de cyclisme
ATTACH;FMTTYPE=image/jpeg:https://www.cyclisme.bzh/wp-content/uploads/2022/06/affiche-2022-site.jpg
ORGANIZER;CN="EC PLESTIN PAYS TREGOR (4322163)":MAILTO:gilbert.lacelle@orange.fr
END:VEVENT
BEGIN:VEVENT
DTSTART;VALUE=DATE:20220710
DTEND;VALUE=DATE:20220711
DTSTAMP:20260422T023725
CREATED:20220520T135542Z
LAST-MODIFIED:20220520T135542Z
UID:10001339-1657411200-1657497599@www.cyclisme.bzh
SUMMARY:Matignon
DESCRIPTION:Pass Cyclisme et Pass Open D1/D2 : Dép 15h30 – 3.3 km x 24 t – Engagements 8.50 € \nPass Cyclisme D3/D4 : Dép 13h30 – 3.3 km x 20 t – Engagements 8.50 € \nOuverture des engagements le 21/05 à 18h \nRenseignements : Nicole JEUNEU – 06 35 92 06 60 – nicole.jeuneu@gmail.com \n 
URL:https://www.cyclisme.bzh/epreuve-calendrier/matignon-2/
LOCATION:Matignon Chemin Vert
ORGANIZER;CN="ACCRO CYCLES COTE D'EMERAUDE (4322399)":MAILTO:eb.trotel@gmail.com
END:VEVENT
BEGIN:VEVENT
DTSTART;VALUE=DATE:20220710
DTEND;VALUE=DATE:20220711
DTSTAMP:20260422T023725
CREATED:20220615T085125Z
LAST-MODIFIED:20220622T071705Z
UID:10001384-1657411200-1657497599@www.cyclisme.bzh
SUMMARY:Plusquellec
DESCRIPTION:Minimes : Dép 13h00 – 5.7 km x 5 t – Engagements 6.50 € \nCadets : Dép 14h – 5.7 km x 9 t – Engagements 6.50 € \nPass et pass Open : Dép 16h00 – \nD1/D2 : 5.7 km x 13 t \nD3/D4 :  5.7 km x 11 t \nEngagements 8.50 € \nOuverture des engagements le 15/06 à 18h00 \nRenseignements : Michel MONCHAUX – michelmonchaux@orange.fr – 06 07 24 23 44
URL:https://www.cyclisme.bzh/epreuve-calendrier/plusquellec/
LOCATION:PLUSQUELLEC\, PLUSQUELLEC\, Bretagne\, France
END:VEVENT
BEGIN:VEVENT
DTSTART;VALUE=DATE:20220710
DTEND;VALUE=DATE:20220711
DTSTAMP:20260422T023725
CREATED:20220615T095952Z
LAST-MODIFIED:20220615T111659Z
UID:10001387-1657411200-1657497599@www.cyclisme.bzh
SUMMARY:La Prenessaye - La Croix Dolo - Nouveau circuit
DESCRIPTION:Cadets : Dép 13h30 – 3.9 km x 14 t – Prix coureurs 138/10 1er 28 € – Engagements 6.50 € \n3 cat+Juniors+Pass Open : Dép 15h30 – 3.9 km x 24 t – Prix coureurs : 259/15 1er 50 € – 76/5 1er 27 € ps juniors – Engagements : 8.50 € \nOuverture des engagements le 15/06 18h00 \nRenseignements : Sabrina BURLOT – 02 96 56 25 05 – secretariatvcpl@orange.fr
URL:https://www.cyclisme.bzh/epreuve-calendrier/la-prenessaye-la-croix-dolo-nouveau-circuit/
LOCATION:LA PRÉNESSAYE\, LA PRÉNESSAYE\, Bretagne\, France
ORGANIZER;CN="VCP Loud%C3%A9ac":MAILTO:secretariatvcpl@orange.fr
END:VEVENT
BEGIN:VEVENT
DTSTART;VALUE=DATE:20220710
DTEND;VALUE=DATE:20220711
DTSTAMP:20260422T023725
CREATED:20220617T094540Z
LAST-MODIFIED:20220627T070140Z
UID:10001397-1657411200-1657497599@www.cyclisme.bzh
SUMMARY:Plouigneau - Prix de l'USP Football - La Ronde Finistérienne
DESCRIPTION:1.2.3.Juniors\, La Ronde Finistérienne : Dép 15h00 – 4.3 km x 24 t – Prix coureurs : 793/20 1er 160 € – 152/5 ps 2ème cat – 107/5 ps 35 € – Engagements 8.50 € \nRenseignements : Emile PRIGENT – emileprigent@orange.fr – 06.82.44.08.85
URL:https://www.cyclisme.bzh/epreuve-calendrier/plouigneau-prix-de-lusp-football-la-ronde-finisterienne/
LOCATION:PLOUIGNEAU\, PLOUIGNEAU\, Bretagne\, France
ATTACH;FMTTYPE=image/jpeg:https://www.cyclisme.bzh/wp-content/uploads/2022/06/affiche-2022-site.jpg
ORGANIZER;CN="EC PLESTIN PAYS TREGOR (4322163)":MAILTO:gilbert.lacelle@orange.fr
END:VEVENT
BEGIN:VEVENT
DTSTART;VALUE=DATE:20220713
DTEND;VALUE=DATE:20220714
DTSTAMP:20260422T023725
CREATED:20220520T132950Z
LAST-MODIFIED:20220629T065234Z
UID:10001336-1657670400-1657756799@www.cyclisme.bzh
SUMMARY:Redon - 71ème Grand Prix Cycliste de la Ville
DESCRIPTION:2 & 3ème Catégories / Juniors / PC Open : \nDépart 19h15 – 42 tours x 2.2 km \nEngagement 8.50€ \nPrix coureurs : 274 / 15 – 1er prix : 53€ \nPrix juniors : 122 / 10 – 1er prix : 24€ \nPrix 3ème cat : 61 / 5 – 1er prix : 21€ \nPrix PC Open : 61 / 5 – 1er prix : 21€ \nEngagements : \nOuverture le 20/05/2022 à 18h \nFermeture le 11/07/2022 à 20h \nPrésident de jury : \nGUEGAND André
URL:https://www.cyclisme.bzh/epreuve-calendrier/redon-71eme-grand-prix-cycliste-de-la-ville/
LOCATION:REDON\, France
ATTACH;FMTTYPE=application/pdf:https://www.cyclisme.bzh/wp-content/uploads/2022/05/Affiche-du-13-JUILLET-2022-REDON-avec-le-nouveau-LOGO-de-la-Ville-le-LOGO-du-Critos-TOUR-1.pdf
ORGANIZER;CN="REDON OC (4335040)":MAILTO:gicquelpierre@orange.fr
END:VEVENT
BEGIN:VEVENT
DTSTART;VALUE=DATE:20220713
DTEND;VALUE=DATE:20220714
DTSTAMP:20260422T023725
CREATED:20220527T074934Z
LAST-MODIFIED:20220527T074934Z
UID:10001346-1657670400-1657756799@www.cyclisme.bzh
SUMMARY:Grand Prix Cycliste de Janzé - Trophée Yves Samson
DESCRIPTION:PC / PC Open – Limité à 70 coureurs : \nDépart 20h – 35 tours x 2.3 km \nEngagement 8.50€ \nEngagements : \nOuverture le 28/05/2022 à 18h \nFermeture le 10/07/2022 à 20h \nEngagement sur la ligne 10€ \nPrésident de jury : \nDEBROISE Joël
URL:https://www.cyclisme.bzh/epreuve-calendrier/grand-prix-cycliste-de-janze-trophee-yves-samson/
LOCATION:JANZÉ\, JANZÉ\, Bretagne\, France
ORGANIZER;CN="TEAM PODIOCOM JANZE (4335431)":MAILTO:yves.samson4@orange.fr
END:VEVENT
BEGIN:VEVENT
DTSTART;VALUE=DATE:20220713
DTEND;VALUE=DATE:20220714
DTSTAMP:20260422T023725
CREATED:20220615T092859Z
LAST-MODIFIED:20220615T111228Z
UID:10001385-1657670400-1657756799@www.cyclisme.bzh
SUMMARY:Cléguérec - Souvenir Didier Le Botmel - Prix du Christ Per - Challenge du Roi Morvan
DESCRIPTION:Minimes / Cadettes : \nDépart 16h – 7 tours x 3.73 km \nEngagement 6.50€ \nPrix coureurs : 107 / 10 – 1er prix 20€ \n2ème & 3ème catégories / Juniors / PC Open : \nDépart 18h – 22 tours x 3.73 km \nEngagement 8.50€ \nPrix coureurs : 259 / 15 – 1er prix 50€ \nPrix juniors : 30 / 3 – 1er prix 15€ \nEngagements : \nOuverture le 16/06/2022 à 18h \nFermeture le 10/07/2022 à 20h \nPrésident de jury : \nNon communiqué
URL:https://www.cyclisme.bzh/epreuve-calendrier/cleguerec-souvenir-didier-le-botmel-prix-du-christ-per-challenge-du-roi-morvan/
LOCATION:CLÉGUÉREC\, CLÉGUÉREC\, Bretagne\, France
ATTACH;FMTTYPE=application/pdf:https://www.cyclisme.bzh/wp-content/uploads/2022/06/Affiche_Comite_Cleguerec-2022-07-13.pdf
ORGANIZER;CN="VC PONTIVYEN (4356017)":MAILTO:vcpontivyen2017@gmail.com
END:VEVENT
BEGIN:VEVENT
DTSTART;VALUE=DATE:20220714
DTEND;VALUE=DATE:20220715
DTSTAMP:20260422T023725
CREATED:20220609T121641Z
LAST-MODIFIED:20220609T121641Z
UID:10001375-1657756800-1657843199@www.cyclisme.bzh
SUMMARY:Pleslin Trigavou - Les Landes de Reine
DESCRIPTION:Régularité : Dép 11h00  – Distance selon l’âge – Engagements 2 € \nMinimes : Dép 13h00 – 0.925 km x 28 t – Engagements 6.50 € \nCadets : Dép 14h00 – 0.925 km x 50 t – Engagements 6.50 € \nPass et Pass Open : Dép 15h30 – 0.925 km x 65 t – Engagements 8.50 € \nOuverture le 10/06 à 18h00\, clôture le 12/07 à 20 h \nRenseignements : Marie Claude Duboscq – 06 76 97 26 46 \n 
URL:https://www.cyclisme.bzh/epreuve-calendrier/pleslin-trigavou-les-landes-de-reine-5/
LOCATION:PLESLIN TRIGAVOU\, PLESLIN TRIGAVOU\, Bretagne\, France
CATEGORIES:Ecole de cyclisme
ORGANIZER;CN="VC DINANNAIS (4322030)":MAILTO:mduboscq220@gmail.com
END:VEVENT
BEGIN:VEVENT
DTSTART;VALUE=DATE:20220714
DTEND;VALUE=DATE:20220715
DTSTAMP:20260422T023725
CREATED:20220615T093440Z
LAST-MODIFIED:20220615T094320Z
UID:10001386-1657756800-1657843199@www.cyclisme.bzh
SUMMARY:Plouguernével - Challenge du Kreiz Breizh
DESCRIPTION:Minimes : Dép 13h30 – 5.3 km x 5 t – Engagements 6.50 € \nCadets : Dép 14h30 – 5.3 km x 9 t – Engagements 6.50 € \n3  cat+Juniors+Pass Open : Dép 16h15 – 5.3 km x 16 t – Engagements 8.50 € \nOuverture des engagements le 15/06 à 18h \nRenseignements : Michel MONCHAUX – 06 07 24 23 44 – michelmonchaux@orange.fr \n 
URL:https://www.cyclisme.bzh/epreuve-calendrier/plouguernevel-challenge-du-kreiz-breizh/
LOCATION:PLOUGUERNEVEL\, PLOUGUERNEVEL\, Bretagne\, France
END:VEVENT
BEGIN:VEVENT
DTSTART;VALUE=DATE:20220714
DTEND;VALUE=DATE:20220715
DTSTAMP:20260422T023725
CREATED:20220615T112235Z
LAST-MODIFIED:20220615T112235Z
UID:10001388-1657756800-1657843199@www.cyclisme.bzh
SUMMARY:Saint-Thuriau
DESCRIPTION:Cadets H/F / Juniors dames : \nDépart 13h30 – 13 tours x 4.58 km \nEngagement 6.50€ \nPrix coureurs : 138 / 10 – 1er prix 28€ \n3ème catégorie / Juniors / PC Open \nDépart 15h30 \n18 tours x 4.58 km \nEngagement 8.50€ \nPrix coureurs : 259 / 15 – 1er prix 50€ \nEngagements : \nOuverture le 16/06/2022 à 18h \nFermeture le 11/07/2022 à 20h \nPrésident de jury : \nNon communiqué
URL:https://www.cyclisme.bzh/epreuve-calendrier/saint-thuriau/
LOCATION:SAINT THURIAU\, SAINT THURIAU\, Bretagne\, France
ATTACH;FMTTYPE=application/pdf:https://www.cyclisme.bzh/wp-content/uploads/2022/06/2022-07-14-AFFICHE-Saint-Thuriau.pdf
ORGANIZER;CN="VC PONTIVYEN (4356017)":MAILTO:vcpontivyen2017@gmail.com
END:VEVENT
BEGIN:VEVENT
DTSTART;VALUE=DATE:20220714
DTEND;VALUE=DATE:20220715
DTSTAMP:20260422T023725
CREATED:20220617T132731Z
LAST-MODIFIED:20220617T132731Z
UID:10001399-1657756800-1657843199@www.cyclisme.bzh
SUMMARY:Mauron
DESCRIPTION:Pass / Pass Open : \nDépart 14h – 35 tours x 2 km \nEngagement 8.50€ \n1\,2 & 3ème catégories / Juniors : \nDépart 16h15 – 50 tours x 2 km \nEngagement 8.50€ \nPrix coureurs : 610 / 20 – 1er prix 122€ \nPrix 2/3 & juniors : 76 / 5 – 1er prix 27€ \nEngagements : \nOuverture le 18/06/2022 à 18h \nFermeture le 10/07/2022 à 23h \nPrésidente de jury : \nBRINDEJONC Joëlle
URL:https://www.cyclisme.bzh/epreuve-calendrier/mauron/
LOCATION:MAURON
ORGANIZER;CN="VC MEVENNAIS (4335001)":MAILTO:simonlaur@wanadoo.fr
END:VEVENT
END:VCALENDAR