BEGIN:VCALENDAR
VERSION:2.0
PRODID:-//Comité de Bretagne de Cyclisme - ECPv6.15.20//NONSGML v1.0//EN
CALSCALE:GREGORIAN
METHOD:PUBLISH
X-ORIGINAL-URL:https://www.cyclisme.bzh
X-WR-CALDESC:Évènements pour Comité de Bretagne de Cyclisme
REFRESH-INTERVAL;VALUE=DURATION:PT1H
X-Robots-Tag:noindex
X-PUBLISHED-TTL:PT1H
BEGIN:VTIMEZONE
TZID:Europe/Paris
BEGIN:DAYLIGHT
TZOFFSETFROM:+0100
TZOFFSETTO:+0200
TZNAME:CEST
DTSTART:20210328T010000
END:DAYLIGHT
BEGIN:STANDARD
TZOFFSETFROM:+0200
TZOFFSETTO:+0100
TZNAME:CET
DTSTART:20211031T010000
END:STANDARD
BEGIN:DAYLIGHT
TZOFFSETFROM:+0100
TZOFFSETTO:+0200
TZNAME:CEST
DTSTART:20220327T010000
END:DAYLIGHT
BEGIN:STANDARD
TZOFFSETFROM:+0200
TZOFFSETTO:+0100
TZNAME:CET
DTSTART:20221030T010000
END:STANDARD
BEGIN:DAYLIGHT
TZOFFSETFROM:+0100
TZOFFSETTO:+0200
TZNAME:CEST
DTSTART:20230326T010000
END:DAYLIGHT
BEGIN:STANDARD
TZOFFSETFROM:+0200
TZOFFSETTO:+0100
TZNAME:CET
DTSTART:20231029T010000
END:STANDARD
END:VTIMEZONE
BEGIN:VEVENT
DTSTART;VALUE=DATE:20220602
DTEND;VALUE=DATE:20220603
DTSTAMP:20260422T111234
CREATED:20220401T100055Z
LAST-MODIFIED:20220401T100539Z
UID:10001191-1654128000-1654214399@www.cyclisme.bzh
SUMMARY:Pluneret
DESCRIPTION:épreuve pass cyclisme : \ndépart : 20h30 – longueur circuit : 2.2 kms – 28 t \nengagements limités à 100 coureurs \nPas d’engagement sur la ligne \n2 couleurs de dossards pour classement des D1/D2  et autre classement pour les D3/D4 \nPDJ : non communiqué
URL:https://www.cyclisme.bzh/epreuve-calendrier/pluneret/
LOCATION:PLUNERET\, France
END:VEVENT
BEGIN:VEVENT
DTSTART;VALUE=DATE:20220603
DTEND;VALUE=DATE:20220604
DTSTAMP:20260422T111234
CREATED:20220422T125114Z
LAST-MODIFIED:20220503T134403Z
UID:10001244-1654214400-1654300799@www.cyclisme.bzh
SUMMARY:Guidel - semi nocturne - GP des commerçants et artisans
DESCRIPTION:épreuve 3 cat – juniors – pc open : \ndépart : 19h30 – longueur circuit : 2.1 kms – 38 t – prix coureurs : 320/15 \nprix coureur juniors : 47/3 \nle nombre d’engagés est limité à 100 coureurs. \nPDJ : non communiqué \n 
URL:https://www.cyclisme.bzh/epreuve-calendrier/guidel-gp-des-commercants-et-artisans-semi-nocturne/
LOCATION:Guidel\, France
END:VEVENT
BEGIN:VEVENT
DTSTART;VALUE=DATE:20220603
DTEND;VALUE=DATE:20220604
DTSTAMP:20260422T111234
CREATED:20220428T131210Z
LAST-MODIFIED:20220428T131550Z
UID:10001260-1654214400-1654300799@www.cyclisme.bzh
SUMMARY:Pleslin Trigavou
DESCRIPTION:Pass D3 et D4 : Dép 18h30 – 0.925 km x 55 t – Engagements 8.50 € \nPass D1 et D2 : Dép 20h15 – 0.925 km x 70 t – Engagements 8.50 € \nClôture des engagements le 31/05 à 19h00 \nRenseignements : Nicolas COLOMBEL – colombel.teampausdinan@outlook.fr – 06 74 42 93 75
URL:https://www.cyclisme.bzh/epreuve-calendrier/pleslin-trigavou-5/
LOCATION:PLESLIN TRIGAVOU\, PLESLIN TRIGAVOU\, Bretagne\, France
END:VEVENT
BEGIN:VEVENT
DTSTART;VALUE=DATE:20220604
DTEND;VALUE=DATE:20220605
DTSTAMP:20260422T111234
CREATED:20220415T114046Z
LAST-MODIFIED:20220415T114417Z
UID:10001220-1654300800-1654387199@www.cyclisme.bzh
SUMMARY:Marzan
DESCRIPTION:épreuve minimes : \ndépart : 12h30 – longueur circuit : 4.500 kms – 7 t – prix coureurs : 107/10 \népreuve cadets : \ndépart : 13h45 – longueur circuit : 4.500 kms -13 t – prix coureurs : 107/10 \népreuve 3 cat – juniors – pc open : \ndépart : 15h30 – longueur circuit : 4.500 kms – 21 t – prix coureurs : 183/10 \nPDJ : non communiqué \n  \n 
URL:https://www.cyclisme.bzh/epreuve-calendrier/marzan/
LOCATION:MARZAN\, France
END:VEVENT
BEGIN:VEVENT
DTSTART;VALUE=DATE:20220604
DTEND;VALUE=DATE:20220605
DTSTAMP:20260422T111234
CREATED:20220427T125555Z
LAST-MODIFIED:20220427T125555Z
UID:10001256-1654300800-1654387199@www.cyclisme.bzh
SUMMARY:Ploudaniel - Souvenir Yves Marrec
DESCRIPTION:2.3.Juniors.Pass Open : Dép 17h30 – 5.51 km x 17 t – Prix coureurs : 518/20 1er 102 € – 91/10 1er 17 € ps 3 cat\,juniors. – Engagements 8.50 € \nOuverture des engagements le 28/04 à 18h00 \nRenseignements : Laurence Kerbiriou – kerbiriou.laurence@wanadoo.fr – 02 98 68 08 12 \n 
URL:https://www.cyclisme.bzh/epreuve-calendrier/ploudaniel-souvenir-yves-marrec/
LOCATION:PLOUDANIEL\, PLOUDANIEL\, Bretagne\, France
ORGANIZER;CN="VS DRENNECOIS (4329116)":MAILTO:philippe.tel5929@orange.fr
END:VEVENT
BEGIN:VEVENT
DTSTART;VALUE=DATE:20220604
DTEND;VALUE=DATE:20220605
DTSTAMP:20260422T111234
CREATED:20220505T084639Z
LAST-MODIFIED:20220505T084639Z
UID:10001279-1654300800-1654387199@www.cyclisme.bzh
SUMMARY:Saint Gilles Critos Tour
DESCRIPTION:PC OPEN – 2ème & 3ème catégorie – Juniors : \nDépart 18h – 35 tours x 2.6 km \nPrix coureurs : 459 / 20 – 1er 102€ \nPrix Juniors et 3ème cat : 91 / 5 – 1er 29€ \nCadets / cadettes : \nDépart 13h30 – 20 tours x 2.6 km \nPrix coureurs : 138 / 10 – 1er 28€ \nPC Open – D1 / D2 : \nDépart 15h30 – 25 tours x 2.6 km \nPC D3 / D4 : \nDépart 10 h – 20 tours x 2.6 km \nEngagements : \nOuverture le 06/05/2022 à 8h \nFermeture le 02/06/2022 à 20h
URL:https://www.cyclisme.bzh/epreuve-calendrier/saint-gilles-critos-tour/
LOCATION:saint gilles\, 35590\, France
ORGANIZER;CN="CC RENNAIS (4335078)":MAILTO:patrick.frin@orange.fr
END:VEVENT
BEGIN:VEVENT
DTSTART;VALUE=DATE:20220604
DTEND;VALUE=DATE:20220605
DTSTAMP:20260422T111234
CREATED:20220506T133739Z
LAST-MODIFIED:20220523T074312Z
UID:10001288-1654300800-1654387199@www.cyclisme.bzh
SUMMARY:Guipavas  - Championnats  du Finistère vitesse et poursuites
DESCRIPTION:Départ : 10h \nVitesse Minimes : Grille 30/3 1er 15€\nVitesse Cadets : Grille 30/3 1er 15€\nVitesse Minimes/cadettes : Grille 30/3 1er 15€\nPoursuite Minimes/Cadettes : Grille 30/3 1er 15€\nPoursuite Cadets : Grille 47/3 1er 24€\nPoursuite Juniors/Seniors : Grille 47/3 1er 24€\nKm Juniors/Seniors H : Grille 30/3 1er 15€\nScratch Minimes : Grille 47/5 1er 18€ \nRenseignements : Bernard CALVEZ – bernard.calvez29@orange.fr – 06 89 67 84 69 \necoledepiste-guipavas@laposte.net \n 
URL:https://www.cyclisme.bzh/epreuve-calendrier/guipavas-championnats-du-finistere-vitesse-et-poursuites/
LOCATION:GUIPAVAS
ATTACH;FMTTYPE=image/png:https://www.cyclisme.bzh/wp-content/uploads/2020/07/Piste-1.png
END:VEVENT
BEGIN:VEVENT
DTSTART;VALUE=DATE:20220604
DTEND;VALUE=DATE:20220605
DTSTAMP:20260422T111234
CREATED:20220527T133708Z
LAST-MODIFIED:20220527T134422Z
UID:10001352-1654300800-1654387199@www.cyclisme.bzh
SUMMARY:Lamballe Atout Cœur - La Bruno Cornillet
DESCRIPTION:Lire en plein écranAller au contenu PDF
URL:https://www.cyclisme.bzh/epreuve-calendrier/lamballe-atout-coeur-la-bruno-cornillet/
LOCATION:LAMBALLE\, 22400\, France
CATEGORIES:Randonnée
END:VEVENT
BEGIN:VEVENT
DTSTART;VALUE=DATE:20220605
DTEND;VALUE=DATE:20220606
DTSTAMP:20260422T111234
CREATED:20220427T075925Z
LAST-MODIFIED:20220427T080207Z
UID:10001254-1654387200-1654473599@www.cyclisme.bzh
SUMMARY:Théhillac - prix des bords de vilaine
DESCRIPTION:épreuve pass cyclisme : \n1 seul départ \ndépart : 14h30 – longueur circuit : 4.2 kms – 18 t \nPDJ : non communiqué
URL:https://www.cyclisme.bzh/epreuve-calendrier/thehillac-prix-des-bords-de-vilaine/
LOCATION:Théhillac\, France
END:VEVENT
BEGIN:VEVENT
DTSTART;VALUE=DATE:20220605
DTEND;VALUE=DATE:20220606
DTSTAMP:20260422T111234
CREATED:20220429T085409Z
LAST-MODIFIED:20220429T091040Z
UID:10001264-1654387200-1654473599@www.cyclisme.bzh
SUMMARY:Plouagat - Challenge 22 des Ecoles de cyclisme
DESCRIPTION:Challenge 22 des Écoles de cyclisme \nPré licenciés à Minimes 1 du 22 \nDépart 11h00 \nRenseignements : Jean-Claude Roux – 06 79 67 28 07 \n 
URL:https://www.cyclisme.bzh/epreuve-calendrier/plouagat-challenge-22-des-ecoles-de-cyclisme/
LOCATION:Plouagat
CATEGORIES:Ecole de cyclisme
ORGANIZER;CN="VC PAYS DE GUINGAMP 22 (4322188)":MAILTO:President@vcpg22.fr
END:VEVENT
BEGIN:VEVENT
DTSTART;VALUE=DATE:20220605
DTEND;VALUE=DATE:20220606
DTSTAMP:20260422T111234
CREATED:20220505T100638Z
LAST-MODIFIED:20220524T121421Z
UID:10001281-1654387200-1654473599@www.cyclisme.bzh
SUMMARY:Calorguen - En attente du Tour de Rance Vintage
DESCRIPTION:Régularité route : \nDépart 14h – Distance selon l’âge – Longueur circuit 1 km \nOuverture engagements : 06/05/2022 à 18 h \nFermeture engagements : 02/06/2022 à 19 h
URL:https://www.cyclisme.bzh/epreuve-calendrier/calorguen-en-attente-du-tour-de-rance-vintage/
LOCATION:CALORGUEN\, CALORGUEN\, Bretagne\, France
CATEGORIES:Ecole de cyclisme
END:VEVENT
BEGIN:VEVENT
DTSTART;VALUE=DATE:20220605
DTEND;VALUE=DATE:20220606
DTSTAMP:20260422T111234
CREATED:20220505T103301Z
LAST-MODIFIED:20220524T120852Z
UID:10001282-1654387200-1654473599@www.cyclisme.bzh
SUMMARY:Guitte
DESCRIPTION:Minimes : \nDépart 12h30 – 6 tours x 4.7 km \nEngagement 6.50€ \nCadets : \nDépart 13h45 – 12 tours x 4.7 km \nEngagement 6.50€ \nJuniors / 3ème catégorie / PC Open : \nDépart 15h30 – 19 tours x 4.7 km \nEngagement 8.50€ \nEngagements : \nOuverture le 06/05/2022 à 18 h \nFermeture le 02/06/2022 à 19 h
URL:https://www.cyclisme.bzh/epreuve-calendrier/guitte/
LOCATION:GUITTE
END:VEVENT
BEGIN:VEVENT
DTSTART;VALUE=DATE:20220605
DTEND;VALUE=DATE:20220606
DTSTAMP:20260422T111234
CREATED:20220506T154324Z
LAST-MODIFIED:20220602T072600Z
UID:10001289-1654387200-1654473599@www.cyclisme.bzh
SUMMARY:Pencran - Championnat de Bretagne Féminin
DESCRIPTION:Minimes F : Dép 13h05 – 8\,95 km x 5 t – Prix coureurs 107/10 1ère 20€ – Engagements 6.50 € – \nCadettes : Dép  13h – 8\,95 km x 6 t – Prix coureurs 138/10 1ère 28€ – Engagements 6.50 € \nJuniors/seniors : Dép 15h – 8\,95 km x 11 t – Prix coureurs 320/15 1er 62 € \n  \nRenseignements : Jérôme LE GALL  legalljerome.ecl@orange.fr 06 88 75 52 72 \nDéveloppement libre pour toutes les catégories  \nLire en plein écranAller au contenu PDF
URL:https://www.cyclisme.bzh/epreuve-calendrier/pencran-championnat-de-bretagne-feminin/
LOCATION:Pencran\, France
ATTACH;FMTTYPE=image/jpeg:https://www.cyclisme.bzh/wp-content/uploads/2022/05/Affiche-A3_page-0001-e1653381763258.jpg
ORGANIZER;CN="EC Landerneau":MAILTO:legalljerome.ecl@orange.fr
END:VEVENT
BEGIN:VEVENT
DTSTART;VALUE=DATE:20220605
DTEND;VALUE=DATE:20220606
DTSTAMP:20260422T111234
CREATED:20220506T160206Z
LAST-MODIFIED:20220601T091520Z
UID:10001290-1654387200-1654473599@www.cyclisme.bzh
SUMMARY:Scaër  - La Route des Lutteurs
DESCRIPTION:Juniors H : Dép 10h – 4.6 km x 19 t – Prix coureurs : 305/15 1er 61 € – Engagements 8.5 € Epreuve Juniors annulé le 01/06 \nRégularité : Dép 13h30 – Distance selon l’âge – Engagements 2€ \nMinimes G : Dép 15h – 4.6 km x 6 t – Prix coureurs : 107/10 1er 20€ – Engagements 6.5 € \nCadets G : Dép 16h15 – 4.6 km x 12 t – Prix coureurs : 138/10 1er 28€ – Engagements 6.5 € \nRenseignements : Conan Herman : 07 86 68 46 15 ou Le Bourhis 06 80 44 06 36 \n  \nAttention: les féminines ont l’obligation de participer au championnat d e Bretagne Féminin le même jour à Pencran.
URL:https://www.cyclisme.bzh/epreuve-calendrier/scaer-la-route-des-lutteurs/
LOCATION:SCAER\, SCAER\, Bretagne\, France
CATEGORIES:Ecole de cyclisme
ORGANIZER;CN="VS SCAEROIS (4329055)":MAILTO:velosportscaerois@gmail.com
END:VEVENT
BEGIN:VEVENT
DTSTART;VALUE=DATE:20220605
DTEND;VALUE=DATE:20220606
DTSTAMP:20260422T111234
CREATED:20220509T075210Z
LAST-MODIFIED:20220509T075210Z
UID:10001291-1654387200-1654473599@www.cyclisme.bzh
SUMMARY:St Jean De Villenard
DESCRIPTION:PASS D1/D2 – D3/D4 : \nDépart 13h15 \nD1/D2 : 14 tours x 5 km \nD3/D4 : 13 tours x 5 km \nEngagement 8.50€ \nJuniors / 3ème catégorie / PC Open : \nDépart 15h30 \n19 tours x 5 km \nEngagement 8.50€ \nPrix coureurs 3ème cat / juniors : 259 / 15 \nPrix juniors : 122 / 10 \nEngagements : \nOuverture le 10/05/2022 à 18h \nFermeture le 02/06/2022 à 20h
URL:https://www.cyclisme.bzh/epreuve-calendrier/st-jean-de-villenard/
LOCATION:ST JEAN DE VILLENARD
ORGANIZER;CN="SC MALESTROIT (4356006)":MAILTO:contact@sc-malestroit.com
END:VEVENT
BEGIN:VEVENT
DTSTART;VALUE=DATE:20220605
DTEND;VALUE=DATE:20220606
DTSTAMP:20260422T111234
CREATED:20220509T131509Z
LAST-MODIFIED:20220509T141634Z
UID:10001293-1654387200-1654473599@www.cyclisme.bzh
SUMMARY:Poullan sur Mer - Trophée Jo Velly
DESCRIPTION:3ème catégorie+Juniors+Pass Open : Dép 14h30 – 4.6 km x 20 t – Prix coureurs : 305/15 1er 61 € – Juniors : 91/5 1er 29€ – Engagements 8.50 e \nOuverture le 10/05 à 18 h
URL:https://www.cyclisme.bzh/epreuve-calendrier/poullan-sur-mer-trophee-jo-velly/
LOCATION:POULLAN SUR MER
ORGANIZER;CN="CC BIGOUDEN (4329088)":MAILTO:ccbigouden@gmail.com
END:VEVENT
BEGIN:VEVENT
DTSTART;VALUE=DATE:20220605
DTEND;VALUE=DATE:20220606
DTSTAMP:20260422T111234
CREATED:20220511T081508Z
LAST-MODIFIED:20220525T092351Z
UID:10001305-1654387200-1654473599@www.cyclisme.bzh
SUMMARY:Le Sourn - Championnat de Bretagne Élites et Espoirs - 1ère et 2ème catégories
DESCRIPTION:1\,2ème catégories : \nDépart 13h30 – 16 tours x 9.25 km \nEngagement 8.50€ \nPrix coureurs : 915 / 25 – 1er prix : 146€ \nPrix espoirs : 122 / 10 – 1er prix 24€ \nEngagements : \nOuverture le 12/05/2022 à 18h \nFermeture le 01/06/2022 à 20h \nPrésident de jury : \nChristophe LE DASTUMER
URL:https://www.cyclisme.bzh/epreuve-calendrier/le-sourn-championnat-de-bretagne-elites-et-espoirs-1ere-et-2eme-categories/
LOCATION:LE SOURN\, France
ATTACH;FMTTYPE=image/png:https://www.cyclisme.bzh/wp-content/uploads/2022/05/2022-06-05-Championnat-de-Bretagne-EE.png
ORGANIZER;CN="VC PONTIVYEN (4356017)":MAILTO:vcpontivyen2017@gmail.com
END:VEVENT
BEGIN:VEVENT
DTSTART;VALUE=DATE:20220605
DTEND;VALUE=DATE:20220606
DTSTAMP:20260422T111234
CREATED:20220520T134025Z
LAST-MODIFIED:20220520T134025Z
UID:10001337-1654387200-1654473599@www.cyclisme.bzh
SUMMARY:La Chapelle Thouarault - Finale Challenge de la Flume et du Meu - Trophée Marcel Blot
DESCRIPTION:Régularité route (sauf pré licenciés) : \nDépart 11h15 – Distance selon l’âge \nEngagement 2€ \nMinimes – Limité à 80 coureurs : \nDépart 12h30 – 5 tours x 6.6 km \nEngagement 6.50€ \nCadets – Limité à 80 coureurs : \nDépart 13h45 – 8 tours x 6.6 km \nEngagement 6.50€ \n3ème catégorie / Juniors / PC Open : \nDépart 15h30 – 15 tours x 6.6 km \nEngagement 8.50€ \nPrix coureurs : 259 / 15 – 1er prix : 50€ \nPrix juniors : 91 / 10 – 1er prix : 17€ \nEngagements : \nOuverture le 17/05/2022 à 18h \nFermeture le 02/06/2022 à 20h \nPrésident de jury :  \nPEDRON Loïc
URL:https://www.cyclisme.bzh/epreuve-calendrier/la-chapelle-thouarault-finale-challenge-de-la-flume-et-du-meu-trophee-marcel-blot/
LOCATION:LA CHAPELLE THOUARAULT\, LA CHAPELLE THOUARAULT\, Bretagne\, France
CATEGORIES:Régularité route
ORGANIZER;CN="VC CHAVAGNAIS (4335248)":MAILTO:mtcleroux@hotmail.fr
END:VEVENT
BEGIN:VEVENT
DTSTART;VALUE=DATE:20220606
DTEND;VALUE=DATE:20220607
DTSTAMP:20260422T111234
CREATED:20220324T112937Z
LAST-MODIFIED:20220530T153922Z
UID:10001164-1654473600-1654559999@www.cyclisme.bzh
SUMMARY:La Trinité Langonnet
DESCRIPTION:PC / PC Open : \nDépart D1/D2 : 14h30 – 17 tours x 4.3 km \nDépart D3/D4 : 14h31 – 15 tours x 4.3 km \nEngagement 8.50€ \nEngagements : \nOuverture le 25/03/2022 à 18h \nFermeture le 02/06/2022 à 20h \nPrésident de jury : \nNon communiqué
URL:https://www.cyclisme.bzh/epreuve-calendrier/la-trinite-langonnet/
LOCATION:La Trinté Langonnet\, France
ATTACH;FMTTYPE=image/png:https://www.cyclisme.bzh/wp-content/uploads/2022/03/Ajouter-un-titre-1.png
END:VEVENT
BEGIN:VEVENT
DTSTART;VALUE=DATE:20220606
DTEND;VALUE=DATE:20220607
DTSTAMP:20260422T111234
CREATED:20220429T094608Z
LAST-MODIFIED:20220429T113103Z
UID:10001267-1654473600-1654559999@www.cyclisme.bzh
SUMMARY:Moëlan sur Mer - Ronde des Moulins
DESCRIPTION:Cadets\, Challenge de Cornouaille Sud : Dép 10h00 – 3.5 km x 18 t – Engagements 6.50 € \nRégularité\, Challenge de Cornouaille Sud : Dép 13h15 – Distance selon l’âge – Engagements 2 € \nMinimes H/F + cadettes\, Challenge de Cornouaille Sud : Dép 14h30 – 3.5 km x 9 t – Engagements 6.50 € \nPass et Pass Open : D1/d2 : Dép 16h00 – 3.5 km x 19 t – D3/D4 :Dép 16h01 – 3.5 km x 16 t- Engagements 8.50 € \nOuverture des engagements le 30/04 à 18h00\, Clôture le 02/06 à 20h00 \nRenseignements : Vanessa RESET – vanessa.reset@orange.fr – 06 76 22 97 31 \n  \n 
URL:https://www.cyclisme.bzh/epreuve-calendrier/moelan-sur-mer-ronde-des-moulins/
LOCATION:MOËLAN SUR MER\, MOËLAN SUR MER\, Bretagne\, France
CATEGORIES:Ecole de cyclisme
ORGANIZER;CN="MOELAN CYCLO CLUB (4329162)":MAILTO:serge.piriou@wanadoo.fr
END:VEVENT
BEGIN:VEVENT
DTSTART;VALUE=DATE:20220606
DTEND;VALUE=DATE:20220607
DTSTAMP:20260422T111234
CREATED:20220505T093855Z
LAST-MODIFIED:20220527T070021Z
UID:10001280-1654473600-1654559999@www.cyclisme.bzh
SUMMARY:Vitré - Prix Vélo Naturel
DESCRIPTION:Cadets :  \nDépart 10h – 11 tours x 4.5 km \nPrix coureurs : 168/ 10 – 1er 34€ \nRégularité route : \nDépart 13h \n*Poussins 1/2 tour x 4.5 km \n*Pupilles 1 tour x 4.5 km \n*Benjamins 2 tours x 4.5 km \nMinimes / Cadettes : \nDépart 14h – 6 tours x 4.5 km \nPrix coureurs : 107 / 10 – 1er 20€ \nPC Open / Juniors / 3ème catégorie : \nDépart 15h30 – 20 tours x 4.5 km \nPrix coureurs : 259 / 15 – 1er 50€ \nPrix juniors : 47 / 5 – 1er 18€ \nEngagements : \nOuverture le 06/05/2022 à 18h \nFermeture le 03/06/2022 à 20h
URL:https://www.cyclisme.bzh/epreuve-calendrier/vitre-prix-velo-naturel/
LOCATION:VITRÉ\, VITRÉ\, Bretagne\, France
CATEGORIES:Ecole de cyclisme
ATTACH;FMTTYPE=application/pdf:https://www.cyclisme.bzh/wp-content/uploads/2022/05/Affiche-Velo-Nat-2022-V4.pdf
END:VEVENT
BEGIN:VEVENT
DTSTART;VALUE=DATE:20220606
DTEND;VALUE=DATE:20220607
DTSTAMP:20260422T111234
CREATED:20220505T150002Z
LAST-MODIFIED:20220602T143734Z
UID:10001283-1654473600-1654559999@www.cyclisme.bzh
SUMMARY:Lopérec Le Nivot - Coupe de Bretagne DH #6
DESCRIPTION:Minimes/Cadets H/F : Dép 10h30 – Engagements 13€ \nJuniors/Seniors H/F : Dép 10h30 – Engagements 14.50€ \nClôture j-4 20h00 soit le jeudi 2 juin \nRenseignements : Gurvan MUSSET – 06 73 66 18 67 – gurvan.musset@orange.fr
URL:https://www.cyclisme.bzh/epreuve-calendrier/loperec-le-nivot-coupe-de-bretagne-dh-6/
LOCATION:LOPÉREC – LE NIVOT\, LOPÉREC - LE NIVOT\, Bretagne\, France
ATTACH;FMTTYPE=image/jpeg:https://www.cyclisme.bzh/wp-content/uploads/2022/05/Affiche.jpeg
ORGANIZER;CN="TEAM SPORTBREIZH (4329476)":MAILTO:gurvan.musset@sportbreizh.com
END:VEVENT
BEGIN:VEVENT
DTSTART;VALUE=DATE:20220606
DTEND;VALUE=DATE:20220607
DTSTAMP:20260422T111234
CREATED:20220505T150637Z
LAST-MODIFIED:20220602T143650Z
UID:10001284-1654473600-1654559999@www.cyclisme.bzh
SUMMARY:Lopérec Le Nivot - Coupe de Bretagne XC #6
DESCRIPTION:Poussins H/F : Dép 9h15 – Engagements 6 € \nPupilles H/F : Dép 9h35 – Engagements 6 € \nBenjamins H/F : Dép 10h10 – Engagements 6 € \nMinimes H/F : Dép 11h – Engagements 10 € \nMasters 40\, 50 H : Dép 12h – Engagements 11.50 € \nDépartementaux H : Dép 12h02 – Engagements 11.50 € \nCadets H/F : Dép 14h – Engagements 10 € \n19 ans et + : Dép 15h30 – Engagements 11.50 € \nJuniors H/F : Dép 15h30 – Engagements 11.50 € \nClôture j-4 20h00 soit le jeudi 2 juin \nRenseignements : Gurvan MUSSET – 06 73 66 18 67 – gurvan.musset@orange.fr
URL:https://www.cyclisme.bzh/epreuve-calendrier/loperec-le-nivot-coupe-de-bretagne-xc-6/
LOCATION:LOPÉREC – LE NIVOT\, LOPÉREC - LE NIVOT\, Bretagne\, France
CATEGORIES:Ecole de cyclisme
ATTACH;FMTTYPE=image/jpeg:https://www.cyclisme.bzh/wp-content/uploads/2022/05/Affiche.jpeg
ORGANIZER;CN="TEAM SPORTBREIZH (4329476)":MAILTO:gurvan.musset@sportbreizh.com
END:VEVENT
BEGIN:VEVENT
DTSTART;VALUE=DATE:20220606
DTEND;VALUE=DATE:20220607
DTSTAMP:20260422T111234
CREATED:20220510T080543Z
LAST-MODIFIED:20220530T084653Z
UID:10001299-1654473600-1654559999@www.cyclisme.bzh
SUMMARY:Moncontour - Grand Prix de la Pentecôte
DESCRIPTION:1.2.3.JUNIORS : Dép 14h30 – 8 km x 15 t – Prix coureurs : 915/25 1er 146 € – 122/10 1er 24 € ps 2ème cat – 91/5 1er 29 € ps juniors – Engagements 8.50 € \nOuverture le 11/05 à 18h00 Clôture le 02/06 à 20h \nRenseignements : Jérôme LE GAL – jerome_legal@hotmail.com – 06 78 83 57 21
URL:https://www.cyclisme.bzh/epreuve-calendrier/moncontour-grand-prix-de-la-pentecote/
LOCATION:MONCONTOUR
ATTACH;FMTTYPE=image/jpeg:https://www.cyclisme.bzh/wp-content/uploads/2022/05/Circuit-de-la-Pentecote-Moncontour_Affiche.jpg
END:VEVENT
BEGIN:VEVENT
DTSTART;VALUE=DATE:20220606
DTEND;VALUE=DATE:20220607
DTSTAMP:20260422T111234
CREATED:20220516T081823Z
LAST-MODIFIED:20220516T083649Z
UID:10001322-1654473600-1654559999@www.cyclisme.bzh
SUMMARY:Plougras - Prix du Comité des fêtes - Circuit du Guic
DESCRIPTION:3ème cat+Juniors+Pass Open : Dép 15h – 2.1 km x 40 t – Prix coureurs :  396/20 1er 78 € – Engagements 8.50 € \nRenseignements :Emile PRIGENT – emileprigent@orange.fr – 06 82 44 08 25
URL:https://www.cyclisme.bzh/epreuve-calendrier/plougras-prix-du-comite-des-fetes-circuit-du-guic/
LOCATION:PLOUGRAS
ORGANIZER;CN="EC PLESTIN PAYS TREGOR (4322163)":MAILTO:gilbert.lacelle@orange.fr
END:VEVENT
BEGIN:VEVENT
DTSTART;VALUE=DATE:20220606
DTEND;VALUE=DATE:20220607
DTSTAMP:20260422T111234
CREATED:20220524T074519Z
LAST-MODIFIED:20220524T074519Z
UID:10001342-1654473600-1654559999@www.cyclisme.bzh
SUMMARY:Boisgervilly - Trophée de Brocéliande #3
DESCRIPTION:3ème catégorie / Juniors / PC Open : \nDépart 15h – 14 tours x 6.9 km \nEngagement 8.50€ \nPrix coureurs : 259 / 15 – 1er prix : 50€ \nPrix juniors : 47 / 5 – 1er prix : 18€ \nEngagements : \nOuverture le 05/05/2022 à 18h \nFermeture le 02/06/2022 à 22h \nPrésident de jury : \nPEDRON Loïc
URL:https://www.cyclisme.bzh/epreuve-calendrier/boisgervilly-trophee-de-broceliande-3/
LOCATION:BOISGERVILLY
ORGANIZER;CN="VC MEVENNAIS (4335001)":MAILTO:simonlaur@wanadoo.fr
END:VEVENT
BEGIN:VEVENT
DTSTART;VALUE=DATE:20220608
DTEND;VALUE=DATE:20220609
DTSTAMP:20260422T111234
CREATED:20220509T142204Z
LAST-MODIFIED:20220509T142449Z
UID:10001294-1654646400-1654732799@www.cyclisme.bzh
SUMMARY:Vildé-Guingalan - Zone Vaucouleur - Trophée Dinan Agglo
DESCRIPTION:Pass\, Pass Open\, Féminines 17ans et + : Dép 19h00 – 2.9 km x 14 t – Engagements 8.50 € – Limitée à 120 coureurs. \n2ème cat\,3ème cat\, Juniors : Dép 20H15 – 2.9 KM X 21 T – Prix coureurs : 366/15 1er 78 € – Engagements 8.50 € – Limitée à 120 coureurs. \nOuverture des engagements le 10/05 à 18h00 \nRenseignements : Yves COLIN
URL:https://www.cyclisme.bzh/epreuve-calendrier/vilde-guingalan-zone-vaucouleur-trophee-dinan-agglo/
LOCATION:VILDE GUINGALAN
ORGANIZER;CN="CC PLANCOETIN (4322069)":MAILTO:ccycloclubplancoetin@sfr.fr
END:VEVENT
BEGIN:VEVENT
DTSTART;VALUE=DATE:20220609
DTEND;VALUE=DATE:20220610
DTSTAMP:20260422T111234
CREATED:20220427T143922Z
LAST-MODIFIED:20220427T144244Z
UID:10001257-1654732800-1654819199@www.cyclisme.bzh
SUMMARY:Auray - grand prix de la ville d'Auray - souvenir Daniel Le Breton
DESCRIPTION:épreuve dames juniors – seniors : \ndépart : 18h15 – longueur circuit : 2.5 kms – 20 t – prix coureurs : 381/15 \népreuve 1-2-3 cat – juniors – pc open : \ndépart : 20h – longueur circuit : 2.6 kms – 35 t – prix coureurs : 610/20 \nPDJ : non communiqué
URL:https://www.cyclisme.bzh/epreuve-calendrier/auray-grand-prix-de-la-ville-dauray-souvenir-daniel-le-breton/
LOCATION:AURAY
END:VEVENT
BEGIN:VEVENT
DTSTART;VALUE=DATE:20220610
DTEND;VALUE=DATE:20220611
DTSTAMP:20260422T111234
CREATED:20220509T144254Z
LAST-MODIFIED:20220509T144410Z
UID:10001296-1654819200-1654905599@www.cyclisme.bzh
SUMMARY:Trégueux
DESCRIPTION:3ème catégorie+Juniors+Pass Open : Dép 20h – 2.9 km x 25 t – Prix coureurs : 259/15 1er 50 € \nOuverture des engagements le 10/05 à 18h \n  \n 
URL:https://www.cyclisme.bzh/epreuve-calendrier/tregueux/
LOCATION:TRÉGUEUX\, France
END:VEVENT
BEGIN:VEVENT
DTSTART;VALUE=DATE:20220611
DTEND;VALUE=DATE:20220612
DTSTAMP:20260422T111234
CREATED:20220505T073225Z
LAST-MODIFIED:20220505T075655Z
UID:10001278-1654905600-1654991999@www.cyclisme.bzh
SUMMARY:Montfort Sur Meu - Site de l'Abbaye - 4ème Manche Critos Tour
DESCRIPTION:4ème Manche Critos Tour : \n2ème & 3ème catégorie\, Juniors\, PC Open – 33 tours x 2.7 km – Départ 19h \nPrix coureurs 396€ \nOuverture engagements le 06/05/2022 à 8h. \nEngagement 8.50€ \n80 engagés maximum. \nÉpreuve Pass : \n22 tours x 2.7 km – Départ 17h – 1 seul départ \nOuverture engagements le 06/05/2022 à 8h. \nEngagement 8.50€ \n80 engagés maximum.
URL:https://www.cyclisme.bzh/epreuve-calendrier/montfort-sur-meu-site-de-labbaye-4eme-manche-critos-tour/
LOCATION:MONTFORT SUR MEU\, MONTFORT SUR MEU\, Bretagne\, France
ORGANIZER;CN="VC PLELANAIS (4335037)":MAILTO:gmenage@laposte.net vcplelan@outlook.fr
END:VEVENT
END:VCALENDAR