BEGIN:VCALENDAR
VERSION:2.0
PRODID:-//Comité de Bretagne de Cyclisme - ECPv6.15.20//NONSGML v1.0//EN
CALSCALE:GREGORIAN
METHOD:PUBLISH
X-ORIGINAL-URL:https://www.cyclisme.bzh
X-WR-CALDESC:Évènements pour Comité de Bretagne de Cyclisme
REFRESH-INTERVAL;VALUE=DURATION:PT1H
X-Robots-Tag:noindex
X-PUBLISHED-TTL:PT1H
BEGIN:VTIMEZONE
TZID:Europe/Paris
BEGIN:DAYLIGHT
TZOFFSETFROM:+0100
TZOFFSETTO:+0200
TZNAME:CEST
DTSTART:20210328T010000
END:DAYLIGHT
BEGIN:STANDARD
TZOFFSETFROM:+0200
TZOFFSETTO:+0100
TZNAME:CET
DTSTART:20211031T010000
END:STANDARD
BEGIN:DAYLIGHT
TZOFFSETFROM:+0100
TZOFFSETTO:+0200
TZNAME:CEST
DTSTART:20220327T010000
END:DAYLIGHT
BEGIN:STANDARD
TZOFFSETFROM:+0200
TZOFFSETTO:+0100
TZNAME:CET
DTSTART:20221030T010000
END:STANDARD
BEGIN:DAYLIGHT
TZOFFSETFROM:+0100
TZOFFSETTO:+0200
TZNAME:CEST
DTSTART:20230326T010000
END:DAYLIGHT
BEGIN:STANDARD
TZOFFSETFROM:+0200
TZOFFSETTO:+0100
TZNAME:CET
DTSTART:20231029T010000
END:STANDARD
END:VTIMEZONE
BEGIN:VEVENT
DTSTART;VALUE=DATE:20220521
DTEND;VALUE=DATE:20220523
DTSTAMP:20260425T021447
CREATED:20220429T135712Z
LAST-MODIFIED:20220518T121830Z
UID:10001268-1653091200-1653263999@www.cyclisme.bzh
SUMMARY:La Chapelle Janson - Coupe de France des départements
DESCRIPTION: 21 mai 2022 : contre la montre \népreuve cadets – épreuve dames minimes -cadettes \ndépart : 15h30 – longueur circuit : 14.500 kms – 1 t \n22 mai 2022 : épreuve en circuit \népreuve cadets : \ndépart : 13h – longueur circuit : 10.500 kms – 7 t \népreuve minimes – cadettes : \ndépart : 10h – longueur circuit : 10.500 kms – 4 t \nclôture des épreuves du 21 et 22 mai 2022 le 16/05/22 à 20 h \nPDJ : Guillaume Verger \nLire en plein écranAller au contenu PDF
URL:https://www.cyclisme.bzh/epreuve-calendrier/la-chapelle-janson-coupe-de-france-des-departements/
LOCATION:LA CHAPELLE JANSON\, France
ATTACH;FMTTYPE=image/jpeg:https://www.cyclisme.bzh/wp-content/uploads/2022/04/AFFICHE-LA-CHAPELLE-JANSON.jpg
END:VEVENT
BEGIN:VEVENT
DTSTART;VALUE=DATE:20220522
DTEND;VALUE=DATE:20220523
DTSTAMP:20260425T021447
CREATED:20220324T130729Z
LAST-MODIFIED:20220518T074747Z
UID:10001166-1653177600-1653263999@www.cyclisme.bzh
SUMMARY:Tréal
DESCRIPTION:épreuve 3 cat – juniors – pc open : \ndépart : 15h15 – longueur circuit : 4.150 kms – 22 t – prix coureurs : 335/15 \népreuve cadets-cadettes  : \ndépart : 13h15 – longueur circuit : 4.150 kms – 13 t – prix coureurs : 138/10 \nPDJ : non communiqué à ce jour.
URL:https://www.cyclisme.bzh/epreuve-calendrier/treal/
LOCATION:TREAL\, France
END:VEVENT
BEGIN:VEVENT
DTSTART;VALUE=DATE:20220522
DTEND;VALUE=DATE:20220523
DTSTAMP:20260425T021447
CREATED:20220330T094628Z
LAST-MODIFIED:20220330T095605Z
UID:10001183-1653177600-1653263999@www.cyclisme.bzh
SUMMARY:Quemperven - Championnat 22 2ème\,3ème et Espoirs
DESCRIPTION:Quemperven – Championnat 22 2ème\,3ème et Espoirs \n2.3.Espoirs du 22 : Dép 14h30 – 8.6 km 13 t – Prix coureurs : 459/20 1er 91 € \nOuverture des engagements le 31/03 à 18h00 \nCourse d’attente Minimes :https://www.cyclisme.bzh/epreuve-calendrier/quermperven/ \nRenseignements : Xavier ROPARTZ  ropartzx@yahho.fr – 06 25 21 60 11
URL:https://www.cyclisme.bzh/epreuve-calendrier/quemperven-championnat-22-2eme3eme-et-espoirs/
LOCATION:QUEMPERVEN\, QUEMPERVEN\, Bretagne\, France
ATTACH;FMTTYPE=image/jpeg:https://www.cyclisme.bzh/wp-content/uploads/2022/03/2022-Quemperven-affiche.jpg
ORGANIZER;CN="TEAM COTE DE GRANIT ROSE (4322336)":MAILTO:ropartzx@yahoo.fr
END:VEVENT
BEGIN:VEVENT
DTSTART;VALUE=DATE:20220522
DTEND;VALUE=DATE:20220523
DTSTAMP:20260425T021447
CREATED:20220330T095014Z
LAST-MODIFIED:20220330T095535Z
UID:10001184-1653177600-1653263999@www.cyclisme.bzh
SUMMARY:Quemperven - Grand Prix Cycliste du Comité des Fêtes
DESCRIPTION:Minimes : Dép 12h30  – 8.6 km x 4 t – Prix coureurs : 107/10 1er 20 € – Engagements 6.50 € \nOuverture des engagements le 31/03 à 18h00 \nRenseignements : Xavier ROPARTZ  ropartzx@yahho.fr – 06 25 21 60 11 \n 
URL:https://www.cyclisme.bzh/epreuve-calendrier/quermperven/
LOCATION:QUEMPERVEN\, QUEMPERVEN\, Bretagne\, France
ATTACH;FMTTYPE=image/jpeg:https://www.cyclisme.bzh/wp-content/uploads/2022/03/2022-Quemperven-affiche.jpg
ORGANIZER;CN="TEAM COTE DE GRANIT ROSE (4322336)":MAILTO:ropartzx@yahoo.fr
END:VEVENT
BEGIN:VEVENT
DTSTART;VALUE=DATE:20220522
DTEND;VALUE=DATE:20220523
DTSTAMP:20260425T021447
CREATED:20220408T135800Z
LAST-MODIFIED:20220408T140043Z
UID:10001208-1653177600-1653263999@www.cyclisme.bzh
SUMMARY:Quédillac  trophée de Brocéliande
DESCRIPTION:épreuve cadets : \ndépart : 13h30 – longueur circuit : 5 kms -11 t – prix coureurs : 138/10 \népreuve 3 cat – juniors – pc open : \ndépart : 15h30 – longueur circuit : 5 kms – 20 t – prix coureurs 259/15 \nprix coureurs juniors : 47/5 \nPDJ : Joelle Brindejonc \n 
URL:https://www.cyclisme.bzh/epreuve-calendrier/quedillac-trophee-de-broceliande/
LOCATION:QUÉDILLAC\, France
END:VEVENT
BEGIN:VEVENT
DTSTART;VALUE=DATE:20220522
DTEND;VALUE=DATE:20220523
DTSTAMP:20260425T021447
CREATED:20220413T075549Z
LAST-MODIFIED:20220523T072717Z
UID:10001210-1653177600-1653263999@www.cyclisme.bzh
SUMMARY:Sérent - Boucles Sérentaises
DESCRIPTION:Épreuve 1-2-3 cat – juniors – pc open : \ndépart : 14h30 – longueur circuit : 5.6 kms – 20 t – prix coureurs : 793/20 \nPDJ: Pauline Bléher
URL:https://www.cyclisme.bzh/epreuve-calendrier/serent-boucles-serentaises/
LOCATION:SÉRENT\, France
END:VEVENT
BEGIN:VEVENT
DTSTART;VALUE=DATE:20220522
DTEND;VALUE=DATE:20220523
DTSTAMP:20260425T021447
CREATED:20220413T153200Z
LAST-MODIFIED:20220413T153519Z
UID:10001211-1653177600-1653263999@www.cyclisme.bzh
SUMMARY:Locminé
DESCRIPTION:épreuve minimes : \ndépart : 14h – longueur circuit : 2.5 kms –  12 t – prix coureurs : 107/10 \nPDJ : non communiqué
URL:https://www.cyclisme.bzh/epreuve-calendrier/locmine-2/
LOCATION:Locminé
END:VEVENT
BEGIN:VEVENT
DTSTART;VALUE=DATE:20220522
DTEND;VALUE=DATE:20220523
DTSTAMP:20260425T021447
CREATED:20220413T154805Z
LAST-MODIFIED:20220413T155059Z
UID:10001213-1653177600-1653263999@www.cyclisme.bzh
SUMMARY:Malachappe Pluvigner - championnat 56 des pass cyclistes
DESCRIPTION:épreuve D1/D2 : \ndépart : 15 h – longueur circuit : 8.7 kms – 9 t \népreuve D3/D4 : \ndépart : 13h – longueur circuit : 8.7 kms – 8 t \nPDJ : Stéphane Le Clainche
URL:https://www.cyclisme.bzh/epreuve-calendrier/malachappe-pluvigner-championnat-56-des-pass-cyclistes/
LOCATION:MALACHAPPE PLUVIGNER\, France
END:VEVENT
BEGIN:VEVENT
DTSTART;VALUE=DATE:20220522
DTEND;VALUE=DATE:20220523
DTSTAMP:20260425T021447
CREATED:20220414T103417Z
LAST-MODIFIED:20220414T103815Z
UID:10001216-1653177600-1653263999@www.cyclisme.bzh
SUMMARY:Calan
DESCRIPTION:épreuve dames juniors – seniors  challenge Harmonie Mutuelle : \ndépart : 13h30 – longueur circuit : 6.2 kms – 11 t – prix coureurs : 274/15 \népreuve 3 cat – juniors – pc open : \ndépart : 15h30 – longueur circuit : 6.2 kms -15 t – prix coureurs : 259/15 \nprix coureurs juniors : 168/10 \nPDJ : non communiqué \n 
URL:https://www.cyclisme.bzh/epreuve-calendrier/calan/
LOCATION:CALAN\, France
END:VEVENT
BEGIN:VEVENT
DTSTART;VALUE=DATE:20220522
DTEND;VALUE=DATE:20220523
DTSTAMP:20260425T021447
CREATED:20220414T104243Z
LAST-MODIFIED:20220414T104520Z
UID:10001217-1653177600-1653263999@www.cyclisme.bzh
SUMMARY:St Ouen la Rouerie
DESCRIPTION:épreuve cadets : \ndépart : 13h30 – longueur circuit : 5.7 kms – 11 t – prix coureurs : 107/10 \népreuve 2-3 cat-juniors-pc open : \ndépart : 15h30 – longueur circuit : 5.7 kms – 18 t – prix coureurs : 518/20 \nPDJ : Bernard Denoual
URL:https://www.cyclisme.bzh/epreuve-calendrier/st-ouen-la-rouerie/
LOCATION:St Onen la Rouerie\, France
END:VEVENT
BEGIN:VEVENT
DTSTART;VALUE=DATE:20220522
DTEND;VALUE=DATE:20220523
DTSTAMP:20260425T021447
CREATED:20220421T084548Z
LAST-MODIFIED:20220511T085243Z
UID:10001232-1653177600-1653263999@www.cyclisme.bzh
SUMMARY:Liffré - TRJV #5
DESCRIPTION:départ 9h30 pour toutes les catégories. \népreuve du matin : trial et xc \népreuve de l’après midi : xc et trial \nprix de d’engagement : \n\npoussins pupilles et benjamins : 5 €\nminimes et cadets : 7 €\n\nrendez vous sur le site à partir de 9 h \nla remise des récompenses est prévue à partir de 17h \nPDJ : Karine Corre
URL:https://www.cyclisme.bzh/epreuve-calendrier/liffre-trjv/
LOCATION:LIFFRE\, France
ATTACH;FMTTYPE=image/jpeg:https://www.cyclisme.bzh/wp-content/uploads/2021/06/vtt.jpg
END:VEVENT
BEGIN:VEVENT
DTSTART;VALUE=DATE:20220522
DTEND;VALUE=DATE:20220523
DTSTAMP:20260425T021447
CREATED:20220421T141324Z
LAST-MODIFIED:20220520T123257Z
UID:10001237-1653177600-1653263999@www.cyclisme.bzh
SUMMARY:Dol De Bretagne - Championnat 35 des pass cyclistes
DESCRIPTION:AUCUN ENGAGEMENT NE SERA PRIS SUR LA LIGNE. \népreuve régularité : \ndépart : 12h30 – longueur circuit : 3 kms – nombre de tours selon l’âge \népreuve D1/D2 : \ndépart : 16h – longueur circuit : 4.200 kms – 17 t \népreuve D3/D4 : \ndépart : 13h30 – longueur circuit : 4.200 kms – 14 t \nPDJ : Sandrine Guérin
URL:https://www.cyclisme.bzh/epreuve-calendrier/dol-de-bretagne/
LOCATION:DOL DE BRETAGNE\, France
CATEGORIES:Ecole de cyclisme
ATTACH;FMTTYPE=image/jpeg:https://www.cyclisme.bzh/wp-content/uploads/2022/04/278569077_1570685719966373_8420942554521215008_n.jpg
END:VEVENT
BEGIN:VEVENT
DTSTART;VALUE=DATE:20220522
DTEND;VALUE=DATE:20220523
DTSTAMP:20260425T021447
CREATED:20220426T074221Z
LAST-MODIFIED:20220427T122110Z
UID:10001247-1653177600-1653263999@www.cyclisme.bzh
SUMMARY:Minihy-Tréguier  - Championnat 22 des Pass' Cyclismes
DESCRIPTION:Ouverts qu’aux licenciés du 22  \nPass Cyclisme D3 : Dép 13h30 – 7 km x 9 t soit 63km\nPass Cyclisme D4 : Dép 13h32 – 7 km x 8 t soit 56 km \nPass Cyclisme D1 : Dép 15h30 – 7 km x 11 t soit 77 km\nPass Cyclisme D2 : Dép 15h32 – 7 km x 10 t soit 70 km \nEngagements : 8.50 € \nRappel : Les Pass’ Cyclisme licenciés dans le 22 doivent obligatoirement participer au championnat. S’ils ne participent pas au championnat\, ils ne courent pas le jour du championnat\, ni la veille.
URL:https://www.cyclisme.bzh/epreuve-calendrier/minihy-treguier-championnat-22-des-pass-cyclismes/
LOCATION:MINIHY- TRÉGUIER\, MINIHY- TRÉGUIER\, Bretagne\, France
ATTACH;FMTTYPE=image/jpeg:https://www.cyclisme.bzh/wp-content/uploads/2022/04/AFFICHE-n°2-MINIHY-TREGUIER._page-0001.jpg
ORGANIZER;CN="EC PLESTIN PAYS TREGOR (4322163)":MAILTO:gilbert.lacelle@orange.fr
END:VEVENT
BEGIN:VEVENT
DTSTART;VALUE=DATE:20220522
DTEND;VALUE=DATE:20220523
DTSTAMP:20260425T021447
CREATED:20220426T084930Z
LAST-MODIFIED:20220520T090454Z
UID:10001248-1653177600-1653263999@www.cyclisme.bzh
SUMMARY:Audierne - Grand Prix d'Audierne
DESCRIPTION:Edit du 20/05 : suite au faible nombre d’engagés\, voici les nouveaux horaires \n  \nRégularité: Dép 13h15 – Distance selon l’âge – Engagements 2 € \nCadets et Cadettes : Dép 14h00 – 3.6 km x 16 t –  Prix coureurs : 107/10 1er 20€ – Engagements 6.50 € \nMinimes et Minimes/Cadettes : Dép 14h02 – 3.6 km x 8 t – Prix coureurs : 107/10 1er 20€ – Engagements 6.50 € \nPass et Pass Open : Dép 16h00 – 3.6 km x 20 t – Engagements 8.50 € \nRenseignements : Azilis CESVET – marc.cesvet@neuf.fr – 06 44 02 44 56 \n 
URL:https://www.cyclisme.bzh/epreuve-calendrier/audierne-grand-prix-daudierne/
LOCATION:AUDIERNE\, AUDIERNE\, Bretagne\, France
CATEGORIES:Ecole de cyclisme
ATTACH;FMTTYPE=image/png:https://www.cyclisme.bzh/wp-content/uploads/2022/04/grand-prix.png
ORGANIZER;CN="CAP SIZUN CYCLISME (4329304)":MAILTO:y29thomas@orange.fr
END:VEVENT
BEGIN:VEVENT
DTSTART;VALUE=DATE:20220522
DTEND;VALUE=DATE:20220523
DTSTAMP:20260425T021447
CREATED:20220503T070534Z
LAST-MODIFIED:20220520T065548Z
UID:10001272-1653177600-1653263999@www.cyclisme.bzh
SUMMARY:Brest - Trophée Régional des Ecoles de cyclisme sur selection
DESCRIPTION:Inscription par bulletin et engagement par cicleweb \nSélectionnés du 22 :\n– VS Trégueux\n– CC Moncontour\n– Team Pays de Dinan\n– CC Plancoët\n– VCP Loudéac\n– ECP Paimpol\n– 2 Sélections Départementales \nSélectionnés du 29 : \nVainqueur sortant : VS Quimper\n– CC Ergué-Gabéric\n– VS Drennec\n– VS Scaër\n– UC Quimperlé\n– Landivisienne Cycliste\n– AC Gouesnou\n2 sélections 29 \nSélectionnés du 35 : \nOCC Cesson Sevigné\nTeam Ted Dit Autisme\nVC Mévennais\nGo Fougerais\nCC Vitréen\nRedon OC\n2 sélections 35 \nSélectionnés du 56 :\n– Véloce Vannetais\n– OC Locminé\n– ACP Baud\n– UC Lochrist Hennebont\n– UC Auray\n– EC Pluvignoise\n– 2 sélections Morbihannaises (1 équipe mixte et 1 féminine) \nLire en plein écranAller au contenu PDF\n  \n 
URL:https://www.cyclisme.bzh/epreuve-calendrier/brest-trophee-regional-des-ecoles-de-cyclisme-sur-selection/
LOCATION:BREST\, BREST\, Bretagne\, France
ORGANIZER;CN="KICLOS BREST METROPOLE CYCLISME (4329455)":MAILTO:ppierre@brestmetropolecyclisme.com
END:VEVENT
BEGIN:VEVENT
DTSTART;VALUE=DATE:20220526
DTEND;VALUE=DATE:20220527
DTSTAMP:20260425T021447
CREATED:20220322T150732Z
LAST-MODIFIED:20220322T151935Z
UID:10001155-1653523200-1653609599@www.cyclisme.bzh
SUMMARY:Landéhen
DESCRIPTION:Minimes : Dép 12h – 3.6 km x 9 t – Prix coureurs : 107/10 1er 20€ – Engagements : 6.50 € \nCadets : Dép 13h45 – 3.6 km x 14 t – Prix coureurs : 107/10 1er 20€ – Engagements : 6.50 € \n3 cat+Juniors+Pass Open : Dép 15h30 – 3.6 km x 25 t – Prix coureurs : 259/15 1er 50 € – Engagements : 8.50 € \nOuverture des engagements le 23/03 à 18h00 \nRenseignements : Françoise VEILLON – francoiseveillon06@gmail.com
URL:https://www.cyclisme.bzh/epreuve-calendrier/landehen/
LOCATION:LANDÉHEN\, LANDÉHEN\, Bretagne\, France
END:VEVENT
BEGIN:VEVENT
DTSTART;VALUE=DATE:20220526
DTEND;VALUE=DATE:20220527
DTSTAMP:20260425T021447
CREATED:20220408T134947Z
LAST-MODIFIED:20220408T135531Z
UID:10001207-1653523200-1653609599@www.cyclisme.bzh
SUMMARY:Romillé
DESCRIPTION:épreuve minimes : \ndépart : 13h18 – longueur circuit : 9 kms – 3 t -prix coureurs : 107/10 \népreuve cadets : \ndépart : 13h15 – longueur circuit : 9 kms – 6 t- prix coureurs : 138/10 \népreuve 3 cat – juniors – pc open : \ndépart : 15h15 – longueur circuit : 9 kms -11 t – prix coureurs : 259/15 \nprix coureurs juniors : 61/5 \népreuve pass cyclisme : \ndépart D1/D2 : 9h et D3/D4 : 9h02 – longueur circuit : 9 kms – 9 t pour D1/D2 et 7 t pour D3/D4 \nPDJ : Yvon Donnio \n 
URL:https://www.cyclisme.bzh/epreuve-calendrier/romille/
LOCATION:ROMILLE\, France
END:VEVENT
BEGIN:VEVENT
DTSTART;VALUE=DATE:20220526
DTEND;VALUE=DATE:20220527
DTSTAMP:20260425T021447
CREATED:20220414T121400Z
LAST-MODIFIED:20220414T122032Z
UID:10001218-1653523200-1653609599@www.cyclisme.bzh
SUMMARY:St Etienne en Cogles
DESCRIPTION:épreuve régularité : \ndépart : 10h30 – longueur circuit : 2.2 kms – nombre de tours selon l’âge 2-4-6 t \népreuve 2-3 cat – juniors – pc open : \ndépart : 15h30 – longueur circuit : 7 kms – 15 t – prix coureurs : 259/15 \nprix coureurs juniors 47/5 \népreuve pass cyclisme : \ndépart 13h et 13h03 – longueur circuit : 7 kms – 11 t D1/D2 et 9 t D3/D4 \nPDJ : Sandrine Guérin
URL:https://www.cyclisme.bzh/epreuve-calendrier/st-etienne-en-cogles/
LOCATION:St Etienne en Cogles
CATEGORIES:Ecole de cyclisme
END:VEVENT
BEGIN:VEVENT
DTSTART;VALUE=DATE:20220526
DTEND;VALUE=DATE:20220527
DTSTAMP:20260425T021447
CREATED:20220415T113212Z
LAST-MODIFIED:20220415T113831Z
UID:10001219-1653523200-1653609599@www.cyclisme.bzh
SUMMARY:Rieux - grand prix de l'ascension
DESCRIPTION:épreuve 3 cat – juniors –  pc open : \ndépart : 15h30 – longueur circuit : 3.9 kms – 25 t – prix coureurs 259/15 \népreuve pass cyclisme D3-D4 uniquement : \ndépart : 13h30 – longueur circuit : 3.9 kms – 15 t \nPDJ : non communiqué
URL:https://www.cyclisme.bzh/epreuve-calendrier/rieux-grand-prix-de-lascension/
LOCATION:RIEUX
END:VEVENT
BEGIN:VEVENT
DTSTART;VALUE=DATE:20220526
DTEND;VALUE=DATE:20220527
DTSTAMP:20260425T021447
CREATED:20220426T094146Z
LAST-MODIFIED:20220426T114404Z
UID:10001249-1653523200-1653609599@www.cyclisme.bzh
SUMMARY:Pleyben - ZA du Drevers
DESCRIPTION:Poussins : Dép 13h30 – 2 tours de 2 km – Engagements 2 € \nPupilles : Dép 13h50 – 4 tours de 2 km- Engagements 2 € \nBenjamins : Dép 14h20 – 6 tours de 2 km- Engagements 2 € \nMinimes : Dép 15h00 – 2.3 km x 13 t – Prix coureurs : 107/10 1er 20 € – Engagements 6.50 € \nCadets : Dép 16h00 – 2.3 km x 24 t – – Prix coureurs : 138/10 1er 28 € – Engagements 6.50 € \nOuverture des engagements le 27/04 à 18h00 \nRenseignements : Thomas GRANNEC grannec.thomas@orange.fr – 06 75 13 93 31 / Stéphane DOUGUET douguetstef@yahoo.fr – 06 30 72 19 51
URL:https://www.cyclisme.bzh/epreuve-calendrier/pleyben-za-du-drevers/
LOCATION:Pleyben
CATEGORIES:Ecole de cyclisme
ORGANIZER;CN="AULNE OLYMPIQUE CYCLISTE (4329222)":MAILTO:clubaoc.pleyben@gmail.com
END:VEVENT
BEGIN:VEVENT
DTSTART;VALUE=DATE:20220526
DTEND;VALUE=DATE:20220527
DTSTAMP:20260425T021447
CREATED:20220426T123014Z
LAST-MODIFIED:20220426T123858Z
UID:10001251-1653523200-1653609599@www.cyclisme.bzh
SUMMARY:Landeda - Landed' Tour
DESCRIPTION:2.3.Juniors.Pass Open (sauf Pass Open du CD29) : Dép 14h30 – 4.94 km x 10 t + 4.22 km x 10 t – Prix coureurs : 396/20 1er 78 € – 91/10 1er 17€ ps Juniors. – Engagements 8.50 € \nOuverture des engagements le 27/04 à 18h00 \nRenseignements : Ludovic BERDER  – 06 25 33 14 16 – famille.berder@free.fr \n  \n 
URL:https://www.cyclisme.bzh/epreuve-calendrier/landeda-landed-tour/
LOCATION:LANDEDA\, LANDEDA\, Bretagne\, France
ORGANIZER;CN="CC BOURG BLANC (4329330)":MAILTO:president.ccbb29@gmail.com
END:VEVENT
BEGIN:VEVENT
DTSTART;VALUE=DATE:20220526
DTEND;VALUE=DATE:20220527
DTSTAMP:20260425T021447
CREATED:20220428T142509Z
LAST-MODIFIED:20220428T142804Z
UID:10001262-1653523200-1653609599@www.cyclisme.bzh
SUMMARY:Domloup - trophée pays de Chateaugiron communauté
DESCRIPTION:épreuve 3 cat – juniors – pc open : \ndépart : 15 h – longueur circuit : 5.600 kms – 17 t – prix coureurs : 320/15 \nPDJ : Jean Claude Lemercier
URL:https://www.cyclisme.bzh/epreuve-calendrier/domloup-trophee-pays-de-chateaugiron-communaute/
LOCATION:DOMLOUP\, France
END:VEVENT
BEGIN:VEVENT
DTSTART;VALUE=DATE:20220526
DTEND;VALUE=DATE:20220527
DTSTAMP:20260425T021447
CREATED:20220504T115239Z
LAST-MODIFIED:20220506T090010Z
UID:10001273-1653523200-1653609599@www.cyclisme.bzh
SUMMARY:Gueltas
DESCRIPTION:épreuve minimes : \ndépart : 13h30 – longueur circuit : 5.10 kms – 5 t \népreuve cadets : \ndépart : 15h – longueur circuit : 5.10 kms – 10 t \népreuve pass cyclisme : \ndépart D1/D2 : 9h30 – D3/D4 :9H31 – longueur circuit  : 5.10 kms – 14 t : D1/D2 \n12 t : D3/D4 \nPDJ : non communiqué \n 
URL:https://www.cyclisme.bzh/epreuve-calendrier/gueltas-2/
LOCATION:GUELTAS\, France
END:VEVENT
BEGIN:VEVENT
DTSTART;VALUE=DATE:20220526
DTEND;VALUE=DATE:20220527
DTSTAMP:20260425T021447
CREATED:20220504T122438Z
LAST-MODIFIED:20220524T140756Z
UID:10001274-1653523200-1653609599@www.cyclisme.bzh
SUMMARY:Tour de Pontivy Communauté - Souvenir Ange Roussel - Coupe de Bretagne Crédit Agricole
DESCRIPTION:épreuve contre la montre  – Radenac : \ndépart : 8h30 – longueur circuit : 7.1 kms – 1 t \népreuve en ligne  Pontivy – Gueltas : \ndépart : 15h – distance course en ligne : 78.25 kms – longueur circuit : 5.1 kms – 6 t \nprix coureurs  : 610/20 \nPDJ : Nadège Corlay \nRéservations repas  (12 euros) closes le 23 mai 2022\, Chèque à l’ordre du Comité des fêtes de Radenac  à envoyer Nelly Cadio 15 Kerdehel 56500 RADENAC. Tél: 06-86-76-32-19 – Mail : cadionelly@wanadoo.fr
URL:https://www.cyclisme.bzh/epreuve-calendrier/tour-de-pontivy-communaute-souvenir-ange-roussel-coupe-de-bretagne-credit-agricole/
LOCATION:Pontivy\, France
ATTACH;FMTTYPE=image/jpeg:https://www.cyclisme.bzh/wp-content/uploads/2022/05/AFFICHE-2022-02b_page-0001.jpg
END:VEVENT
BEGIN:VEVENT
DTSTART;VALUE=DATE:20220526
DTEND;VALUE=DATE:20220527
DTSTAMP:20260425T021447
CREATED:20220506T123222Z
LAST-MODIFIED:20220506T123518Z
UID:10001286-1653523200-1653609599@www.cyclisme.bzh
SUMMARY:Bolazec - Championnat 29 des Pass Cyclisme
DESCRIPTION:Pass Cyclisme D3/D4 : Dép 13h30 – 3.9 km x 16 t – Engagements 8.50 € \nPass Cyclisme D1/D2 : Dép 15h30 – 3.9 km x 19 t – Engagements 8.50 € \nRenseignements : Michel ROUDOT – mroudot@sfr.fr – 06.11.45.44.27 \n  \n 
URL:https://www.cyclisme.bzh/epreuve-calendrier/bolazec-championnat-29-des-pass-cyclisme/
LOCATION:BOLAZEC
END:VEVENT
BEGIN:VEVENT
DTSTART;VALUE=DATE:20220526
DTEND;VALUE=DATE:20220527
DTSTAMP:20260425T021447
CREATED:20220510T151759Z
LAST-MODIFIED:20220517T064202Z
UID:10001303-1653523200-1653609599@www.cyclisme.bzh
SUMMARY:Pluneret Treauray
DESCRIPTION:épreuve minimes : \ndépart : 14h – longueur circuit : 5 kms – 5 t – prix coureurs : 107/10 \népreuve 3 cat – juniors – pc open : \ndépart : 15h30 – longueur circuit : 5 kms – 18 t – prix coureurs : 259/15 \nclôture des engagements : 24/05/22 à 19h \nPDJ : non communiqué à ce jour \n 
URL:https://www.cyclisme.bzh/epreuve-calendrier/pluneret-treauray/
LOCATION:Pluneret Treauray\, France
ATTACH;FMTTYPE=application/pdf:https://www.cyclisme.bzh/wp-content/uploads/2022/05/Affiche-TREAURAY-2022.pdf
END:VEVENT
BEGIN:VEVENT
DTSTART;VALUE=DATE:20220526
DTEND;VALUE=DATE:20220527
DTSTAMP:20260425T021447
CREATED:20220513T071944Z
LAST-MODIFIED:20220523T090418Z
UID:10001314-1653523200-1653609599@www.cyclisme.bzh
SUMMARY:Lanester - Route de l'Ouest Féminine - Grand Prix Georges Moello
DESCRIPTION:Minimes F / Cadettes : \nDépart 12h45 – 8 tours x 6.3 km \nEngagement 6.50€ \nPrix coureurs : 138 / 10 – 1er prix : 28€ \nJuniors / Seniors Dames : \nDépart 14h30 – 14 tours x 6.3 km \nEngagement 8.50€ \nPrix coureurs : 305 / 15 – 1er prix : 61€ \nPrix juniors : 47 / 5 – 1er prix : 18€ \nEngagements : \nOuverture le 05/05/2022 \nFermeture le 23/05/2022 \nPrésident de jury : \nNon communiqué \nInformations : \nLire en plein écranAller au contenu PDF
URL:https://www.cyclisme.bzh/epreuve-calendrier/lanester-route-de-louest-feminine-grand-prix-georges-moello/
LOCATION:Lanester\, France
ATTACH;FMTTYPE=image/jpeg:https://www.cyclisme.bzh/wp-content/uploads/2021/09/route-de-louest-feminin-rof.jpg
ORGANIZER;CN="AC LANESTER 56 (4356338)":MAILTO:contact@aclanester56.com
END:VEVENT
BEGIN:VEVENT
DTSTART;VALUE=DATE:20220528
DTEND;VALUE=DATE:20220529
DTSTAMP:20260425T021447
CREATED:20220422T115420Z
LAST-MODIFIED:20220422T115420Z
UID:10001243-1653696000-1653782399@www.cyclisme.bzh
SUMMARY:Coray
DESCRIPTION:Régularité : Dép 14h30 – Distance selon l’âge – Engagements 2 € \n3ème cat+Juniors+Pass Open : Dép 16h00 – 3.7 km x 21 t – prix coureurs : 259/15 1er 50€ – Engagements 8.50 € \nOuverture des engagements le 23/04 à 18h00 \nRenseignements : Julien Carpon – julien.carpon@laposte.net – 06 88 04 19 09
URL:https://www.cyclisme.bzh/epreuve-calendrier/coray-2/
LOCATION:Coray
CATEGORIES:Ecole de cyclisme
ORGANIZER;CN="CC ERGUE GABERIC (4329232)":MAILTO:julien.carpon@laposte.net
END:VEVENT
BEGIN:VEVENT
DTSTART;VALUE=DATE:20220529
DTEND;VALUE=DATE:20220530
DTSTAMP:20260425T021447
CREATED:20220413T160300Z
LAST-MODIFIED:20220519T064738Z
UID:10001215-1653782400-1653868799@www.cyclisme.bzh
SUMMARY:Lizio - boucles du Val D'Oust et de Lanvaux
DESCRIPTION:Épreuve 1-2-3 cat / Juniors / PC Open : \nDépart : 14h30 \nDistance course en ligne : 96 kms \nLongueur circuit : 5 tours x 6.4 km \nEngagement 8.50€ \nPrix coureurs : 793 / 20 – 1er prix : 160€ \nÉpreuve pass cyclisme : \nDépart : 14h45 – 8 tours x 6.4 km \nEngagement 8.50€ \nEngagements : \nFermeture le 26/05/2022 à 20h \nPrésident de jury :  \nLudovic Berder \nInformations importantes : \nLire en plein écranAller au contenu PDF \n 
URL:https://www.cyclisme.bzh/epreuve-calendrier/lizio-boucles-du-val-doust-et-de-larvaux/
LOCATION:Lizio\, France
END:VEVENT
BEGIN:VEVENT
DTSTART;VALUE=DATE:20220529
DTEND;VALUE=DATE:20220530
DTSTAMP:20260425T021447
CREATED:20220422T092645Z
LAST-MODIFIED:20220510T095943Z
UID:10001241-1653782400-1653868799@www.cyclisme.bzh
SUMMARY:Iffendic - les 4 routes
DESCRIPTION:épreuve régularité : \ndépart : 14h – longueur circuit : 5 kms – nombre de tours selon l’âge \népreuve pass cyclisme : \nheures départ D1/D2: 15h15 – D3/D4 :15h17 – longueur circuit : 5 kms – 15 t pour D1/D2 et 12 t pour D3/D4 \nPDJ : Daniel Louéssard
URL:https://www.cyclisme.bzh/epreuve-calendrier/iffendic-les-4-routes/
LOCATION:IFFENDIC\, France
CATEGORIES:Ecole de cyclisme
END:VEVENT
END:VCALENDAR