BEGIN:VCALENDAR
VERSION:2.0
PRODID:-//Comité de Bretagne de Cyclisme - ECPv6.15.20//NONSGML v1.0//EN
CALSCALE:GREGORIAN
METHOD:PUBLISH
X-WR-CALNAME:Comité de Bretagne de Cyclisme
X-ORIGINAL-URL:https://www.cyclisme.bzh
X-WR-CALDESC:Évènements pour Comité de Bretagne de Cyclisme
REFRESH-INTERVAL;VALUE=DURATION:PT1H
X-Robots-Tag:noindex
X-PUBLISHED-TTL:PT1H
BEGIN:VTIMEZONE
TZID:Europe/Paris
BEGIN:DAYLIGHT
TZOFFSETFROM:+0100
TZOFFSETTO:+0200
TZNAME:CEST
DTSTART:20200329T010000
END:DAYLIGHT
BEGIN:STANDARD
TZOFFSETFROM:+0200
TZOFFSETTO:+0100
TZNAME:CET
DTSTART:20201025T010000
END:STANDARD
BEGIN:DAYLIGHT
TZOFFSETFROM:+0100
TZOFFSETTO:+0200
TZNAME:CEST
DTSTART:20210328T010000
END:DAYLIGHT
BEGIN:STANDARD
TZOFFSETFROM:+0200
TZOFFSETTO:+0100
TZNAME:CET
DTSTART:20211031T010000
END:STANDARD
BEGIN:DAYLIGHT
TZOFFSETFROM:+0100
TZOFFSETTO:+0200
TZNAME:CEST
DTSTART:20220327T010000
END:DAYLIGHT
BEGIN:STANDARD
TZOFFSETFROM:+0200
TZOFFSETTO:+0100
TZNAME:CET
DTSTART:20221030T010000
END:STANDARD
BEGIN:DAYLIGHT
TZOFFSETFROM:+0100
TZOFFSETTO:+0200
TZNAME:CEST
DTSTART:20230326T010000
END:DAYLIGHT
BEGIN:STANDARD
TZOFFSETFROM:+0200
TZOFFSETTO:+0100
TZNAME:CET
DTSTART:20231029T010000
END:STANDARD
END:VTIMEZONE
BEGIN:VEVENT
DTSTART;VALUE=DATE:20211101
DTEND;VALUE=DATE:20211102
DTSTAMP:20260426T004733
CREATED:20211007T145425Z
LAST-MODIFIED:20211018T124155Z
UID:10001002-1635724800-1635811199@www.cyclisme.bzh
SUMMARY:Ergué Gabéric
DESCRIPTION:Régularité\, Challenge de Cornouaille Sud: Dép 13h00 – Durée selon l’âge – Sans Prix -Engagements 2 € \nMinimes et Cadets H et F\, Challenge de Cornouaille Sud : Dép 14h30 Cadets et 14h00 Minimes – Durée  30′ pour les cadets et 20′ pour les minimes – Gr 107/10 1er 20€ ps cadets – Engagements 6.50 € \nJuniors/Espoirs/Seniors : Dép 15h30 – Durée 50′ pour les espoirs/seniors et 40′ pour les juniors – Gr 274/15 1er 53€ – Gr 47/5 1er 18€ ps juniors. – Engagements 8.50 € \n 
URL:https://www.cyclisme.bzh/epreuve-calendrier/ergue-gaberic-2/
LOCATION:Ergué Gabéric\, Ergué Gabéric\, France
CATEGORIES:Ecole de cyclisme
END:VEVENT
BEGIN:VEVENT
DTSTART;VALUE=DATE:20211106
DTEND;VALUE=DATE:20211107
DTSTAMP:20260426T004733
CREATED:20211026T065329Z
LAST-MODIFIED:20211026T065454Z
UID:10001016-1636156800-1636243199@www.cyclisme.bzh
SUMMARY:Pleumeur-Bodou
DESCRIPTION:Régularité : Dép 13h30 – Durée selon l’âge – sans prix – Engagements : 2 € \nMinimes H et F : Dép 14h45 – Durée 20′ – sans prix – Engagements 6.50 € \nCadets/Cadettes : Dép 15h30 – Durée 30′ – sans prix – Engagements 6.50 € \n 
URL:https://www.cyclisme.bzh/epreuve-calendrier/pleumeur-bodou-2/
LOCATION:Pleumeur-Bodou
END:VEVENT
BEGIN:VEVENT
DTSTART;VALUE=DATE:20211107
DTEND;VALUE=DATE:20211108
DTSTAMP:20260426T004733
CREATED:20211012T133510Z
LAST-MODIFIED:20211028T121615Z
UID:10001005-1636243200-1636329599@www.cyclisme.bzh
SUMMARY:Locminé - 2ème manche du Trophée Régional Camping-cars Jacqueline
DESCRIPTION:Régularité : Dép 11h30 – Distance selon l’âge – Sans prix – Engagements : 2 € \nMinimes H et F : Dép 12h30 – Durée 20′ – Sans prix – Engagements : 6.50 € \nCadets et Cadettes : Dép 13h30 – Durée 30′ – Gr 107/10 1er 20 € – Gr 30/3 1ère 15€ ps cadettes – Engagements : 6.50 € \nJuniors/Dames 17ans et + : Dép 14h30 – Durée 40′ – Gr 228/10 1er 46 € – Gr 152/5 1ère 54 € ps dames – Engagements : 8.50 € \nEspoirs/Seniors : Dép 15h30 – Durée 50′ – Gr 915/20 1er 184 € – Engagements 8.50 € \nEngagements clos le mardi 2 novembre à 20h00 \nRenseignements : Arnaud ROBIN 06 09 38 57 94 – arnaud.robin38@sfr.fr
URL:https://www.cyclisme.bzh/epreuve-calendrier/locmine-2eme-manche-du-trophee-regional-camping-cars-jacqueline/
LOCATION:Locminé
CATEGORIES:Ecole de cyclisme
ATTACH;FMTTYPE=image/jpeg:https://www.cyclisme.bzh/wp-content/uploads/2021/10/Cyclocross-2021-Locmine-Affiche.jpg
ORGANIZER;CN="OC Locmin%C3%A9":MAILTO:jlebellego56@gmail.com
END:VEVENT
BEGIN:VEVENT
DTSTART;VALUE=DATE:20211111
DTEND;VALUE=DATE:20211112
DTSTAMP:20260426T004733
CREATED:20211012T141406Z
LAST-MODIFIED:20211012T143819Z
UID:10001006-1636588800-1636675199@www.cyclisme.bzh
SUMMARY:St Jacques de la Lande (Parc de la Morinais) - Challenge des Sous-Bois
DESCRIPTION:Régularité : Dép 11h00 – Durée selon l’âge – Sans prix – Engagements 2 € \nMinimes G et F : Dép 11h45 – Durée 20′ – Sans prix – Engagements 6.50 € \nCadets et Cadettes : Dép 13h30 – Durée 30′ – Gr 61/5 1er 21 € – Engagements 6.50 € \nJuniors H/dames 17ans et +/Pass Cyclisme : Dép 14h30 – Durée 40′ – Gr 76/5 ps juniors – Gr 47/3 ps dames – Engagements 8.50 € \nEspoirs/Seniors : Dép 15h30 – Durée 50′ – Gr 320/15 1er 62 € – Engagements 8.50 € \n  \n 
URL:https://www.cyclisme.bzh/epreuve-calendrier/st-jacques-de-la-lande-parc-de-la-morinais-challenge-des-sous-bois/
LOCATION:ST JACQUES DE LA LANDE\, ST JACQUES DE LA LANDE\, Bretagne\, France
CATEGORIES:Ecole de cyclisme
END:VEVENT
BEGIN:VEVENT
DTSTART;VALUE=DATE:20211111
DTEND;VALUE=DATE:20211112
DTSTAMP:20260426T004733
CREATED:20211026T080507Z
LAST-MODIFIED:20211026T080507Z
UID:10001017-1636588800-1636675199@www.cyclisme.bzh
SUMMARY:Plonéour-Lanvern - Stade de Foot nouveau circuit
DESCRIPTION:Régularité : Dép 14H15 – Durée selon l’âge – Sans prix – Engagements 2 € \nJuniors/Espoirs/Seniors : Dép 15h30 – Durée 40′ pour les juniors – Gr 47/5 1er 18 € – Durée 50′ pour les espoirs/seniors – Gr 274/15 1er 53 € – Engagements 8.50 €
URL:https://www.cyclisme.bzh/epreuve-calendrier/ploneour-lanvern-stade-de-foot-nouveau-circuit/
LOCATION:Ploneour-Lanvern
CATEGORIES:Ecole de cyclisme
ORGANIZER;CN="CC Bigouden":MAILTO:ccbigouden@gmail.com
END:VEVENT
BEGIN:VEVENT
DTSTART;VALUE=DATE:20211113
DTEND;VALUE=DATE:20211114
DTSTAMP:20260426T004733
CREATED:20211013T092244Z
LAST-MODIFIED:20211014T113059Z
UID:10001009-1636761600-1636847999@www.cyclisme.bzh
SUMMARY:Bégard - Bois de Gwerun
DESCRIPTION:Régularité poussins à benjamins : Dép 13h30 – Durée selon l’âge  – Sans prix – Engagements 2 € \nMinimes : Dép 14h45 – Durée 20′ – Sans prix – Engagements 6.50 € \nCadets/Cadettes : Dép 15h30 – Durée 30′ – Sans prix – Engagements 6.50 €
URL:https://www.cyclisme.bzh/epreuve-calendrier/begard-bois-de-gwerun/
LOCATION:BEGARD\, BEGARD\, Bretagne\, France
END:VEVENT
BEGIN:VEVENT
DTSTART;VALUE=DATE:20211114
DTEND;VALUE=DATE:20211115
DTSTAMP:20260426T004733
CREATED:20211022T125010Z
LAST-MODIFIED:20211022T130921Z
UID:10001015-1636848000-1636934399@www.cyclisme.bzh
SUMMARY:Cranne en Baud
DESCRIPTION:épreuve prélicenciés poussins pupilles benjamins : \ndépart : 13h – distance selon l’âge \népreuve minimes H/F : \ndépart : 14h – durée : 20′ – pc : 28/3 \népreuve cadets/cadettes – juniors H – dames 17 ans et + : \ndépart : 14h30 – durée  cadets 30 ‘ juniors et dames 40’  –  pc  cadets : 61/5 –  pc juniors : 76/5 – pc dames : 30/3 \népreuve espoirs seniors : \ndépart : 15h30 – durée 50′ – pc : 320/15 \nPDJ : non communiqué à ce jour \n  \n 
URL:https://www.cyclisme.bzh/epreuve-calendrier/cranne-en-baud/
LOCATION:CRANNE EN BAUD\, CRANNE EN BAUD\, Bretagne\, France
CATEGORIES:Ecole de cyclisme
END:VEVENT
BEGIN:VEVENT
DTSTART;VALUE=DATE:20211114
DTEND;VALUE=DATE:20211115
DTSTAMP:20260426T004733
CREATED:20211029T122149Z
LAST-MODIFIED:20211031T122615Z
UID:10001021-1636848000-1636934399@www.cyclisme.bzh
SUMMARY:Trégunc - Challenge de Cornouaille Sud
DESCRIPTION:Régularité : Dép 13h15 – Durée selon l’âge – sans prix – Engagements 2 € \nMinimes H et F : Dép 14h45 – Durée 20′ – sans prix – Engagements 6.50 € \nCadets-Cadettes : Dép 15h30 – Durée 30′ – sans prix – Engagements 6.50 € \nRèglement du challenge :https://www.cyclisme.bzh/challenge-cyclo-cross-de-cornouaille-sud-le-reglement-2021/
URL:https://www.cyclisme.bzh/epreuve-calendrier/tregunc-challenge-de-cornouaille-sud/
LOCATION:TREGUNC\, TREGUNC\, Bretagne\, France
CATEGORIES:Ecole de cyclisme
ATTACH;FMTTYPE=image/png:https://www.cyclisme.bzh/wp-content/uploads/2021/10/affiche-cyclo-ACT5.png
ORGANIZER;CN="AC Tr%C3%A9gunc":MAILTO:associationcyclistedetregunc@gmail.com
END:VEVENT
BEGIN:VEVENT
DTSTART;VALUE=DATE:20211121
DTEND;VALUE=DATE:20211122
DTSTAMP:20260426T004733
CREATED:20211026T092357Z
LAST-MODIFIED:20211120T160651Z
UID:10001019-1637452800-1637539199@www.cyclisme.bzh
SUMMARY:Carhaix - Championnat 29 cyclo-cross
DESCRIPTION:Régularité : Dép 11h – Durée selon l’âge – sans prix – Engagements 2 € \nMinimes H et F\, Championnat 29 : Dép 12h45 – Durée 20′ – sans prix – Engagements : 6.50 € \nCadets/Cadettes : Dép 13h30 – Durée 30′ – sans prix – Engagements 6.50 € \nJuniors H/Dames 17ans et + : Dép 14h15- Durée 40′ – sans prix – Engagements 8.50 € \nEspoirs/Seniors : Dép 15h15 – Durée 50′ – sans prix – Engagements 8.50 €
URL:https://www.cyclisme.bzh/epreuve-calendrier/carhaix-championnat-29-cyclo-cross/
LOCATION:CARHAIX\, CARHAIX\, Bretagne\, France
CATEGORIES:Ecole de cyclisme
ORGANIZER;CN="UC Carhaix":MAILTO:angellegr56@gmail.com
END:VEVENT
BEGIN:VEVENT
DTSTART;VALUE=DATE:20211121
DTEND;VALUE=DATE:20211122
DTSTAMP:20260426T004733
CREATED:20211103T154414Z
LAST-MODIFIED:20211103T154653Z
UID:10001022-1637452800-1637539199@www.cyclisme.bzh
SUMMARY:Liffre championnat départemental
DESCRIPTION:épreuve régularité cc : \ndépart : 11h30 – durée selon l’âge \népreuve minimes G/F : \ndépart : 12h30 – durée : 20′ – pc : 47/5 \népreuve cadets/cadettes : \ndépart : 13h15 – durée : 30′ – pc cadets : 61/5 – pc cadettes : 30/3 \népreuve juniors H  – dames 17 ans et + : \ndépart : 14h15 – durée : 40′ – pc juniors : 76/5 – pc dames : 47/3 \népreuve espoirs/seniors : \ndépart : 15h30 – durée : 50′ – pc : 259/15 \nPDJ : Fabienne JUHEL \n  \n 
URL:https://www.cyclisme.bzh/epreuve-calendrier/liffre-championnat-departemental/
LOCATION:LIFFRE\, France
END:VEVENT
BEGIN:VEVENT
DTSTART;VALUE=DATE:20211121
DTEND;VALUE=DATE:20211122
DTSTAMP:20260426T004733
CREATED:20211103T154933Z
LAST-MODIFIED:20211103T155411Z
UID:10001024-1637452800-1637539199@www.cyclisme.bzh
SUMMARY:Pont -Scorff  championnat départemental
DESCRIPTION:épreuve minimes G/F : \ndépart : 13h30 – durée : 20′ – pas de pc \népreuve cadets/cadettes : \ndépart : 14h15 – durée : 30′ – pas de pc \népreuve juniors H – dames 17 ans et + : \ndépart : 15h17 – durée : 40′ – pas de pc \népreuve espoirs-seniors H : \ndépart : 15h15 – durée : 50′ – pas de pc \nPDJ non communiqué
URL:https://www.cyclisme.bzh/epreuve-calendrier/pont-scorff-championnat-departemental/
LOCATION:Pont-Scorff\, France
END:VEVENT
BEGIN:VEVENT
DTSTART;VALUE=DATE:20211121
DTEND;VALUE=DATE:20211122
DTSTAMP:20260426T004733
CREATED:20211108T141432Z
LAST-MODIFIED:20211108T150601Z
UID:10001026-1637452800-1637539199@www.cyclisme.bzh
SUMMARY:Trémel - Championnat 22
DESCRIPTION:Minimes H et F : Dép 12h30 – Durée 20′ – Sans prix – Engagements 6.50 € \nCadets/Cadettes : Dép 13h15 – Durée 30′ – Sans prix – Engagements 6.50 € \nJuniors/Dames 17ans et +/Pass Cyclisme\, Pass Open : Dép 14h15 – Durée 40′ – Sans prix -Engagements 8.50 € \nEspoirs/Seniors : Dép 15h15 – Durée 50′ – Sans prix -Engagements 8.50 € \nHoraires modifiés le 08/11
URL:https://www.cyclisme.bzh/epreuve-calendrier/tremel-championnat-22/
LOCATION:TREMEL\, TREMEL\, Bretagne\, France
ORGANIZER;CN="EC Plestin":MAILTO:emileprigent@orange.fr
END:VEVENT
BEGIN:VEVENT
DTSTART;VALUE=DATE:20211127
DTEND;VALUE=DATE:20211128
DTSTAMP:20260426T004733
CREATED:20211026T104112Z
LAST-MODIFIED:20211120T160759Z
UID:10001020-1637971200-1638057599@www.cyclisme.bzh
SUMMARY:Pleyber-Christ Kerrivoal
DESCRIPTION:Régularité : Dép 11h – Durée selon l’âge – sans prix – Engagements 2 € er  er \nMinimes H/F : Dép 12h – Durée 20′ – Gr 107/10 1er 20 €  – Gr 47/5 1er 18 € ps minimes f – Engagements 6.50 € \nCadets/Cadettes : Dép 13h15 – Durée 30′ – Gr 138/10 1er 28€  – Gr 76/5 1er 27 € ps cadettes – Engagements 6.50 € \nDames 17ans et + : Dép 14h – Durée 40′ – Gr 274/15 1ère 53 € – Gr 183/10 1ère 37€ ps junior f – Engagements 8.50 € \nJuniors/Espoirs/Seniors H : Dép 15h00 – Durée 40′ pour les juniors – Gr 183/10 1er 37 € – Durée 50′ pour les espoirs/seniors – Gr 274/15 1er 53 € – Engagements 8.50 € \n  \n 
URL:https://www.cyclisme.bzh/epreuve-calendrier/pleyber-christ-kerrivoal/
LOCATION:Pleyber-Christ
CATEGORIES:Ecole de cyclisme
ORGANIZER;CN="CC Bigouden":MAILTO:ccbigouden@gmail.com
END:VEVENT
BEGIN:VEVENT
DTSTART;VALUE=DATE:20211128
DTEND;VALUE=DATE:20211129
DTSTAMP:20260426T004733
CREATED:20211013T102128Z
LAST-MODIFIED:20211120T160808Z
UID:10001011-1638057600-1638143999@www.cyclisme.bzh
SUMMARY:Riec sur Belon (Bois des Pins) - Challenge de Cornouaille Sud
DESCRIPTION:Régularité : Dép 13h15 – Durée selon l’âge – Sans prix – Engagements 2 € \nMinimes G et F : Dép 14h30 – Durée 20′ – Sans prix – Engagements 6.50 € \nCadets/Cadettes : Dép 15h30 – Durée 30′ – Sans prix – Engagements 6.50 € \n 
URL:https://www.cyclisme.bzh/epreuve-calendrier/riec-sur-belon-bois-des-pins-challenge-de-cornouaille-sud/
LOCATION:RIEC SUR BELON\, RIEC SUR BELON\, Bretagne\, France
CATEGORIES:Ecole de cyclisme
END:VEVENT
BEGIN:VEVENT
DTSTART;VALUE=DATE:20211128
DTEND;VALUE=DATE:20211129
DTSTAMP:20260426T004733
CREATED:20211110T155926Z
LAST-MODIFIED:20211110T160611Z
UID:10000996-1638057600-1638143999@www.cyclisme.bzh
SUMMARY:Elven
DESCRIPTION:épreuve régularité cyclocross : \ndépart : 13 h – durée : selon l’âge – pas de pc \népreuve minimes H/F : \ndépart : 14h – pc : 28/3 \népreuve cadets-cadettes : \ndépart : 14h45 – durée : 30′ – pc : 61/5 – pc cadettes : 30/3 \népreuve juniors H : \ndépart : 14h45 -durée : 40′ -pc 76/5 \népreuve dames 17 ans et + : \ndépart : 14h45 – durée : 40′ – pc 47/5 \népreuve espoirs-seniors : \ndépart : 15h45 -durée : 50′ – pc 320/15 – pc espoirs : 61/5 \nPDJ non communiqué
URL:https://www.cyclisme.bzh/epreuve-calendrier/elven/
LOCATION:ELVEN\, France
CATEGORIES:Ecole de cyclisme
END:VEVENT
BEGIN:VEVENT
DTSTART;VALUE=DATE:20211128
DTEND;VALUE=DATE:20211129
DTSTAMP:20260426T004733
CREATED:20211117T095330Z
LAST-MODIFIED:20211119T141933Z
UID:10001032-1638057600-1638143999@www.cyclisme.bzh
SUMMARY:Redon - Championnats de Bretagne Master Hommes et Femmes
DESCRIPTION:Régularité : Dep 10h30 – Durée selon l’âge – Sans prix – Engagement 2€ \nMinimes H/F : Dep 11h15 – Durée 20′ – Sans prix – Engagement 6\,50€ \nCadets/Cadettes : Dep 12h30 – Durée 30′ – Gr cadet 47/5 – Gr cadettes 30/3 – Engagement 6\,50€ \nJuniors H\, Femmes 17ans et +: Dep 13h15 – Durée 40′ – Gr 61/5 – Engagement 8\,50€ \nChampionnat de Bretagne Masters Femmes : Dep 13h15 – Durée 40′ – Engagement 8\,50€ \nChampionnats de Bretagne Masters Hommes 30 ans et + (30-39\, 40-49\, 50 ans et +): Dep 14h15 – Durée 50′ avec départs différés – Engagement 8\,50€ \nEspoirs/Seniors : Dep 15h30 – Durée 50′ – Gr 259/15 – Engagement 8\,50€ \n 
URL:https://www.cyclisme.bzh/epreuve-calendrier/redon-championnats-de-bretagne-master-hommes-et-femmes/
LOCATION:REDON\, France
CATEGORIES:Ecole de cyclisme,Masters
ATTACH;FMTTYPE=image/jpeg:https://www.cyclisme.bzh/wp-content/uploads/2021/11/Affiche-Cyclo-Cross-REDON-scaled.jpg
ORGANIZER;CN="REDON OC":MAILTO:ludo.ducloyer@orange.fr
END:VEVENT
BEGIN:VEVENT
DTSTART;VALUE=DATE:20211205
DTEND;VALUE=DATE:20211206
DTSTAMP:20260426T004733
CREATED:20211119T125616Z
LAST-MODIFIED:20211201T104107Z
UID:10001001-1638662400-1638748799@www.cyclisme.bzh
SUMMARY:Châtelaudren - Championnat de Bretagne de Cyclo-cross
DESCRIPTION:– 10h30 : Minimes Garçons et Minimes Filles (20 minutes) – (deux podiums : Minimes Garçons et Minimes Filles) – Sans prix \n– 11h 15 : Cadets (30 minutes) – (un podium : Cadets) –  Sans prix. \n– 13h10 : Juniors (40 minutes) – (un podium : Juniors) – Gr 320/10 1er 64 € \n– 14h15 : Femmes\, Femmes Juniors (40 minutes) et Cadettes (30 minutes) – (trois podiums : Femmes\, Femmes Juniors et Cadettes) – Gr 320/10 1ère 64 € ps Femmes 17ans et + – Sans prix pour les cadettes. \n– 15h30 : Seniors – Espoirs (50 minutes) – (deux podiums: scratch Seniors/Espoirs et Espoirs) – Gr 915/20 1er 184€ – Gr 320/10 1er 64 € ps espoirs. \nEngagements Minimes/Cadets : Engagements 6.50 € \nEngagements Juniors/Seniors : Engagements 8.50 € \nEngagements clos le mardi 30 novembre à 20h00\, pas d’engagements sur la ligne
URL:https://www.cyclisme.bzh/epreuve-calendrier/chatelaudren-championnat-de-bretagne-de-cyclo-cross/
LOCATION:CHATELAUDREN\, CHATELAUDREN\, Bretagne\, France
ATTACH;FMTTYPE=image/jpeg:https://www.cyclisme.bzh/wp-content/uploads/2021/11/affiche-chpt-bzh-chatelaudren-web.jpg
END:VEVENT
BEGIN:VEVENT
DTSTART;VALUE=DATE:20211211
DTEND;VALUE=DATE:20211212
DTSTAMP:20260426T004733
CREATED:20211116T095105Z
LAST-MODIFIED:20211116T095131Z
UID:10001029-1639180800-1639267199@www.cyclisme.bzh
SUMMARY:Scaër
DESCRIPTION:Régularité : Dép 11h30 – Durée selon l’âge – Sans prix – Engagements 2 € \nMinimes H et F : Dép 12h30 – Durée 20′ – Gr 30/3 1er 15 € – Engagements 6.50 € \nCadets/Cadettes : Dép 13h30 – Durée 30′ – Gr 47/3 1er 24€ – Gr 47/3 1ère 24 € ps cadettes – Engagements 6.50 € \nJuniors/Dames 17ans et + /Espoirs/Seniors : Dép 15h – Juniors/Dames 17ans et + Durée 40′ – Gr 47/3 1er 24€ ps Junior H – Gr 47/3 ps Dames ans et +  – Espoirs/Seniors H : Durée 50′ –  Gr 228/10 1er 46 € – Engagements 8.50 €
URL:https://www.cyclisme.bzh/epreuve-calendrier/scaer/
LOCATION:SCAER\, SCAER\, Bretagne\, France
CATEGORIES:Ecole de cyclisme
END:VEVENT
BEGIN:VEVENT
DTSTART;VALUE=DATE:20211212
DTEND;VALUE=DATE:20211213
DTSTAMP:20260426T004733
CREATED:20211116T095812Z
LAST-MODIFIED:20211202T230858Z
UID:10001031-1639267200-1639353599@www.cyclisme.bzh
SUMMARY:Le Drennec Le Coat - Souvenir Nicole Simier
DESCRIPTION:Régularité : Dép 12h30 – Durée selon l’âge – sans prix – Engagements 2 € \nMinimes H et F : Dép 13h45 – Durée 20′ – sans prix – Engagements 6.50 € \nCadets/Cadettes/Juniors H/Dames 17ans et + : Dép 14h30 – Cadets\,cadettes : Durée 30′ – Gr 61/5 1er 21 € – Engagements 6.50 € – Juniors H\, Dames 17ans et + : Durée 40′ – Gr 76/5 1er 27€ ps juniors h – Gr 30/3 1ère 15 € ps dames – Engagements 8.50 € \nEspoirs/Seniors H : Dép 15h30 – Durée 50′ – Gr 320/15 1er 62 € – Engagements 8.50 € \n 
URL:https://www.cyclisme.bzh/epreuve-calendrier/le-drennec-le-coat-souvenir-nicole-simier/
LOCATION:LE DRENNEC
CATEGORIES:Ecole de cyclisme
ATTACH;FMTTYPE=image/jpeg:https://www.cyclisme.bzh/wp-content/uploads/2021/11/affiche2021-2.jpg
ORGANIZER;CN="VS Drennecois":MAILTO:amk29260@gmail.com
END:VEVENT
BEGIN:VEVENT
DTSTART;VALUE=DATE:20211212
DTEND;VALUE=DATE:20211213
DTSTAMP:20260426T004733
CREATED:20211126T152748Z
LAST-MODIFIED:20211126T153653Z
UID:10001035-1639267200-1639353599@www.cyclisme.bzh
SUMMARY:La Forêt Brandivy - coupe Conseil Départemental
DESCRIPTION:épreuve régularité cc : \ndépart : 13h15 – durée : selon âge \népreuve minimes : \ndépart : 14h – durée 20 mn – pas de pc \népreuve cadets/cadettes : \ndépart : 14h30 – durée : 30 mn – pc 61/5 \népreuve juniors H : \ndépart : 14h30 – durée : 40 mn – pc 76/5 \népreuve dames 17 ans et plus : \ndépart : 14h30 – durée : 40 mn – pas de pc \népreuve espoirs/seniors : \ndépart : 15h30 – durée : 50 mn – pc : 320/15 \nlongueur circuit  épreuves : 2.4 kms
URL:https://www.cyclisme.bzh/epreuve-calendrier/la-foret-brandivy-coupe-conseil-departemental/
LOCATION:La Forêt Brandivy\, France
CATEGORIES:Ecole de cyclisme
END:VEVENT
BEGIN:VEVENT
DTSTART;VALUE=DATE:20211218
DTEND;VALUE=DATE:20211219
DTSTAMP:20260426T004733
CREATED:20211124T161630Z
LAST-MODIFIED:20211216T112145Z
UID:10001034-1639785600-1639871999@www.cyclisme.bzh
SUMMARY:St Donan
DESCRIPTION:Minimes H et F : Dép 13h00– Durée 20′ – Sans prix – Engagements 6.50 € \nCadets/Cadettes : Dép 13h00– Durée 30′ – sans prix – Engagements 6.50 € \nJuniors H / Dames 17ans et + : Dép 14h30– Durée 40′ – Gr 91/10 ps juniors h – Sans prix Dames – Engagements 8.50 € \nEspoirs/Seniors H : Dép 14h30 – Durée 50′ – Gr 259/15  – Engagements 8.50 € \nModifications horaires en rouge le  16/12 au vu du faible nombre d’engagés
URL:https://www.cyclisme.bzh/epreuve-calendrier/st-donan/
LOCATION:Saint Donan
END:VEVENT
BEGIN:VEVENT
DTSTART;VALUE=DATE:20211219
DTEND;VALUE=DATE:20211220
DTSTAMP:20260426T004733
CREATED:20211116T093643Z
LAST-MODIFIED:20211208T073228Z
UID:10001028-1639872000-1639958399@www.cyclisme.bzh
SUMMARY:Landerneau Lanrinou - 3ème manche du Trophée Régional Camping-cars Jacqueline
DESCRIPTION:Minimes H/F  : Dép 11h30 – Durée 20′ – Gr 47/5 1er 18 € – Gr 28/3 1ère 15 € ps minimes filles  – Engagements 6.50 € \nCadets/Cadettes : Dép 12h15 – Durée 30′ – Gr 107/10 1er 20€ – Gr 47/5 1ère 18 € ps cadettes – Engagements 6.50 € \nJuniors H/ Dames 17ans et + : Dép 14h15 – Durée 40 ‘ – Gr 152/10 1er 30 € ps juniors h – Gr 91/5 1ère 29 € ps dames 17ans et + – Engagements 8.50 € \nEspoirs/Seniors H : Dép 15h30 – Durée 50′ – Gr 610/20 1er 122€ – Engagements 8.50 € \nEngagements clos le mardi 14 décembre à 22h00 \n  \nLire en plein écranAller au contenu PDF
URL:https://www.cyclisme.bzh/epreuve-calendrier/landerneau-lanrinou-3eme-manche-du-trophee-regional-camping-cars-jacqueline/
LOCATION:Landerneau Lanrinou
ATTACH;FMTTYPE=image/jpeg:https://www.cyclisme.bzh/wp-content/uploads/2021/11/dossier-CX-Lanrinou-1.jpg
ORGANIZER;CN="EC Landerneau":MAILTO:legalljerome.ecl@orange.fr
END:VEVENT
BEGIN:VEVENT
DTSTART;VALUE=DATE:20211226
DTEND;VALUE=DATE:20211227
DTSTAMP:20260426T004733
CREATED:20211203T085920Z
LAST-MODIFIED:20211203T090906Z
UID:10001037-1640476800-1640563199@www.cyclisme.bzh
SUMMARY:Camors - Coupe Conseil Départemental
DESCRIPTION:épreuve régularité : \ndépart : 13h15 – durée selon l’âge \népreuve minimes H/F : \ndépart : 14h – durée : 20 mn – pas de pc \népreuve cadets-cadettes : \ndépart : 14h30 – durée : 30 mn – pc : 61/5 \népreuve juniors H : \ndépart ; 14h30 – durée : 40 mn – pc 76/5 \népreuve dames 17 ans et + : \ndépart : 14h30 – durée : 40 mn – pas de pc \népreuve espoirs-seniors : \ndépart : 15h30 – durée : 50 mn – pc : 320/15 \nlongueur circuit pour les épreuves 2.6 kms \nPDJ : Joël Guillo
URL:https://www.cyclisme.bzh/epreuve-calendrier/camors-coupe-conseil-departemental/
LOCATION:CAMORS\, CAMORS\, Bretagne\, France
CATEGORIES:Ecole de cyclisme
END:VEVENT
BEGIN:VEVENT
DTSTART;VALUE=DATE:20220102
DTEND;VALUE=DATE:20220103
DTSTAMP:20260426T004733
CREATED:20211217T151543Z
LAST-MODIFIED:20211217T153410Z
UID:10001038-1641081600-1641167999@www.cyclisme.bzh
SUMMARY:La Chapelle Neuve
DESCRIPTION:régularité cc : \ndépart : 13 h – durée : selon l’âge \népreuve minimes H/G : \ndépart : 13h45 – durée : 20′ – pc : 28/3 \népreuve cadets/cadettes : \ndépart : 14h30 – durée : 30′ – pc : 61/5 \népreuve juniors H : \ndépart : 14h30 – durée : 40′ – pc : 76/5 \népreuve dames 17 ans et + : \ndépart : 14h30 – durée : 40′ – pc : 30/3 \népreuve espoirs/seniors : \ndépart : 15h30 – durée : 50′ – pc : 320/15 \n  \n 
URL:https://www.cyclisme.bzh/epreuve-calendrier/la-chapelle-neuve/
LOCATION:LA CHAPELLE NEUVE\, LA CHAPELLE NEUVE\, Bretagne\, France
CATEGORIES:Ecole de cyclisme
END:VEVENT
BEGIN:VEVENT
DTSTART;VALUE=DATE:20220116
DTEND;VALUE=DATE:20220117
DTSTAMP:20260426T004733
CREATED:20211224T100640Z
LAST-MODIFIED:20220112T102820Z
UID:10001007-1642291200-1642377599@www.cyclisme.bzh
SUMMARY:Séglien - finale coupe du conseil départemental 56
DESCRIPTION:épreuve régularité cc : \ndépart :  13 h – durée : selon l’âge \népreuve minimes H/F : \ndépart : 13h 45 – durée : 20′ – pas de pc \népreuve cadets/cadettes : \ndépart : 14h30 – durée :30′ – pc : 61/5 \népreuve juniors H : \ndépart : 14h30 – durée : 40′ – pc : 76/5 \népreuve dames 17 ans et + : \ndépart : 14h 30 – durée : 40′ – pas de pc \népreuve espoirs/seniors : \ndépart : 15h 30 – durée : 50 ‘ – pc : 320/15 \nPDJ : non communiqué
URL:https://www.cyclisme.bzh/epreuve-calendrier/seglien-finale-coupe-du-conseil-departemental-56/
LOCATION:SEGLIEN\, SEGLIEN\, Bretagne\, France
CATEGORIES:Ecole de cyclisme
END:VEVENT
BEGIN:VEVENT
DTSTART;VALUE=DATE:20220116
DTEND;VALUE=DATE:20220117
DTSTAMP:20260426T004733
CREATED:20211227T154537Z
LAST-MODIFIED:20211227T155027Z
UID:10001039-1642291200-1642377599@www.cyclisme.bzh
SUMMARY:Iffendic
DESCRIPTION:épreuve minimes : \ndépart : 13h – durée : 20′ – pc : 30/3 \népreuve cadets/cadettes : \ndépart : 14h – durée : 30′ – pc  cadets: 61/5 – pc cadettes : 47/3 \népreuve juniors H : \ndépart : 14 h – durée : 40′ – pc : 76/5 \népreuve dames 17 ans et + : \ndépart : 14h – durée : 40′ – pc : 47/3 \népreuve espoirs/seniors : \ndépart : 15h15 – durée : 50′ – pc : 320/15 \nPDJ : Jean Claude Merdrignac
URL:https://www.cyclisme.bzh/epreuve-calendrier/iffendic/
LOCATION:IFFENDIC\, France
END:VEVENT
BEGIN:VEVENT
DTSTART;VALUE=DATE:20220123
DTEND;VALUE=DATE:20220124
DTSTAMP:20260426T004733
CREATED:20220112T113749Z
LAST-MODIFIED:20220112T131659Z
UID:10001013-1642896000-1642982399@www.cyclisme.bzh
SUMMARY:Cruguel - Finale Trophée régional Camping-cars Jacqueline
DESCRIPTION:épreuve régularité : \ndépart : 10h45 – durée : suivant l’âge \népreuve minimes H/F: \ndépart : 12h45 – durée : 20′ – pas de pc \népreuve cadets/cadettes : \ndépart : 13h30 – durée : 30′ – pc cadets : 107/10 – pc cadettes : 30/3 \népreuve juniors H : \ndépart : 14h30 – durée : 40′ – pc : 228/10 \népreuve dames 17 ans et + : \ndépart :  14h30 – durée : 40′-  pc : 152/5 \népreuve seniors/espoirs : \ndépart : 15h30 – durée : 50′ – pc : 915/20 \nPDJ : Eric Puren \nles engagements seront clos le 18/01/2022 à 20h
URL:https://www.cyclisme.bzh/epreuve-calendrier/cruguel-finale-challenge-regional-trophee-camping-car-jacqueline/
LOCATION:CRUGUEL\, CRUGUEL\, Bretagne\, France
CATEGORIES:Ecole de cyclisme
ATTACH;FMTTYPE=image/jpeg:https://www.cyclisme.bzh/wp-content/uploads/2022/01/cruguel-2022.jpg
END:VEVENT
BEGIN:VEVENT
DTSTART;VALUE=DATE:20220130
DTEND;VALUE=DATE:20220131
DTSTAMP:20260426T004733
CREATED:20220107T113658Z
LAST-MODIFIED:20220118T124623Z
UID:10001010-1643500800-1643587199@www.cyclisme.bzh
SUMMARY:Chartres De Bretagne
DESCRIPTION:épreuve régularité : \ndépart : 13h – durée : selon l’âge \népreuve minimes : \ndépart : 13h45- durée : 20′ – pc : 107/10 \népreuve cadets/cadettes : \ndépart : 14h31 – durée : 30′ – pc : 138/10 \népreuve juniors H : \ndépart : 14h30 – durée : 40′ – pc : 183/10 \népreuve dames 17 ans et + : \ndépart : 14h30 – durée 40′ – pc : 76/5 \népreuve espoirs/seniors : \ndépart : 15h30 – durée : 50′ –  pc : 320/15 \nPDJ : Sandrine Guérin \n 
URL:https://www.cyclisme.bzh/epreuve-calendrier/chartres-de-bretagne/
LOCATION:CHARTRES DE BRETAGNE\, CHARTRES DE BRETAGNE\, Bretagne\, France
CATEGORIES:Ecole de cyclisme
ORGANIZER;CN="US VERN CYCLISME":MAILTO:jlguillard35@hotmail.fr
END:VEVENT
BEGIN:VEVENT
DTSTART;VALUE=DATE:20220206
DTEND;VALUE=DATE:20220207
DTSTAMP:20260426T004733
CREATED:20220113T112821Z
LAST-MODIFIED:20220118T124858Z
UID:10001044-1644105600-1644191999@www.cyclisme.bzh
SUMMARY:Vern sur Seiche
DESCRIPTION:épreuve régularité : \ndépart : 13h – durée : selon l’âge \népreuve minimes : \ndépart : 13h45 – durée : 20′ – pc : 107/10 \népreuve cadets/cadettes : \ndépart : 14h31 – durée : 30′ – pc : 138/10 \népreuve juniors H : \ndépart : 14h30 – durée : 40′ – pc : 183/10 \népreuve dames 17 ans et + : \ndépart : 14h30 – durée : 40′ – pc : 76/5 \népreuve espoirs/seniors : \ndépart : 15h30 – durée : 50′ – pc : 320/15 \nPDJ : Loic Pédron
URL:https://www.cyclisme.bzh/epreuve-calendrier/vern-sur-seiche-2/
LOCATION:VERN SUR SEICHE\, VERN SUR SEICHE\, Bretagne\, France
CATEGORIES:Ecole de cyclisme
END:VEVENT
BEGIN:VEVENT
DTSTART;VALUE=DATE:20220925
DTEND;VALUE=DATE:20220926
DTSTAMP:20260426T004733
CREATED:20220809T120053Z
LAST-MODIFIED:20220809T120053Z
UID:10001487-1664064000-1664150399@www.cyclisme.bzh
SUMMARY:Argentré Du Plessis
DESCRIPTION:Régularité route : \nDépart 11h30 – Circuit 1.20 km – Distance et durée selon âge \nEngagement 2€ \nMinimes H / F : \nDépart 12h15 – Circuit 2.25 km – Durée 20 minutes \nEngagement 6.50€ \nCadets / Cadettes : \nDépart 13h – Circuit 2.25 km – Durée 30 minutes \nEngagement 6.50€ \nPrix coureurs : 61 / 5 – 1er prix 21€ \nPrix cadettes : 30 / 3 – 1er prix 15€ \nDames 17 + / Juniors / Pass : \nDépart 14h15 – Circuit 2.25 km – Durée 40 minutes \nEngagement 8.50€ \nPrix coureurs : 76 / 5 – 1er prix 27€ \nPrix dames : 47 / 3 – 1er prix 24€ \nEspoirs  / Seniors : \nDépart 15h30 – Circuit 2.25 km – Durée 50 minutes \nEngagement 8.50€ \nPrix coureurs : 320 / 15 – 1er prix 62€ \nPrix espoirs : 61 / 5 – 1er prix 21€ \nEngagements : \nOuverture le 10/08/2022 à 18h \nFermeture le 22/09/2022 à 20h \nPrésident de jury : \nNon communiqué
URL:https://www.cyclisme.bzh/epreuve-calendrier/argentre-du-plessis-3/
LOCATION:ARGENTRE DU PLESSIS\, ARGENTRE DU PLESSIS\, Bretagne\, France
CATEGORIES:Ecole de cyclisme
ORGANIZER;CN="ASPTT RENNES CYCLISME (4335114)":MAILTO:aspttrennescycling@gmail.com
END:VEVENT
END:VCALENDAR