BEGIN:VCALENDAR
VERSION:2.0
PRODID:-//Comité de Bretagne de Cyclisme - ECPv6.15.20//NONSGML v1.0//EN
CALSCALE:GREGORIAN
METHOD:PUBLISH
X-WR-CALNAME:Comité de Bretagne de Cyclisme
X-ORIGINAL-URL:https://www.cyclisme.bzh
X-WR-CALDESC:Évènements pour Comité de Bretagne de Cyclisme
REFRESH-INTERVAL;VALUE=DURATION:PT1H
X-Robots-Tag:noindex
X-PUBLISHED-TTL:PT1H
BEGIN:VTIMEZONE
TZID:Europe/Paris
BEGIN:DAYLIGHT
TZOFFSETFROM:+0100
TZOFFSETTO:+0200
TZNAME:CEST
DTSTART:20230326T010000
END:DAYLIGHT
BEGIN:STANDARD
TZOFFSETFROM:+0200
TZOFFSETTO:+0100
TZNAME:CET
DTSTART:20231029T010000
END:STANDARD
BEGIN:DAYLIGHT
TZOFFSETFROM:+0100
TZOFFSETTO:+0200
TZNAME:CEST
DTSTART:20240331T010000
END:DAYLIGHT
BEGIN:STANDARD
TZOFFSETFROM:+0200
TZOFFSETTO:+0100
TZNAME:CET
DTSTART:20241027T010000
END:STANDARD
BEGIN:DAYLIGHT
TZOFFSETFROM:+0100
TZOFFSETTO:+0200
TZNAME:CEST
DTSTART:20250330T010000
END:DAYLIGHT
BEGIN:STANDARD
TZOFFSETFROM:+0200
TZOFFSETTO:+0100
TZNAME:CET
DTSTART:20251026T010000
END:STANDARD
END:VTIMEZONE
BEGIN:VEVENT
DTSTART;VALUE=DATE:20240702
DTEND;VALUE=DATE:20240703
DTSTAMP:20260420T173309
CREATED:20240603T092026Z
LAST-MODIFIED:20240627T150943Z
UID:10002545-1719878400-1719964799@www.cyclisme.bzh
SUMMARY:Plouha - Grand prix cycliste de la St Pierre - Trophée Loïc Michot - semi-nocturne
DESCRIPTION:Elite + Open 1-2-3 + Access 1-2 H/F: \n\ndépart: 19h30\n22 tours x 3.9 km = 85.8 km\nPrix coureurs: 610/20\, 1er 122€\nEngagements: 9€\n\n  \nOuverture des engagements: le 03/06/2024 à 18h\, clôture le lundi 01/07/2024 à 12h \nRenseignements: GOUEDARD Michel – gouedard-monique@wanadoo.fr / Port: 06.38.94.46.18
URL:https://www.cyclisme.bzh/epreuve-calendrier/plouha-semi-nocturne/
LOCATION:PLOUHA\, PLOUHA\, Bretagne\, France
CATEGORIES:Access 1,Access 2,Elite,Open
ATTACH;FMTTYPE=image/jpeg:https://www.cyclisme.bzh/wp-content/uploads/2024/06/Affiche-St-Pierre-2024.jpg
ORGANIZER;CN="UC BRIOCHINE (4322028)":MAILTO:unioncyclistebriochine@gmail.com
END:VEVENT
END:VCALENDAR