BEGIN:VCALENDAR
VERSION:2.0
PRODID:-//Comité de Bretagne de Cyclisme - ECPv6.15.20//NONSGML v1.0//EN
CALSCALE:GREGORIAN
METHOD:PUBLISH
X-ORIGINAL-URL:https://www.cyclisme.bzh
X-WR-CALDESC:Évènements pour Comité de Bretagne de Cyclisme
REFRESH-INTERVAL;VALUE=DURATION:PT1H
X-Robots-Tag:noindex
X-PUBLISHED-TTL:PT1H
BEGIN:VTIMEZONE
TZID:Europe/Paris
BEGIN:DAYLIGHT
TZOFFSETFROM:+0100
TZOFFSETTO:+0200
TZNAME:CEST
DTSTART:20230326T010000
END:DAYLIGHT
BEGIN:STANDARD
TZOFFSETFROM:+0200
TZOFFSETTO:+0100
TZNAME:CET
DTSTART:20231029T010000
END:STANDARD
BEGIN:DAYLIGHT
TZOFFSETFROM:+0100
TZOFFSETTO:+0200
TZNAME:CEST
DTSTART:20240331T010000
END:DAYLIGHT
BEGIN:STANDARD
TZOFFSETFROM:+0200
TZOFFSETTO:+0100
TZNAME:CET
DTSTART:20241027T010000
END:STANDARD
BEGIN:DAYLIGHT
TZOFFSETFROM:+0100
TZOFFSETTO:+0200
TZNAME:CEST
DTSTART:20250330T010000
END:DAYLIGHT
BEGIN:STANDARD
TZOFFSETFROM:+0200
TZOFFSETTO:+0100
TZNAME:CET
DTSTART:20251026T010000
END:STANDARD
END:VTIMEZONE
BEGIN:VEVENT
DTSTART;VALUE=DATE:20240628
DTEND;VALUE=DATE:20240701
DTSTAMP:20260420T141308
CREATED:20240522T141204Z
LAST-MODIFIED:20240522T141456Z
UID:10002523-1719532800-1719791999@www.cyclisme.bzh
SUMMARY:La Sportbreizh U19 - épreuve UCI
DESCRIPTION:U19 H: \nEngagement: 30€ \n6 coureurs par équipe + 3 remplaçants \n1ère étape – 28/06/2024 \n\ndépart: 13h30\n94.8 km en ligne\nPrix coureurs: 910/20\, 1er 175€\n\n2ème étape – 29/06/2024 \n\ndépart: 13h30\n73.5 km en ligne + 5 tours x 5.85 km = 102.75 km\nPrix coureurs: 910/20\, 1er 175€\n\n3ème étape – 30/06/2024  \n\ndépart: 13h30\n10 x 11.6 km = 116 km\nPrix coureurs: 910/20\, 1er 175€\n\nClassement général: 546/20\, 1er 120€ \n  \nClôture des engagements: le lundi 24/06/2024 à 20h \nRenseignements: QUENTRIC Thibault – 06.49.09.03.96
URL:https://www.cyclisme.bzh/epreuve-calendrier/la-sportbreizh-u19-epreuve-uci/
LOCATION:Plougastel Daoulas
CATEGORIES:U19
ORGANIZER;CN="TEAM SPORTBREIZH (4329476)":MAILTO:gurvan.musset@sportbreizh.com
END:VEVENT
BEGIN:VEVENT
DTSTART;VALUE=DATE:20240630
DTEND;VALUE=DATE:20240701
DTSTAMP:20260420T141308
CREATED:20240422T142203Z
LAST-MODIFIED:20240422T142203Z
UID:10002446-1719705600-1719791999@www.cyclisme.bzh
SUMMARY:La Gacilly
DESCRIPTION:Access 1-2-3-4 H: \n\n2 départs:\n\n– Access 1-2: 13h00 – 14 tours x 4.9 km = 68.6 km \n– Access 3-4: 13h01 – 13 tours x 4.9 km = 63.7 km \n\nEngagements: 9€\n\n  \nOpen 1-2-3 + Access 1 H: \n\ndépart: 15h30\n21 tours x 4.9 km = 102.9 km\nPrix coureurs: 335/15\, 1er 65€\nEngagements: 9€\n\n  \nOuverture des engagements: le 22/04/2024 à 18h\, clôture le jeudi 27/06/2024 à 20h \nRenseignements: JOUAN Ludovic – e-mail: jouan.ludo@gmail.com / Port: 06.73.00.71.36
URL:https://www.cyclisme.bzh/epreuve-calendrier/la-gacilly/
LOCATION:LA GACILLY\, LA GACILLY\, Bretagne\, France
CATEGORIES:Access 1,Access 2,Access 3,Access 4,Open 1,Open 2,Open 3
END:VEVENT
BEGIN:VEVENT
DTSTART;VALUE=DATE:20240630
DTEND;VALUE=DATE:20240701
DTSTAMP:20260420T141308
CREATED:20240521T093504Z
LAST-MODIFIED:20240607T073959Z
UID:10002512-1719705600-1719791999@www.cyclisme.bzh
SUMMARY:Pluneret - Manche Océan (Fédérale Elite + Open 1) et sa course d'attente
DESCRIPTION:Open 2-3 + Access 1-2-3-4 H – Course d’attente \n\ndépart: 13h30\n15 tours x 4.7 km = 70.5 km\nPrix coureurs: 259/15\, 1er 50€\nEngagements: 9€\n\n  \nElite + Open 1 – Fédérale \n\ndépart: 13h30\n103.9 km en ligne + 10 tours x 4.7 km = 150.5 km\nPrix coureurs: 1220/25\, 1er 197€\nPrix spéciaux Open 1: 152/5\, 1er 54€\nEngagements: 9€\n\n  \nOuverture des engagements: le 21/05/2024 à 18h\, clôture le jeudi 27/06/2024 à 20h \nRenseignements: LE FALHER Jean-Pierre – e-mail: organisations@uc-auray.com / Port: 06.98.77.81.14 \n  \nLire en plein écranAller au contenu PDF
URL:https://www.cyclisme.bzh/epreuve-calendrier/pluneret-manche-ocean-federale-elite-open-1-et-sa-course-dattente/
LOCATION:PLUNERET\, France
CATEGORIES:Elite,Open 1,Open 2,Open 3
ATTACH;FMTTYPE=image/png:https://www.cyclisme.bzh/wp-content/uploads/2024/05/AFFICHE_MancheOcean.png
END:VEVENT
BEGIN:VEVENT
DTSTART;VALUE=DATE:20240630
DTEND;VALUE=DATE:20240701
DTSTAMP:20260420T141308
CREATED:20240521T134739Z
LAST-MODIFIED:20240521T134739Z
UID:10002517-1719705600-1719791999@www.cyclisme.bzh
SUMMARY:Hennebont - Championnat du Morbihan de BMX 2024
DESCRIPTION:Ouverture des engagements: le 21/05/2024 à 18h\, clôture le mercredi 26/06/2024 à 20h \nRenseignements: BERNAUDAT Aurélien – aurelienbernaudat56@gmail.com / Port: 06.50.86.82.75 \n  \nLire en plein écranAller au contenu PDF
URL:https://www.cyclisme.bzh/epreuve-calendrier/hennebont-championnat-du-morbihan-de-bmx-2024/
LOCATION:HENNEBONT\, HENNEBONT\, Bretagne\, France
CATEGORIES:Access,Elite,Open,U11,U13,U15,U17,U7,U9
ATTACH;FMTTYPE=application/pdf:https://www.cyclisme.bzh/wp-content/uploads/2024/05/Affiche-bmx-coupe-morbihan-HENNEBONT-2024-v3_240518_045737.pdf
ORGANIZER;CN="HENNEBONT BMX (4356538)":MAILTO:bmxh.secr@free.fr
END:VEVENT
BEGIN:VEVENT
DTSTART;VALUE=DATE:20240630
DTEND;VALUE=DATE:20240701
DTSTAMP:20260420T141308
CREATED:20240521T145727Z
LAST-MODIFIED:20240604T084409Z
UID:10002518-1719705600-1719791999@www.cyclisme.bzh
SUMMARY:Liffré - Coupe interrégionale Grand Ouest de VTT Trial - 5ème manche CIRO - Championnat d'Ile et Vilaine
DESCRIPTION:A partir de 9h30 – site de la Croisette\n\nOuverture des engagements: le 21/05/2024 à 18h\, clôture le mercredi 26/06/2024 à 20h \nRenseignements: \n\nEON Alain – e-mail: alaineon@sfr.fr / Port: 06.31.65.65.84\nLe jour de l’épreuve: LOUESSARD Daniel – 06.79.89.91.88\n\n 
URL:https://www.cyclisme.bzh/epreuve-calendrier/liffre-coupe-interregionale-de-vtt-trial-2/
LOCATION:LIFFRE\, France
CATEGORIES:Access,Elite,Epreuve de Masse VTT,Open,U11,U13,U15,U17,U9
ATTACH;FMTTYPE=image/jpeg:https://www.cyclisme.bzh/wp-content/uploads/2024/05/image0-scaled.jpeg
END:VEVENT
BEGIN:VEVENT
DTSTART;VALUE=DATE:20240630
DTEND;VALUE=DATE:20240701
DTSTAMP:20260420T141308
CREATED:20240527T123221Z
LAST-MODIFIED:20240527T123221Z
UID:10002532-1719705600-1719791999@www.cyclisme.bzh
SUMMARY:Locminé - Butte de Quistinic - Coupe de Bretagne VTT XC #10
DESCRIPTION:9h15: U9 H/F – 7€\n9h35: U11 H/F – 7€\n10h10: U13 H/F – 7€\n11h00: U15 H/F – 11€\n12h00: Masters 40-50 H – 12.50€\n12h02: Départementaux H – 12.50€\n12h04: Femmes 17 ans et + – 12.50€\n12h04: U17 F – 11€\n14h00: U17 H – 11€\n15h30: Hommes 19 ans et + – 12.50€\n15h30: U19 H – 12.50€\n\n  \nOuverture des engagements: le 27/05/2024 à 18h\, clôture le jeudi 27/06/2024 à 20h \nRenseignements: GILLARD Romuald – dynamic.bike56@orange.fr / Port: 06.99.73.17.06
URL:https://www.cyclisme.bzh/epreuve-calendrier/locmine-butte-de-quistinic-coupe-de-bretagne-vtt-xc-10/
LOCATION:Locminé
CATEGORIES:Access,Elite,Elite Pro,Epreuve de Masse VTT,Femmes 17 ans et +,Masters,Open,U11,U13,U15,U17,U19,U9
END:VEVENT
BEGIN:VEVENT
DTSTART;VALUE=DATE:20240630
DTEND;VALUE=DATE:20240701
DTSTAMP:20260420T141308
CREATED:20240612T130805Z
LAST-MODIFIED:20240628T082742Z
UID:10002565-1719705600-1719791999@www.cyclisme.bzh
SUMMARY:Sainte Sève - Challenge Morlaix Communauté Groupama
DESCRIPTION:Attention: modification des horaires pour les épreuves féminines \n  \nAccess 1-2-3-4 H: \n\n2 départs:\n\n– Access 1-2: 10h00 – 12 tours x 4.62 km = 55.44 km \n– Access 3-4: 10h02 – 10 tours x 4.62 km = 46.2 km \n\nEngagements: 9€\n\n  \nFemmes 17 ans et +: \n\ndépart: 12h30\n15 tours x 4.62 km = 69.3 km\nPrix coureurs: 244/15\, 1ère 49€\nPrix spéciaux U19 F: 107/5\, 1ère 35€\nClassement général U19 F: 138/5\, 1ère 49€\nClassement général Femmes 17 ans et +: 168/5\, 1ère 68€\nClassement du meilleur grimpeur: 107/5\, 1ère 35€\nEngagements: 9€\n\n  \nU15 F + U17 F: \n\ndépart: 12h32\nU15 F: 8 tours x 4.62 km = 36.96 km\nU17 F: 11 tours x 4.62 km = 50.82 km\nPrix coureurs: 107/10\, 1ère 20€\nPrix spéciaux U15 F: 47/5\, 1ère 18€\nClassement général U15 F: 69/5\, 1ère 24€\nClassement général U17 F: 91/5\, 1ère 29€\nClassement du meilleur grimpeur: 53/5\, 1ère 21€\nEngagements: 6.50€\n\n  \nOuverture des engagements: le 12/06/2024 à 18h\, clôture le jeudi 27/06/2024 à 20h \nRenseignements: DENIEL Loïc – e-mail: team.yann.tbfo@gmail.com / Port: 06.09.41.12.38
URL:https://www.cyclisme.bzh/epreuve-calendrier/sainte-seve-challenge-morlaix-communaute-groupama/
LOCATION:SAINTE SEVE\, 29600\, France
CATEGORIES:Access 1,Access 2,Access 3,Access 4,Femmes 17 ans et +,U15 F,U17 F
ORGANIZER;CN="TEAM YANN TBFO":MAILTO:team.yann.tfbo@gmail.com
END:VEVENT
END:VCALENDAR