BEGIN:VCALENDAR
VERSION:2.0
PRODID:-//Comité de Bretagne de Cyclisme - ECPv6.15.20//NONSGML v1.0//EN
CALSCALE:GREGORIAN
METHOD:PUBLISH
X-WR-CALNAME:Comité de Bretagne de Cyclisme
X-ORIGINAL-URL:https://www.cyclisme.bzh
X-WR-CALDESC:Évènements pour Comité de Bretagne de Cyclisme
REFRESH-INTERVAL;VALUE=DURATION:PT1H
X-Robots-Tag:noindex
X-PUBLISHED-TTL:PT1H
BEGIN:VTIMEZONE
TZID:Europe/Paris
BEGIN:DAYLIGHT
TZOFFSETFROM:+0100
TZOFFSETTO:+0200
TZNAME:CEST
DTSTART:20230326T010000
END:DAYLIGHT
BEGIN:STANDARD
TZOFFSETFROM:+0200
TZOFFSETTO:+0100
TZNAME:CET
DTSTART:20231029T010000
END:STANDARD
BEGIN:DAYLIGHT
TZOFFSETFROM:+0100
TZOFFSETTO:+0200
TZNAME:CEST
DTSTART:20240331T010000
END:DAYLIGHT
BEGIN:STANDARD
TZOFFSETFROM:+0200
TZOFFSETTO:+0100
TZNAME:CET
DTSTART:20241027T010000
END:STANDARD
BEGIN:DAYLIGHT
TZOFFSETFROM:+0100
TZOFFSETTO:+0200
TZNAME:CEST
DTSTART:20250330T010000
END:DAYLIGHT
BEGIN:STANDARD
TZOFFSETFROM:+0200
TZOFFSETTO:+0100
TZNAME:CET
DTSTART:20251026T010000
END:STANDARD
END:VTIMEZONE
BEGIN:VEVENT
DTSTART;VALUE=DATE:20240628
DTEND;VALUE=DATE:20240701
DTSTAMP:20260420T140503
CREATED:20240522T141204Z
LAST-MODIFIED:20240522T141456Z
UID:10002523-1719532800-1719791999@www.cyclisme.bzh
SUMMARY:La Sportbreizh U19 - épreuve UCI
DESCRIPTION:U19 H: \nEngagement: 30€ \n6 coureurs par équipe + 3 remplaçants \n1ère étape – 28/06/2024 \n\ndépart: 13h30\n94.8 km en ligne\nPrix coureurs: 910/20\, 1er 175€\n\n2ème étape – 29/06/2024 \n\ndépart: 13h30\n73.5 km en ligne + 5 tours x 5.85 km = 102.75 km\nPrix coureurs: 910/20\, 1er 175€\n\n3ème étape – 30/06/2024  \n\ndépart: 13h30\n10 x 11.6 km = 116 km\nPrix coureurs: 910/20\, 1er 175€\n\nClassement général: 546/20\, 1er 120€ \n  \nClôture des engagements: le lundi 24/06/2024 à 20h \nRenseignements: QUENTRIC Thibault – 06.49.09.03.96
URL:https://www.cyclisme.bzh/epreuve-calendrier/la-sportbreizh-u19-epreuve-uci/
LOCATION:Plougastel Daoulas
CATEGORIES:U19
ORGANIZER;CN="TEAM SPORTBREIZH (4329476)":MAILTO:gurvan.musset@sportbreizh.com
END:VEVENT
BEGIN:VEVENT
DTSTART;VALUE=DATE:20240629
DTEND;VALUE=DATE:20240630
DTSTAMP:20260420T140503
CREATED:20240517T125607Z
LAST-MODIFIED:20240517T125607Z
UID:10002509-1719619200-1719705599@www.cyclisme.bzh
SUMMARY:Ploudaniel - Souvenir Yvon Marrec
DESCRIPTION:Open 1-2-3 + Access 1 H/F: \n\ndépart: 17h30\n17 tours x 5.51 km = 93.67 km\nPrix coureurs: 518/20\, 1er 102€\nPrix spéciaux Open 3 et Access 1: 91/10\, 1er 17€\nEngagements: 9€\n\n  \nOuverture des engagements: le 17/05/2024 à 18h\, clôture le mercredi 26/06/2024 à 20h \nRenseignements: KERBIRIOU Laurence – e-mail: kerbiriou.laurence777@gmail.com / Tél: 02.98.68.08.12
URL:https://www.cyclisme.bzh/epreuve-calendrier/ploudaniel-souvenir-yvon-marrec-2/
LOCATION:PLOUDANIEL\, PLOUDANIEL\, Bretagne\, France
CATEGORIES:Access 1,Open 1,Open 2,Open 3
ORGANIZER;CN="VS DRENNECOIS (4329116)":MAILTO:philippe.tel5929@orange.fr
END:VEVENT
BEGIN:VEVENT
DTSTART;VALUE=DATE:20240629
DTEND;VALUE=DATE:20240630
DTSTAMP:20260420T140503
CREATED:20240521T090546Z
LAST-MODIFIED:20240621T070610Z
UID:10002511-1719619200-1719705599@www.cyclisme.bzh
SUMMARY:St Seglin
DESCRIPTION:U17 H/F: \n\ndépart: 13h30\n8 tours x 6.5 km = 52 km\nPrix coureurs: 138/10\, 1er 28€\nEngagements: 6.50€\n\n  \nU15 H/F + U17 F: \n\ndépart: 13h32\n5 tours x 6.5 km = 32.5 km\nPrix coureurs: 107/10\, 1er 20€\nEngagements: 6.50€\n\n  \nOpen 3 + Access 1-2-3-4 H/F: \n\n2 départs:\n\n– Open 3 + Access 1-2: 15h30 – 12 tours x 6.5 km = 78 km \n– Access 3-4: 15h32 – 10 tours x 6.5 km = 65 km \n\nEngagements: 9€\n\n  \nOuverture des engagements: le 21/05/2024 à 18h\, clôture le mercredi 26/06/2024 à 20h \nRenseignements: GICQUEL Pierre – e-mail: gicquelpierre@orange.fr / Port: 06.83.08.95.83
URL:https://www.cyclisme.bzh/epreuve-calendrier/st-seglin-2/
LOCATION:ST SEGLIN\, France
CATEGORIES:Access 1,Access 2,Access 3,Access 4,Open 3,U15,U17
ATTACH;FMTTYPE=application/pdf:https://www.cyclisme.bzh/wp-content/uploads/2024/05/Affiche-2024-St-SEGLIN.pdf
ORGANIZER;CN="REDON OC (4335040)":MAILTO:gicquelpierre@orange.fr
END:VEVENT
BEGIN:VEVENT
DTSTART;VALUE=DATE:20240629
DTEND;VALUE=DATE:20240630
DTSTAMP:20260420T140503
CREATED:20240524T124424Z
LAST-MODIFIED:20240524T124548Z
UID:10002526-1719619200-1719705599@www.cyclisme.bzh
SUMMARY:Pordic - Vélodrome - 1ère manche de la Coupe de Bretagne
DESCRIPTION:Début des épreuves 13h30 \nU15 H/F et U17 H/F: \n\nScratch:\n\n– U15 H: 28/3\, 1er 15€ \n– U15/U17 F: 28/3\, 1ère 15€ \n– U17 H: 28/3\, 1er 15€ \n\nCourse aux points:\n\n– U15 H: 28/3\, 1er 15€ \n– U15/U17 F: 28/3\, 1ère 15€ \n– U17 H: 28/3\, 1er 15€ \n\nEngagements: 6.50€\n\n  \n17 ans et + H/F: \n\nKeirin:\n\n– Open-Access H: 47/5\, 1er 18€ \n– U19 H: 47/5\, 1er 18€ \n– Open-Access F: 47/5\, 1ère 18€ \n\nCourse aux points:\n\n– Open-Access H: 47/5\, 1er 18€ \n– U19 H: 47/5\, 1er 18€ \n– Open-Access F: 47/5\, 1ère 18€ \n\nEngagements: 9€\n\n  \nOuverture des engagements: le 24/05/2024 à 18h\, clôture le mercredi 26/06/2024 à 20h \nRenseignements: QUEMARD Jacques – e-mail: jacques.quemard@orange.fr / Port: 06.87.51.92.73
URL:https://www.cyclisme.bzh/epreuve-calendrier/pordic-velodrome-1ere-manche-de-la-coupe-de-bretagne/
LOCATION:PORDIC VELODROME\, PORDIC VELODROME\, Bretagne\, France
CATEGORIES:Access,Elite,Open,U15,U17
ORGANIZER;CN="EP PORDIC AADP":MAILTO:jacques.quemard@orange.fr
END:VEVENT
END:VCALENDAR