BEGIN:VCALENDAR
VERSION:2.0
PRODID:-//Comité de Bretagne de Cyclisme - ECPv6.15.20//NONSGML v1.0//EN
CALSCALE:GREGORIAN
METHOD:PUBLISH
X-ORIGINAL-URL:https://www.cyclisme.bzh
X-WR-CALDESC:Évènements pour Comité de Bretagne de Cyclisme
REFRESH-INTERVAL;VALUE=DURATION:PT1H
X-Robots-Tag:noindex
X-PUBLISHED-TTL:PT1H
BEGIN:VTIMEZONE
TZID:Europe/Paris
BEGIN:DAYLIGHT
TZOFFSETFROM:+0100
TZOFFSETTO:+0200
TZNAME:CEST
DTSTART:20230326T010000
END:DAYLIGHT
BEGIN:STANDARD
TZOFFSETFROM:+0200
TZOFFSETTO:+0100
TZNAME:CET
DTSTART:20231029T010000
END:STANDARD
BEGIN:DAYLIGHT
TZOFFSETFROM:+0100
TZOFFSETTO:+0200
TZNAME:CEST
DTSTART:20240331T010000
END:DAYLIGHT
BEGIN:STANDARD
TZOFFSETFROM:+0200
TZOFFSETTO:+0100
TZNAME:CET
DTSTART:20241027T010000
END:STANDARD
BEGIN:DAYLIGHT
TZOFFSETFROM:+0100
TZOFFSETTO:+0200
TZNAME:CEST
DTSTART:20250330T010000
END:DAYLIGHT
BEGIN:STANDARD
TZOFFSETFROM:+0200
TZOFFSETTO:+0100
TZNAME:CET
DTSTART:20251026T010000
END:STANDARD
END:VTIMEZONE
BEGIN:VEVENT
DTSTART;VALUE=DATE:20240626
DTEND;VALUE=DATE:20240627
DTSTAMP:20260420T215829
CREATED:20240517T115758Z
LAST-MODIFIED:20240517T115758Z
UID:10002507-1719360000-1719446399@www.cyclisme.bzh
SUMMARY:St Maden - Trophée Dinan Agglomération
DESCRIPTION:Access 1-2-3-4 H/F: \n\ndépart: 19h00\n15 tours x 2.9 km = 43.5 km\nEngagements: 9€\n\n  \nOpen 1-2-3 H: \n\ndépart: 20h30\n21 tours x 2.9 km = 60.9 km\nPrix coureurs: 366/15\, 1er 73€\nEngagements: 9€\n\n  \nOuverture des engagements: le 17/05/2024 à 18h\, clôture le lundi 24/06/2024 à 20h \nRenseignements: LEBRAS Céline – patrice.lebras@wanadoo.fr / Port: 06.32.29.94.52
URL:https://www.cyclisme.bzh/epreuve-calendrier/st-maden-trophee-dinan-agglomeration/
LOCATION:ST MADEN\, 22350\, France
CATEGORIES:Access 1,Access 2,Access 3,Access 4,Open 1,Open 2,Open 3
ORGANIZER;CN="TEAM MEGRIT (4322459)":MAILTO:patrice.lebras@wanadoo.fr
END:VEVENT
BEGIN:VEVENT
DTSTART;VALUE=DATE:20240626
DTEND;VALUE=DATE:20240627
DTSTAMP:20260420T215829
CREATED:20240530T125615Z
LAST-MODIFIED:20240619T064853Z
UID:10002543-1719360000-1719446399@www.cyclisme.bzh
SUMMARY:Lanester - Grand Prix Cycliste de la Ville - semi-nocturne
DESCRIPTION:Elite + Open 1-2-3 + Access 1 H/F: \n\ndépart: 19h45\n23 tours x 3.5 km = 80.5 km\nPrix coureurs: 610/20\, 1er 122€\nPrix spéciaux U19: 91/5\, 1er 29€\nEngagements: 9€\n\n  \nOuverture des engagements: le 30/05/2024 à 18h\, clôture le lundi 24/06/2024 à 20h \nRenseignements: LE CROM Stéphane – e-mail: contact@aclanester56.com
URL:https://www.cyclisme.bzh/epreuve-calendrier/lanester-grand-prix-cycliste-de-la-ville-semi-nocturne/
LOCATION:Lanester\, France
CATEGORIES:Access 1,Elite,Open
ATTACH;FMTTYPE=image/jpeg:https://www.cyclisme.bzh/wp-content/uploads/2024/05/Affiche-GP-Lanester-2024-scaled.jpg
ORGANIZER;CN="AC LANESTER 56 (4356338)":MAILTO:contact@aclanester56.com
END:VEVENT
END:VCALENDAR