BEGIN:VCALENDAR
VERSION:2.0
PRODID:-//Comité de Bretagne de Cyclisme - ECPv6.15.20//NONSGML v1.0//EN
CALSCALE:GREGORIAN
METHOD:PUBLISH
X-ORIGINAL-URL:https://www.cyclisme.bzh
X-WR-CALDESC:Évènements pour Comité de Bretagne de Cyclisme
REFRESH-INTERVAL;VALUE=DURATION:PT1H
X-Robots-Tag:noindex
X-PUBLISHED-TTL:PT1H
BEGIN:VTIMEZONE
TZID:Europe/Paris
BEGIN:DAYLIGHT
TZOFFSETFROM:+0100
TZOFFSETTO:+0200
TZNAME:CEST
DTSTART:20230326T010000
END:DAYLIGHT
BEGIN:STANDARD
TZOFFSETFROM:+0200
TZOFFSETTO:+0100
TZNAME:CET
DTSTART:20231029T010000
END:STANDARD
BEGIN:DAYLIGHT
TZOFFSETFROM:+0100
TZOFFSETTO:+0200
TZNAME:CEST
DTSTART:20240331T010000
END:DAYLIGHT
BEGIN:STANDARD
TZOFFSETFROM:+0200
TZOFFSETTO:+0100
TZNAME:CET
DTSTART:20241027T010000
END:STANDARD
BEGIN:DAYLIGHT
TZOFFSETFROM:+0100
TZOFFSETTO:+0200
TZNAME:CEST
DTSTART:20250330T010000
END:DAYLIGHT
BEGIN:STANDARD
TZOFFSETFROM:+0200
TZOFFSETTO:+0100
TZNAME:CET
DTSTART:20251026T010000
END:STANDARD
END:VTIMEZONE
BEGIN:VEVENT
DTSTART;VALUE=DATE:20240623
DTEND;VALUE=DATE:20240624
DTSTAMP:20260420T155116
CREATED:20240411T132850Z
LAST-MODIFIED:20240411T133032Z
UID:10002417-1719100800-1719187199@www.cyclisme.bzh
SUMMARY:Rostrenen - Coupe de Bretagne de BMX #6
DESCRIPTION:Ouverture des engagements: le 11/04/2024 à 18h\, clôture le jeudi 20/06/2024 à 20h \nRenseignements: LE DREFF Christophe – e-mail: christophe.le-dreff@orange.fr / Port: 06.81.76.84.56 \n  \nLire en plein écranAller au contenu PDF
URL:https://www.cyclisme.bzh/epreuve-calendrier/rostrenen-coupe-de-bretagne-de-bmx-6/
LOCATION:ROSTRENEN\, ROSTRENEN\, Bretagne\, France
CATEGORIES:Access,Elite,Open,U11,U13,U15,U17,U7,U9
ATTACH;FMTTYPE=image/png:https://www.cyclisme.bzh/wp-content/uploads/2024/04/6eme-manche-de-la-coupe-de-bretagne.png
END:VEVENT
BEGIN:VEVENT
DTSTART;VALUE=DATE:20240623
DTEND;VALUE=DATE:20240624
DTSTAMP:20260420T155117
CREATED:20240405T131306Z
LAST-MODIFIED:20240522T111432Z
UID:10002389-1719100800-1719187199@www.cyclisme.bzh
SUMMARY:Plouguernével - Championnat des Côtes d'Armor de l'Avenir - U15 / U17 / U19
DESCRIPTION:U15 H/F: \n\ndépart: 13h30\n4 tours x 7 km = 28 km\nEngagements: 6.50€\n\n  \nU17 H/F: \n\ndépart: 10h00\n8 tours x 7 km = 56 km\nEngagements: 6.50€\n\n  \nU19 H: \n\ndépart: 15h00\n14 tours x 7 km = 98 km\nEngagements: 9€\n\n  \nOuverture des engagements: le 05/04/2024 à 18h\, clôture le jeudi 20/06/2024 à 20h \nRenseignements: ROBIN Jean Marc – e-mail: j.robin@cyclisme.bzh / Port: 06.07.62.72.38 \n  \nLire en plein écranAller au contenu PDF
URL:https://www.cyclisme.bzh/epreuve-calendrier/plouguernevel-championnat-des-cotes-darmor-de-lavenir-u15-u17-u19/
LOCATION:PLOUGUERNEVEL\, PLOUGUERNEVEL\, Bretagne\, France
CATEGORIES:U15,U17,U19
END:VEVENT
BEGIN:VEVENT
DTSTART;VALUE=DATE:20240623
DTEND;VALUE=DATE:20240624
DTSTAMP:20260420T155117
CREATED:20240411T124602Z
LAST-MODIFIED:20240411T124602Z
UID:10002416-1719100800-1719187199@www.cyclisme.bzh
SUMMARY:Hillion - Trophée Régional Jeunes Vététistes TRIAL / XC #5
DESCRIPTION:Lieu de l’épreuve: Stade VTT du Cré – 22120 HILLION \n\ndépart: 9h30\nU9 H/F à U13 H/F: 5€\nU15 H/F et U17 H/F: 7€\n\n  \nOuverture des engagements: le 11/04/2024 à 18h\, clôture le jeudi 20/06/2024 à 20h \nRenseignements: LEBOUCHER Jean-Noël – e-mail: vttcotesdarmorhillion@gmail.com / Port: 06.87.76.70.08
URL:https://www.cyclisme.bzh/epreuve-calendrier/hillion-trophee-regional-jeunes-vetetistes-trial-xc-5/
LOCATION:HILLION\, HILLION\, Bretagne\, France
CATEGORIES:U11,U13,U15,U17,U9
ORGANIZER;CN="VTT COTES D'ARMOR (4322233)":MAILTO:vttcotesdarmorhillion@gmail.com
END:VEVENT
BEGIN:VEVENT
DTSTART;VALUE=DATE:20240623
DTEND;VALUE=DATE:20240624
DTSTAMP:20260420T155117
CREATED:20240422T121655Z
LAST-MODIFIED:20240510T094406Z
UID:10002443-1719100800-1719187199@www.cyclisme.bzh
SUMMARY:Sulniac - Championnat du Morbihan de l'Avenir
DESCRIPTION:U17 H \n\ndépart: 9h30\n10 tours x 7.34 km = 73.4 km\nEngagements: 6.50€\n\n  \nU15 F + U17 F: \n\ndépart: 9h30\n7 tours x 7.34 km = 51.38 km\nEngagements: 6.50€\n\n  \nU15 H: \n\ndépart: 13h30\n5 tours x 7.34 km = 36.7 km\nEngagements: 6.50€\n\n  \nU19 H: \n\ndépart: 15h30\n16 tours x 7.34 km = 117.44 km\nEngagements: 9€\n\n  \nhttps://www.openrunner.com/route-details/16357590 \n  \nOuverture des engagements: le 22/04/2024 à 18h\, clôture le jeudi 20/06/2024 à 20h \nRenseignements: VAUGRENARD Ludovic – e-mail: ludo.vvc@gmail.com / Port: 06.82.45.75.16 \n 
URL:https://www.cyclisme.bzh/epreuve-calendrier/sulniac-championnat-du-morbihan-de-lavenir/
LOCATION:SULNIAC\, SULNIAC\, Bretagne\, France
CATEGORIES:U15,U15 F,U17,U17 F,U19
ATTACH;FMTTYPE=application/pdf:https://www.cyclisme.bzh/wp-content/uploads/2024/04/IMP-Affiche-course-championnatmorbihan-2024-V3_Veloce-2.pdf
ORGANIZER;CN="VELOCE VANNETAIS CYCLISME (4356083)":MAILTO:hugues.sero@wanadoo.fr
END:VEVENT
BEGIN:VEVENT
DTSTART;VALUE=DATE:20240623
DTEND;VALUE=DATE:20240624
DTSTAMP:20260420T155117
CREATED:20240517T073659Z
LAST-MODIFIED:20240620T124354Z
UID:10002503-1719100800-1719187199@www.cyclisme.bzh
SUMMARY:Châteaugiron - Trophée Pays de Châteaugiron - Grand Prix des commerçants et artisans
DESCRIPTION:Epreuves ouvertes aux féminines hors Bretagne \nAccess 1-2-3-4 H: \nPour les U19 H\, épreuve ouverte aux seuls licenciés du département 35 \n\ndépart: 9h30\nAccess 1-2: 11 tours x 6.5 km = 71.5 km\nAccess 3-4: 9 tours x 6.5 km = 58.5 km\nEngagements: 9€\n\n  \nU17 H: \nEpreuve ouverte aux seuls licenciés du département 35 \n\ndépart: 13h15\n9 tours x 6.5 km = 58.5 km\nPrix coureurs: 138/10\, 1er 28€\nEngagements: 6.50€\n\n  \nOpen 1-2-3 H: \nPour les U19 H\, épreuve ouverte aux seuls licenciés du département 35 \n\ndépart: 15h15\n15 tours x 6.5 km = 97.5 km\nPrix coureurs: 396/20\, 1er 78€\nEngagements: 9€\n\n  \nOuverture des engagements: le 17/05/2024 à 18h\, clôture le jeudi 20/06/2024 à 20h \nRenseignements: MADIOT Jean Claude – e-mail: jeanclaude.madiot1@orange.fr / Port: 06.63.73.95.38 \n 
URL:https://www.cyclisme.bzh/epreuve-calendrier/chateaugiron-trophee-pays-de-chateaugiron-grand-prix-des-commercants-et-artisans/
LOCATION:CHÂTEAUGIRON\, France
CATEGORIES:Access 1,Access 2,Access 3,Access 4,Open 1,Open 2,Open 3,U17
ORGANIZER;CN="CLUB CYCLISTE CHATEAUGIRON (4335101)":MAILTO:jeanclaude.madiot1@orange.fr
END:VEVENT
BEGIN:VEVENT
DTSTART;VALUE=DATE:20240623
DTEND;VALUE=DATE:20240624
DTSTAMP:20260420T155117
CREATED:20240517T090614Z
LAST-MODIFIED:20240620T120254Z
UID:10002504-1719100800-1719187199@www.cyclisme.bzh
SUMMARY:Landerneau Kergreïs - Régularité Route et épreuves féminines - Support du Championnat du Finistère
DESCRIPTION:Attention: modification des horaires \nRégularité route – U7 H/F à U13 H/F: \nTournoi de vitesse – 20 par catégorie max \n\ndépart: 13h30\ndistance selon l’âge\nEngagements: 2€\n\n  \nU15 F + U17 F – support Championnat du Finistère: \nEpreuve ouverte à toutes les féminines \n\ndépart: 15h31\nU15 F: 14 tours x 2.45 km = 34.3 km – Prix coureurs: 138/10\, 1ère 28€\nU17 F: 20 tours x 2.45 km = 49 km – Prix coureurs: 183/10\, 1ère 37€\nEngagements: 7€\n\n  \nFemmes 17 ans et + – support Championnat du Finistère: \nEpreuve ouverte à toutes les féminines \n\ndépart: 15h30\n33 tours x 2.45 km = 80.85 km\nPrix coureurs: 320/15\, 1ère 51€\nEngagements: 10€\n\n  \nOuverture des engagements: le 17/05/2024 à 18h\, clôture le jeudi 20/06/2024 à 23h \nRenseignements: LE GALL Jérôme – e-mail: legalljerome.ecl@orange.fr / Port: 06.88.75.52.72 \nDOSSIER TOURNOI DE VITESSE \n \n  \n 
URL:https://www.cyclisme.bzh/epreuve-calendrier/landerneau-kergreis-regularite-route-et-epreuves-feminines-support-du-championnat-du-finistere/
LOCATION:LANDERNEAU\, France
CATEGORIES:Femmes 17 ans et +,U11,U13,U15 F,U17 F,U7,U9
ATTACH;FMTTYPE=image/jpeg:https://www.cyclisme.bzh/wp-content/uploads/2024/05/affiche-chpt-29-Kergreis-nx-horaires.jpg
ORGANIZER;CN="EC Landerneau":MAILTO:legalljerome.ecl@orange.fr
END:VEVENT
BEGIN:VEVENT
DTSTART;VALUE=DATE:20240623
DTEND;VALUE=DATE:20240624
DTSTAMP:20260420T155117
CREATED:20240517T100520Z
LAST-MODIFIED:20240530T072012Z
UID:10002505-1719100800-1719187199@www.cyclisme.bzh
SUMMARY:Moëlan-sur-Mer - Ronde du Menhir de Kergoulouët - Challenge Cornouaille Sud - Championnat de l'Avenir du Finistère U15 H et U17 H
DESCRIPTION:Accès au circuit par Baye ou Quimperlé (pas d’accès par Riec) \n  \nAccess 1-2-3-4 H: \n\n2 départs:\n\n– Access 1-2: 9h45 – 13 tours x 5 km = 65 km \n– Access 3-4: 9h46 – 11 tours x 5 km = 55 km \n\nEngagements: 9€\n\n  \nRégularité Route – U7 H/F à U13 H/F: \n\ndépart: 13h00\ndistance selon l’âge\nEngagements: 2€\n\n  \nU15 H – Championnat de l’Avenir 29: \n\ndépart: 14h30\n7 tours x 5 km = 35 km\nEngagements: 8€\n\n  \nU17 H – Championnat de l’Avenir 29: \n\ndépart: 16h00\n14 tours x 5 km = 70 km\nEngagements: 8€\n\n  \nOuverture des engagements: le 17/05/2024 à 18h\, clôture le jeudi 20/06/2024 à 20h \nRenseignements: RESET Vanessa  e-mail: vanessa.reset@orange.fr / Port: 06.76.22.97.31
URL:https://www.cyclisme.bzh/epreuve-calendrier/moelan-sur-mer-ronde-du-menhir-de-kergoulouet-challenge-cornouaille-sud-championnat-de-lavenir-du-finistere-u15-h-et-u17-h/
LOCATION:MOËLAN SUR MER\, MOËLAN SUR MER\, Bretagne\, France
CATEGORIES:Access 1,Access 2,Access 3,Access 4,U11,U13,U15,U17,U7,U9
ATTACH;FMTTYPE=application/pdf:https://www.cyclisme.bzh/wp-content/uploads/2024/05/Affiche-La-Ronde-Du-Menhir-De-Kergoulouet.pdf
ORGANIZER;CN="MOELAN CYCLO CLUB (4329162)":MAILTO:serge.piriou@wanadoo.fr
END:VEVENT
BEGIN:VEVENT
DTSTART;VALUE=DATE:20240623
DTEND;VALUE=DATE:20240624
DTSTAMP:20260420T155117
CREATED:20240517T113718Z
LAST-MODIFIED:20240604T125945Z
UID:10002506-1719100800-1719187199@www.cyclisme.bzh
SUMMARY:Kerstran Brech - Championnat de Bretagne des Access hommes (sauf U19)
DESCRIPTION:PAS D’ENGAGEMENT SUR LA LIGNE \nAccess 3-4 H – sauf U19 \n\n2 départs:\n\n– Access 3: 13h00 – 9 tours x 7.2 km = 64.8 km \n– Access 4: 13h01 – 7 tours x 7.2 km = 50.4 km \n\nEngagements: 10€\n\n  \nAccess 1-2 H – sauf U19 \n\n2 départs:\n\n– Access 1: 15h15 – 12 tours x 7.2 km = 86.4 km \n– Access 2: 15h16 – 10 tours x 7.2 km = 72 km \n\nEngagements: 10€\n\n  \nOuverture des engagements: le 17/05/2024 à 18h\, clôture le jeudi 20/06/2024 à 20h \nRenseignements: BAUDET Justine – e-mail: equipes@uc-auray.com / Port: 07.56.84.00.68 \n  \nLire en plein écranAller au contenu PDF
URL:https://www.cyclisme.bzh/epreuve-calendrier/kerstran-brech-championnat-de-bretagne-des-access-hommes/
LOCATION:KERSTRAN BRECH\, KERSTRAN BRECH\, Bretagne\, France
CATEGORIES:Access 1,Access 2,Access 3,Access 4
ATTACH;FMTTYPE=application/pdf:https://www.cyclisme.bzh/wp-content/uploads/2024/05/Affiche-BZH-Acces-2024.pdf
END:VEVENT
END:VCALENDAR