BEGIN:VCALENDAR
VERSION:2.0
PRODID:-//Comité de Bretagne de Cyclisme - ECPv6.15.20//NONSGML v1.0//EN
CALSCALE:GREGORIAN
METHOD:PUBLISH
X-WR-CALNAME:Comité de Bretagne de Cyclisme
X-ORIGINAL-URL:https://www.cyclisme.bzh
X-WR-CALDESC:Évènements pour Comité de Bretagne de Cyclisme
REFRESH-INTERVAL;VALUE=DURATION:PT1H
X-Robots-Tag:noindex
X-PUBLISHED-TTL:PT1H
BEGIN:VTIMEZONE
TZID:Europe/Paris
BEGIN:DAYLIGHT
TZOFFSETFROM:+0100
TZOFFSETTO:+0200
TZNAME:CEST
DTSTART:20230326T010000
END:DAYLIGHT
BEGIN:STANDARD
TZOFFSETFROM:+0200
TZOFFSETTO:+0100
TZNAME:CET
DTSTART:20231029T010000
END:STANDARD
BEGIN:DAYLIGHT
TZOFFSETFROM:+0100
TZOFFSETTO:+0200
TZNAME:CEST
DTSTART:20240331T010000
END:DAYLIGHT
BEGIN:STANDARD
TZOFFSETFROM:+0200
TZOFFSETTO:+0100
TZNAME:CET
DTSTART:20241027T010000
END:STANDARD
BEGIN:DAYLIGHT
TZOFFSETFROM:+0100
TZOFFSETTO:+0200
TZNAME:CEST
DTSTART:20250330T010000
END:DAYLIGHT
BEGIN:STANDARD
TZOFFSETFROM:+0200
TZOFFSETTO:+0100
TZNAME:CET
DTSTART:20251026T010000
END:STANDARD
END:VTIMEZONE
BEGIN:VEVENT
DTSTART;VALUE=DATE:20240622
DTEND;VALUE=DATE:20240623
DTSTAMP:20260420T173308
CREATED:20240516T143646Z
LAST-MODIFIED:20240618T085332Z
UID:10002500-1719014400-1719100799@www.cyclisme.bzh
SUMMARY:Quimper - Le Petit Guelen
DESCRIPTION:Open 2-3 H/F: \nEpreuve ouverte aux Access du club organisateur \n\ndépart: 19h30\n20 tours x 3.8 km = 76 km\nPrix coureurs: 183/10\, 1er 37€\nEngagements: 9€\n\n  \nOuverture des engagements: le 16/05/2024 à 18h\, clôture le jeudi 20/06/2024 à 20h \nRenseignements: CALVEZ Nadine – e-mail: velosportquimper@gmail.com / Port: 06.52.95.01.13
URL:https://www.cyclisme.bzh/epreuve-calendrier/quimper-le-petit-guelen/
LOCATION:QUIMPER\, QUIMPER\, Bretagne\, France
CATEGORIES:Open 2,Open 3
ATTACH;FMTTYPE=application/pdf:https://www.cyclisme.bzh/wp-content/uploads/2024/05/Affiche-Le-petit-GUELEN.pdf
ORGANIZER;CN="VS QUIMPEROIS (4329032)":MAILTO:velosportquimper@gmail.com
END:VEVENT
BEGIN:VEVENT
DTSTART;VALUE=DATE:20240622
DTEND;VALUE=DATE:20240623
DTSTAMP:20260420T173308
CREATED:20240516T145348Z
LAST-MODIFIED:20240620T124527Z
UID:10002501-1719014400-1719100799@www.cyclisme.bzh
SUMMARY:Rieux - Grand Prix de la St Jean
DESCRIPTION:Attention: annulation de l’épreuve Access 3-4 initialement prévue à 13h30 – ces coureurs partiront 1 mn après les Open 3 + Access 1-2 \nOpen 3 + Access 1-2-3-4 H/F: \n\n2 départs:\n\n– Open 3 + Access 1-2: 15h30 – 25 tours x 3.1 km = 77.5 km \n– Access 3-4: 15h31 – 19 tours x 3.1 km = 58.9 km \n\nEngagements: 9€\n\n  \nOuverture des engagements: le 16/05/2024 à 18h\, clôture le mercredi 19/06/2024 à 20h \nRenseignements: FLEURY Stéphane – e-mail: stephanefleury3@wanadoo.fr / Port: 06.64.82.57.53 \nLire en plein écranAller au contenu PDF
URL:https://www.cyclisme.bzh/epreuve-calendrier/rieux-grand-prix-de-la-st-jean-2/
LOCATION:RIEUX
CATEGORIES:Access 1,Access 2,Access 3,Access 4,Open 3
ORGANIZER;CN="VS RIEUXOIS 56 (4356005)":MAILTO:romainlelievre2011@gmail.com
END:VEVENT
BEGIN:VEVENT
DTSTART;VALUE=DATE:20240622
DTEND;VALUE=DATE:20240623
DTSTAMP:20260420T173308
CREATED:20240527T115241Z
LAST-MODIFIED:20240620T081354Z
UID:10002531-1719014400-1719100799@www.cyclisme.bzh
SUMMARY:Plumelin - Grand Prix de Keranna
DESCRIPTION:Access 1-2-3-4 H + Femmes 17 ans et + \n\n3 départs:\n\n– Access 1-2: 13h30 – 11 tours x 6.3 km = 69.3 km \n– Access 3-4: 13h32 – 10 tours x 6.3 km = 63 km \n– Femmes 17 ans et +: 13h33 – 10 tours x 6.3 km = 63 km \n\nEngagements: 9€\n\n  \nOpen 2-3 H: \n\ndépart: 15h\n15 tours x 6.3 km = 94.5 km\nPrix coureurs: 259/15\, 1er 50€\nEngagements: 9€\n\n  \nOuverture des engagements: le 27/05/2024 à 18h\, clôture le mercredi 19/06/2024 à 20h \nRenseignements: LE PALLEC Arnaud – dynamic.bike56@orange.fr / Port: 06.70.60.97.55
URL:https://www.cyclisme.bzh/epreuve-calendrier/plumelin-grand-prix-de-keranna-2/
LOCATION:PLUMELIN\, France
CATEGORIES:Access 1,Access 2,Access 3,Access 4,Femmes 17 ans et +,Open 2,Open 3
END:VEVENT
BEGIN:VEVENT
DTSTART;VALUE=DATE:20240622
DTEND;VALUE=DATE:20240623
DTSTAMP:20260420T173308
CREATED:20240610T131948Z
LAST-MODIFIED:20240620T125804Z
UID:10002559-1719014400-1719100799@www.cyclisme.bzh
SUMMARY:Plouzané - Vélodrome Brest Ponant Iroise - Challenge départemental 29
DESCRIPTION:Début des épreuves: 13h30 \n\nEngagements: 6.50€ pour les U15/U17\, 9€ pour les 17 ans et +\nPrix coureurs:\n\nKeirin: \n– U15 H: 47/5\, 1er 18€ \n– U15/U17 F: 47/5\, 1ère 18€ \n– U17 H: 47/5\, 1er 18€ \n– Hommes 17 ans et +: 47/5\, 1er 18€ \n  \nCourse Tempo: \n– U17 H: 47/5\, 1er 18€ \n– Hommes 17 ans et +: 61/5\, 1er 21€ \n– Femmes 17 ans et +: 61/5\, 1ère 21€ \n  \nCourse aux points:  \n– U15 H: 47/5\, 1er 18€ \n– U15/U17 F: 47/5\, 1ère 18€ \n– U17 H: 47/5\, 1er 18€ \n– Hommes 17 ans et +: 61/5\, 1er 21€ \n  \n500 m Femmes 17 ans et: 47/3\, 1ère 18€ \n  \n  \nOuverture des engagements: le 10/06/2024 à 18h\, clôture le mercredi 19/06/2024 à 20h \nRenseignements: GUILLAOUIC Hervé – e-mail: chris.herveg@free.fr / Port: 06.61.11.48.57
URL:https://www.cyclisme.bzh/epreuve-calendrier/plouzane-velodrome-brest-ponant-iroise-challenge-departemental-29/
LOCATION:PLOUZANE\, PLOUZANE\, Bretagne\, France
CATEGORIES:Access,Elite,Femmes 17 ans et +,Open,U15,U15 F,U17,U17 F
ORGANIZER;CN="EP BREST PONANT IROISE":MAILTO:chris.herveg@free.fr
END:VEVENT
END:VCALENDAR