BEGIN:VCALENDAR
VERSION:2.0
PRODID:-//Comité de Bretagne de Cyclisme - ECPv6.15.20//NONSGML v1.0//EN
CALSCALE:GREGORIAN
METHOD:PUBLISH
X-ORIGINAL-URL:https://www.cyclisme.bzh
X-WR-CALDESC:Évènements pour Comité de Bretagne de Cyclisme
REFRESH-INTERVAL;VALUE=DURATION:PT1H
X-Robots-Tag:noindex
X-PUBLISHED-TTL:PT1H
BEGIN:VTIMEZONE
TZID:Europe/Paris
BEGIN:DAYLIGHT
TZOFFSETFROM:+0100
TZOFFSETTO:+0200
TZNAME:CEST
DTSTART:20230326T010000
END:DAYLIGHT
BEGIN:STANDARD
TZOFFSETFROM:+0200
TZOFFSETTO:+0100
TZNAME:CET
DTSTART:20231029T010000
END:STANDARD
BEGIN:DAYLIGHT
TZOFFSETFROM:+0100
TZOFFSETTO:+0200
TZNAME:CEST
DTSTART:20240331T010000
END:DAYLIGHT
BEGIN:STANDARD
TZOFFSETFROM:+0200
TZOFFSETTO:+0100
TZNAME:CET
DTSTART:20241027T010000
END:STANDARD
BEGIN:DAYLIGHT
TZOFFSETFROM:+0100
TZOFFSETTO:+0200
TZNAME:CEST
DTSTART:20250330T010000
END:DAYLIGHT
BEGIN:STANDARD
TZOFFSETFROM:+0200
TZOFFSETTO:+0100
TZNAME:CET
DTSTART:20251026T010000
END:STANDARD
END:VTIMEZONE
BEGIN:VEVENT
DTSTART;VALUE=DATE:20240615
DTEND;VALUE=DATE:20240616
DTSTAMP:20260420T153528
CREATED:20240530T094016Z
LAST-MODIFIED:20240530T094219Z
UID:10002542-1718409600-1718495999@www.cyclisme.bzh
SUMMARY:Loudéac - Vélodrome de Bretagne - Coupe de France des Départements Zone Ouest - U15/U17 F et U17 H
DESCRIPTION:Ouverture des engagements: le 30/05/2024 à 18h\, clôture le mercredi 12/06/2024 à 20h \nRenseignements: BERTHELOT Fabien – e-mail: f.berthelot@cyclisme.bzh / Port: 06.81.57.96.87 \n  \nLire en plein écranAller au contenu PDF
URL:https://www.cyclisme.bzh/epreuve-calendrier/loudeac-velodrome-de-bretagne-coupe-de-france-des-departements-zone-ouest-u15-u17-f-et-u17-h/
LOCATION:Loudéac
CATEGORIES:U15,U17
ATTACH;FMTTYPE=image/jpeg:https://www.cyclisme.bzh/wp-content/uploads/2024/05/guide-piste_couv2-scaled.jpg
ORGANIZER;CN="CD 35":MAILTO:f.berthelot@cyclisme.bzh
END:VEVENT
BEGIN:VEVENT
DTSTART;VALUE=DATE:20240615
DTEND;VALUE=DATE:20240616
DTSTAMP:20260420T153528
CREATED:20240422T135724Z
LAST-MODIFIED:20240422T135724Z
UID:10002445-1718409600-1718495999@www.cyclisme.bzh
SUMMARY:Pleslin Trigavou - Les landes de Reine
DESCRIPTION:U15 H/F + U17 F: \n\ndépart: 12h30\n28 tours x 0.96 km = 26.88 km\nEngagements: 6.50€\n\n  \nU17 H/F: \n\ndépart: 14h00\n50 tours x 0.96 km = 48 km\nEngagements: 6.50€\n\n  \nOpen 3 + Access 1-2-3-4 H/F: \n\ndépart: 15h30\n75 tours x 0.96 km = 72 km\nEngagements: 9€\n\n  \nOuverture des engagements: le 22/04/2024 à 18h\, clôture le jeudi 13/06/2024 à 20h \nRenseignements: DUBOSCQ Marie Claude – e-mail: mduboscq220@gmail.com / Port: 06.76.97.26.46
URL:https://www.cyclisme.bzh/epreuve-calendrier/pleslin-trigavou-les-landes-de-reine-10/
LOCATION:PLESLIN TRIGAVOU\, PLESLIN TRIGAVOU\, Bretagne\, France
CATEGORIES:Access 1,Access 2,Access 3,Access 4,Open 3,U15,U17
ORGANIZER;CN="VC DINANNAIS (4322030)":MAILTO:mduboscq220@gmail.com
END:VEVENT
BEGIN:VEVENT
DTSTART;VALUE=DATE:20240615
DTEND;VALUE=DATE:20240616
DTSTAMP:20260420T153528
CREATED:20240430T145856Z
LAST-MODIFIED:20240506T073128Z
UID:10002474-1718409600-1718495999@www.cyclisme.bzh
SUMMARY:Châteaubourg - Castel'iminator
DESCRIPTION:Course par élimination \nOpen 1-2-3 H/F: \nLimité à 50 coureurs – 6 par équipe  + 2 remplaçants \n\ndépart: 20h00\n50 tours x 1.3 km = 65 km\nEngagements: 9€\n\n  \nOuverture des engagements: le 30/04/2024 à 18h\, clôture le mercredi 12/06/2024 à 20h \nRenseignements: LE HEN Gilles – e-mail: teamsojasunglh@sfr.fr / Port: 06.27.55.53.18
URL:https://www.cyclisme.bzh/epreuve-calendrier/chateaubourg-casteliliminator/
LOCATION:Chateaubourg\, France
CATEGORIES:Open 1,Open 2,Open 3
ORGANIZER;CN="TEAM SOJASUN CYCLISME (4335344)":MAILTO:teamsojasunglh@sfr.fr
END:VEVENT
BEGIN:VEVENT
DTSTART;VALUE=DATE:20240615
DTEND;VALUE=DATE:20240616
DTSTAMP:20260420T153528
CREATED:20240503T122622Z
LAST-MODIFIED:20240503T123526Z
UID:10002476-1718409600-1718495999@www.cyclisme.bzh
SUMMARY:Plélauff - Le Circuit des Granitiers
DESCRIPTION:Access 1-2-3-4 H/F: \n\n2 départs:\n\n– Access 1-2: 14h30 – 12 tours x 4.7 km = 56.4 km \n– Access 3-4: 14h33 – 10 tours x 4.7 km = 47 km \n\nEngagements: 9€\n\n  \nOuverture des engagements: le 03/05/2024 à 18h\, clôture le mercredi 12/06/2024 à 20h \nRenseignements: \n\nHERVIOU Ange – e-mail: ange.herviou@orange.fr\nententecyclisterostrenen@gmail.com\n\n  \nLire en plein écranAller au contenu PDF
URL:https://www.cyclisme.bzh/epreuve-calendrier/plelauff-le-circuit-des-granitiers/
LOCATION:PLELAUFF\, France
CATEGORIES:Access 1,Access 2,Access 3,Access 4
ATTACH;FMTTYPE=application/pdf:https://www.cyclisme.bzh/wp-content/uploads/2024/05/Affiche-2024.pdf
END:VEVENT
BEGIN:VEVENT
DTSTART;VALUE=DATE:20240615
DTEND;VALUE=DATE:20240616
DTSTAMP:20260420T153528
CREATED:20240514T123040Z
LAST-MODIFIED:20240514T123040Z
UID:10002490-1718409600-1718495999@www.cyclisme.bzh
SUMMARY:Pleyben - semi-nocturne - 19ème trophée Jo Velly
DESCRIPTION:Open 2-3 + Access 1-2 H/F: \n\ndépart: 19h00\n20 tours x 4.24 km = 84.8 km\nPrix coureurs: 259/15\, 1er 50€\nEngagements: 9€\n\n  \nOuverture des engagements: le 14/05/2024 à 18h\, clôture le mercredi 12/06/2024 à 20h \nRenseignements: GINIAUX Jean Pierre – e-mail: giniauxjeanpierre@gmail.com / Port: 06.52.16.46.15
URL:https://www.cyclisme.bzh/epreuve-calendrier/pleyben-semi-nocturne-19eme-trophee-jo-velly/
LOCATION:Pleyben
CATEGORIES:Access 1,Access 2,Open 2,Open 3
ORGANIZER;CN="VC CHATEAULINOIS (4329221)":MAILTO:vcccontact@laposte.net
END:VEVENT
BEGIN:VEVENT
DTSTART;VALUE=DATE:20240615
DTEND;VALUE=DATE:20240616
DTSTAMP:20260420T153528
CREATED:20240521T113313Z
LAST-MODIFIED:20240528T124634Z
UID:10002514-1718409600-1718495999@www.cyclisme.bzh
SUMMARY:La Sportbreizh Elites - Trophée France Bleu Breizh Izel - épreuve fédérale
DESCRIPTION:Elite + Open 1 H: \n\ndépart: 13h30\n140.8 km en ligne\nPrix coureurs: 1220/20\, 1er 246€\nEngagements: 10€\n\n  \nOuverture des engagements: le 21/05/2024 à 18h\, clôture le mercredi 12/06/2024 à 20h \nRenseignements: QUENTRIC Thibault – 06.49.09.03.96
URL:https://www.cyclisme.bzh/epreuve-calendrier/la-sportbreizh-elites-trophee-france-bleu-breizh-izel-epreuve-federale/
LOCATION:CHATEAUNEUF DU FAOU\, CHATEAUNEUF DU FAOU\, Bretagne\, France
CATEGORIES:Elite,Open 1
ATTACH;FMTTYPE=image/jpeg:https://www.cyclisme.bzh/wp-content/uploads/2024/05/LASPORTBREIZH24-scaled.jpg
ORGANIZER;CN="TEAM SPORTBREIZH (4329476)":MAILTO:gurvan.musset@sportbreizh.com
END:VEVENT
BEGIN:VEVENT
DTSTART;VALUE=DATE:20240615
DTEND;VALUE=DATE:20240616
DTSTAMP:20260420T153528
CREATED:20240527T095659Z
LAST-MODIFIED:20240527T095719Z
UID:10002529-1718409600-1718495999@www.cyclisme.bzh
SUMMARY:Pordic - Vélodrome - Finale du Challenge 22
DESCRIPTION:U7 H/F à U15 1ère année (2ème année pour les Filles): \n\ndépart: 13h00\ndistance selon l’âge\nEngagements: 2€\n\n  \nOuverture des engagements: le 27/05/2024 à 18h\, clôture le mercredi 12/06/2024 à 20h \nRenseignements: NOREE Thierry – 06.62.30.66.26
URL:https://www.cyclisme.bzh/epreuve-calendrier/pordic-velodrome-finale-du-challenge-22/
LOCATION:PORDIC\, PORDIC\, Bretagne\, France
CATEGORIES:U11,U13,U15,U7,U9
END:VEVENT
END:VCALENDAR