BEGIN:VCALENDAR
VERSION:2.0
PRODID:-//Comité de Bretagne de Cyclisme - ECPv6.15.20//NONSGML v1.0//EN
CALSCALE:GREGORIAN
METHOD:PUBLISH
X-ORIGINAL-URL:https://www.cyclisme.bzh
X-WR-CALDESC:Évènements pour Comité de Bretagne de Cyclisme
REFRESH-INTERVAL;VALUE=DURATION:PT1H
X-Robots-Tag:noindex
X-PUBLISHED-TTL:PT1H
BEGIN:VTIMEZONE
TZID:Europe/Paris
BEGIN:DAYLIGHT
TZOFFSETFROM:+0100
TZOFFSETTO:+0200
TZNAME:CEST
DTSTART:20230326T010000
END:DAYLIGHT
BEGIN:STANDARD
TZOFFSETFROM:+0200
TZOFFSETTO:+0100
TZNAME:CET
DTSTART:20231029T010000
END:STANDARD
BEGIN:DAYLIGHT
TZOFFSETFROM:+0100
TZOFFSETTO:+0200
TZNAME:CEST
DTSTART:20240331T010000
END:DAYLIGHT
BEGIN:STANDARD
TZOFFSETFROM:+0200
TZOFFSETTO:+0100
TZNAME:CET
DTSTART:20241027T010000
END:STANDARD
BEGIN:DAYLIGHT
TZOFFSETFROM:+0100
TZOFFSETTO:+0200
TZNAME:CEST
DTSTART:20250330T010000
END:DAYLIGHT
BEGIN:STANDARD
TZOFFSETFROM:+0200
TZOFFSETTO:+0100
TZNAME:CET
DTSTART:20251026T010000
END:STANDARD
END:VTIMEZONE
BEGIN:VEVENT
DTSTART;VALUE=DATE:20240517
DTEND;VALUE=DATE:20240521
DTSTAMP:20260420T215942
CREATED:20240403T124540Z
LAST-MODIFIED:20240403T142818Z
UID:10002386-1715904000-1716249599@www.cyclisme.bzh
SUMMARY:64ème édition de l'Essor Breton
DESCRIPTION:Ouverture des engagements: le 15/04/2024 à 18h\, clôture le mardi 30/04/2024 à 20h \nLes étapes : \n17/05 – Et. 1 : Ploemeur – Languidic (147 km)\n18/05 – Et. 2 : Rosporden-Kernevel – Bodilis (166 km)\n19/05 – Et. 3 : Saint-Evarzec – Saint-Evarzec (151 km)\n20/05 – Et. 4 : Plounéventer – Plounéventer (153 km) \nLes équipes engagées : \nEQUIPES N1 \nCREACTUEL-MARIE MORIN-U22\nDINAN SPORT CYCLING\nSCO DIJON\nGUIDON CHALETTOIS\nVCP LOUDEAC\nPARIS CYCLISTE OLYMPIQUE\nVENDEE U PAYS DE LA LOIRE\nMORBIHAN ADRIS GOA\nESPOIR CYCLISTE SAINT ETIENNE LOIRE\nVC.ROUEN\nMAYENNE V AND B MONBANA \nEQUIPES ETRANGERES \nJAN VAN ARCKEL (HOLLANDE)\nATOM 6 CYCLING (BELGIQUE)\nDOVY KEUKENS FCC (BELGIQUE)\nBASSO TEAM FLANDERS (BELGIQUE) \nEQUIPES N3 \nPLOUAY CYCLING CLUB\nSPORTBREIZH-TYDOR- ARMOR-LUX\nTEAM ADRIS-LA CREPE DE BROCELIANDE-BLC\nUC BRIOCHINE\nUCK BRETAGNE SUD CYCLISME \nEQUIPES AUTRES \nTEAM PAYS DE BRIEC\nV.C.P. LORIENT \n  \nLire en plein écranAller au contenu PDF
URL:https://www.cyclisme.bzh/epreuve-calendrier/64eme-edition-de-lessor-breton/
LOCATION:PLOEMEUR\, 56270\, France
CATEGORIES:Elite,Open 1
ORGANIZER;CN="UC Brestoise":MAILTO:cann.jean-pierre@orange.fr
END:VEVENT
BEGIN:VEVENT
DTSTART;VALUE=DATE:20240518
DTEND;VALUE=DATE:20240519
DTSTAMP:20260420T215942
CREATED:20240408T131504Z
LAST-MODIFIED:20240408T132009Z
UID:10002393-1715990400-1716076799@www.cyclisme.bzh
SUMMARY:Réguiny - Trophée Centre Morbihan Challenge #1 - U17 H/F
DESCRIPTION:U17 H/F: \n\ndépart: 13h30\n25 tours x 2.5 km = 62.5 km\nPrix coureurs: 168/10\, 1er 34€\nEngagements: 6.50€\n\n  \nOuverture des engagements: le 08/04/2024 à 18h\, clôture le mercredi 15/05/2024 à 20h \nRenseignements: \n\nBONNO Françoise – e-mail: francoise.bonno@wanadoo.fr\nPour les engagements: ROBIN Arnaud – e-mail: arnaud.robin38@sfr.fr / Tél: 02.97.44.16.39 – 06.09.38.57.94
URL:https://www.cyclisme.bzh/epreuve-calendrier/reguiny-trophee-centre-morbihan-challenge-1-u17-h-f/
LOCATION:REGUINY\, 56500\, France
CATEGORIES:U17
ORGANIZER;CN="OC LOCMINE (4356009)":MAILTO:henrimoreac@gmail.com
END:VEVENT
END:VCALENDAR