BEGIN:VCALENDAR
VERSION:2.0
PRODID:-//Comité de Bretagne de Cyclisme - ECPv6.15.20//NONSGML v1.0//EN
CALSCALE:GREGORIAN
METHOD:PUBLISH
X-ORIGINAL-URL:https://www.cyclisme.bzh
X-WR-CALDESC:Évènements pour Comité de Bretagne de Cyclisme
REFRESH-INTERVAL;VALUE=DURATION:PT1H
X-Robots-Tag:noindex
X-PUBLISHED-TTL:PT1H
BEGIN:VTIMEZONE
TZID:Europe/Paris
BEGIN:DAYLIGHT
TZOFFSETFROM:+0100
TZOFFSETTO:+0200
TZNAME:CEST
DTSTART:20230326T010000
END:DAYLIGHT
BEGIN:STANDARD
TZOFFSETFROM:+0200
TZOFFSETTO:+0100
TZNAME:CET
DTSTART:20231029T010000
END:STANDARD
BEGIN:DAYLIGHT
TZOFFSETFROM:+0100
TZOFFSETTO:+0200
TZNAME:CEST
DTSTART:20240331T010000
END:DAYLIGHT
BEGIN:STANDARD
TZOFFSETFROM:+0200
TZOFFSETTO:+0100
TZNAME:CET
DTSTART:20241027T010000
END:STANDARD
BEGIN:DAYLIGHT
TZOFFSETFROM:+0100
TZOFFSETTO:+0200
TZNAME:CEST
DTSTART:20250330T010000
END:DAYLIGHT
BEGIN:STANDARD
TZOFFSETFROM:+0200
TZOFFSETTO:+0100
TZNAME:CET
DTSTART:20251026T010000
END:STANDARD
END:VTIMEZONE
BEGIN:VEVENT
DTSTART;VALUE=DATE:20240512
DTEND;VALUE=DATE:20240513
DTSTAMP:20260420T221551
CREATED:20240314T155809Z
LAST-MODIFIED:20240325T110405Z
UID:10002326-1715472000-1715558399@www.cyclisme.bzh
SUMMARY:Lanvollon - Coupe de Bretagne VTT XC #5
DESCRIPTION:9h00: U9 H/F – 7€\n9h30: U11 H/F – 7€\n10h00: U13 H/F – 7€\n11h00: U15 H/F – 11€\n12h00: Masters H\, Départementaux H\, Femmes 17 ans et + – 12.50€ / U17 F – 11€\n14h00: U17 H – 11€\n15h30: U19 H\, Hommes 19 ans et +\, U19 F – 12.50€\n\n  \nOuverture des engagements: le 14/03/2024 à 18h\, clôture le jeudi 09/05/2024 à 20h \nRenseignements: THEFFO Patrick – e-mail: patrick.theffo@sfr.fr / Port: 06.19.99.39.67 \n  \n 
URL:https://www.cyclisme.bzh/epreuve-calendrier/lanvollon-coupe-de-bretagne-vtt-xc-5/
LOCATION:ST GILLES LES BOIS\, 22290
CATEGORIES:Access,Elite,Elite Pro,Femmes 17 ans et +,Open,U11,U13,U15,U17,U19,U9
ATTACH;FMTTYPE=image/jpeg:https://www.cyclisme.bzh/wp-content/uploads/2024/03/CDB.jpg
ORGANIZER;CN="EC PAYS DU LEFF (4322341)":MAILTO:patrick.theffo@sfr.fr
END:VEVENT
BEGIN:VEVENT
DTSTART;VALUE=DATE:20240512
DTEND;VALUE=DATE:20240513
DTSTAMP:20260420T221551
CREATED:20240319T161254Z
LAST-MODIFIED:20240319T161254Z
UID:10002341-1715472000-1715558399@www.cyclisme.bzh
SUMMARY:Dol de Bretagne (Carfantin)
DESCRIPTION:U7 H/F à U13 H/F: \n\ndépart: 10h30\ndistance selon l’âge\nEngagements: 2€\n\n  \nAccess 3-4 H: \n\ndépart: 14h00\n12 tours x 4.1 km = 49.2 km\nEngagements: 9€\n\n  \nAccess 1-2 H: \n\ndépart: 15h30\n15 tours x 4.1 km = 61.5 km\nEngagements: 9€\n\n  \nOuverture des engagements: le 19/03/2024 à 18h\, clôture le jeudi 09/05/2024 à 20h \nRenseignements: PEDRON Loïc – loic.pedron@orange.fr / Port: 06.78.49.16.45
URL:https://www.cyclisme.bzh/epreuve-calendrier/dol-de-bretagne-carfantin/
LOCATION:DOL DE BRETAGNE\, France
CATEGORIES:Access 1,Access 2,Access 3,Access 4,U11,U13,U7,U9
ORGANIZER;CN="JS DOLOISE CYCLISME (4335050)":MAILTO:loic.pedron@orange.fr
END:VEVENT
BEGIN:VEVENT
DTSTART;VALUE=DATE:20240512
DTEND;VALUE=DATE:20240513
DTSTAMP:20260420T221551
CREATED:20240320T134208Z
LAST-MODIFIED:20240416T085706Z
UID:10002347-1715472000-1715558399@www.cyclisme.bzh
SUMMARY:Plérin - Grand Prix cycliste de la ville - Coupe de Bretagne féminine #4 + support du championnat 22 / Elite + Open 1-2-3 H
DESCRIPTION:U15 F + U17 F: \n\ndépart: 13h17\nU15 F: 10 tours x 3.6 km = 36 km / U17 F: 14 tours x 3.6 km = 50.4 km\nPrix coureurs: 107/10\, 1ère 20€\nEngagements: 6.50€\n\n  \nFemmes 17 ans et +: \n\ndépart: 13h15\n22 tours x 3.6 km = 79.2 km\nPrix coureurs: 396/20\, 1ère 78€\nPrix spéciaux U19: 152/10\, 1ère 30€\nEngagements: 9€\n\n  \nElite + Open 1-2-3 H: \n\ndépart: 15h30\n30 tours x 3.6 km = 108 km\nPrix coureurs: 793/20\, 1er 160€\nPrix spéciaux U19: 91/5\, 1er 29€\nEngagements: 9€\n\n  \nOuverture des engagements: le 20/03/2024 à 18h\, clôture le jeudi 09/05/2024 à 20h \nRenseignements: TACHEN Daniel – e-mail: daniel.tachen@orange.fr / Port: 06.88.87.26.80
URL:https://www.cyclisme.bzh/epreuve-calendrier/plerin-grand-prix-cycliste-de-la-ville-coupe-de-bretagne-feminine-4-support-du-championnat-22-elite-open-1-2-3-h/
LOCATION:PLERIN\, PLERIN\, Bretagne\, France
CATEGORIES:Elite,Femmes 17 ans et +,Open 1,Open 2,Open 3,U15 F,U17 F
ORGANIZER;CN="VS BRIOCHIN AG (4322031)":MAILTO:daniel.tachen@orange.fr
END:VEVENT
BEGIN:VEVENT
DTSTART;VALUE=DATE:20240512
DTEND;VALUE=DATE:20240513
DTSTAMP:20260420T221551
CREATED:20240329T132615Z
LAST-MODIFIED:20240329T132657Z
UID:10002377-1715472000-1715558399@www.cyclisme.bzh
SUMMARY:Romagné - Circuit de Parjuré
DESCRIPTION:Access 2-3-4 H: \n\ndépart: 13h00\n10 tours x 5.8 km = 58 km\nEngagements: 9€\n\n  \nOpen 2-3 + Access 1 H: \n\ndépart: 15h15\n16 tours x 5.8 km = 92.8 km\nPrix coureurs: 259/15\, 1er 50€\nEngagements: 9€\n\n  \nOuverture des engagements: le 29/03/2024 à 18h\, clôture le jeudi 09/05/2024 à 20h \nRenseignements: GUERINEL Olivier – e-mail: olivier.guerinel@orange.fr
URL:https://www.cyclisme.bzh/epreuve-calendrier/romagne-circuit-de-parjure/
LOCATION:ROMAGNÉ\, France
CATEGORIES:Access 1,Access 2,Access 3,Access 4,Open 2,Open 3
ORGANIZER;CN="COC FOUGERAIS (4335256)":MAILTO:cocfougerais@gmail.com
END:VEVENT
BEGIN:VEVENT
DTSTART;VALUE=DATE:20240512
DTEND;VALUE=DATE:20240513
DTSTAMP:20260420T221551
CREATED:20240402T145056Z
LAST-MODIFIED:20240402T145056Z
UID:10002382-1715472000-1715558399@www.cyclisme.bzh
SUMMARY:Plumaugat
DESCRIPTION:U15 H: \n\ndépart: 13h00\n5 tours x 4.7 km = 23.5 km\nPrix coureurs: 107/10\, 1er 20€\nEngagements: 6.50€\n\n  \nU17 H: \n\ndépart: 14h00\n10 tours x 4.7 km = 47 km\nPrix coureurs: 138/10\, 1er 28€\nEngagements: 6.50€\n\n  \nOpen 2-3 + Access 1-2-3-4 H: \n\ndépart: 15h30\n19 tours x 4.7 km = 89.3 km\nPrix coureurs: 259/15\, 1er 50€\nEngagements: 9€\n\n  \nOuverture des engagements: le 02/04/2024 à 18h\, clôture le jeudi 09/05/2024 à 20h \nRenseignements: DUBOSCQ Marie Claude – e-mail: mduboscq220@gmail.com / Port: 06.76.97.26.46
URL:https://www.cyclisme.bzh/epreuve-calendrier/plumaugat-2/
LOCATION:PLUMAUGAT\, PLUMAUGAT\, Bretagne\, France
CATEGORIES:Access 1,Access 2,Access 3,Access 4,Open 2,Open 3,U15,U17
ORGANIZER;CN="VC DINANNAIS (4322030)":MAILTO:mduboscq220@gmail.com
END:VEVENT
BEGIN:VEVENT
DTSTART;VALUE=DATE:20240512
DTEND;VALUE=DATE:20240513
DTSTAMP:20260420T221551
CREATED:20240408T120955Z
LAST-MODIFIED:20240408T120955Z
UID:10002391-1715472000-1715558399@www.cyclisme.bzh
SUMMARY:Jugon les Lacs - Arguenon Vallée Verte - Fédérale U19
DESCRIPTION:Ouverture des engagements: le 08/04/2024 à 18h\, clôture le mercredi 08/05/2024 à 19h \nRenseignements: LUCAS Yannick – e-mail: vcvalleeverte@gmail.com / Port: 06.61.81.56.03 \n  \nLire en plein écranAller au contenu PDF
URL:https://www.cyclisme.bzh/epreuve-calendrier/jugon-les-lacs-arguenon-vallee-verte-federale-u19/
LOCATION:JUGON LES LACS\, JUGON LES LACS\, Bretagne\, France
CATEGORIES:Elite,Open 1,Open 2,Open 3
ORGANIZER;CN="VC VALLEE VERTE (4322420)":MAILTO:vcvalleeverte@gmail.com
END:VEVENT
BEGIN:VEVENT
DTSTART;VALUE=DATE:20240512
DTEND;VALUE=DATE:20240513
DTSTAMP:20260420T221551
CREATED:20240410T114324Z
LAST-MODIFIED:20240410T114324Z
UID:10002406-1715472000-1715558399@www.cyclisme.bzh
SUMMARY:Chavagne - Trophée Marcel Blot - Finale du Challenge de la Flume et du Meu
DESCRIPTION:U15 H: \n\ndépart: 12h30\n6 tours x 5.1 km = 30.6 km\nEngagements: 6.50€\n\n  \nU17 H: \n\ndépart: 13h45\n10 tours x 5.1 km = 51 km\nEngagements: 6.50€\n\n  \nOpen 2-3 + Access 1-2 H: \n\ndépart: 15h30\n20 tours x 5.1 km = 102 km\nPrix coureurs: 259/15\, 1er 50€\nEngagements: 9€\n\n  \nOuverture des engagements: le 10/04/2024 à 18h\, clôture le jeudi 09/05/2024 à 20h \nRenseignements: LE ROUX Marie Thérèse – e-mail: mteleroux@hotmail.fr / Port: 06.16.17.58.87
URL:https://www.cyclisme.bzh/epreuve-calendrier/chavagne-trophee-marcel-blot-finale-du-challenge-de-la-flume-et-du-meu/
LOCATION:Chavagne\, France
CATEGORIES:Access 1,Access 2,Open 2,Open 3,U15,U17
ORGANIZER;CN="VC CHAVAGNAIS (4335248)":MAILTO:mtcleroux@hotmail.fr
END:VEVENT
BEGIN:VEVENT
DTSTART;VALUE=DATE:20240512
DTEND;VALUE=DATE:20240513
DTSTAMP:20260420T221551
CREATED:20240415T122300Z
LAST-MODIFIED:20240415T122300Z
UID:10002420-1715472000-1715558399@www.cyclisme.bzh
SUMMARY:Plouray - Challenge du Roi Morvan - U17 H et Open 2-3 + Access 1-2 H
DESCRIPTION:U17 H: \n\ndépart: 13h00\n14 tours x 3.95 km = 55.3 km\nEngagements: 6.50€\n\n  \nOpen 2-3 + Access 1-2 H: \n\ndépart: 15h30\n21 tours x 3.95 km = 82.95 km\nEngagements: 9€\n\n  \nOuverture des engagements: le 12/05/2024 à 18h\, clôture le jeudi 09/05/2024 à 20h \nRenseignements: CANEVET Jocelyn – e-mail: canevetjocelyn29@gmail.com / Port: 06.36.12.35.18 \n 
URL:https://www.cyclisme.bzh/epreuve-calendrier/plouray-challenge-du-roi-morvan-u17-h-et-open-2-3-access-1-2-h/
LOCATION:PLOURAY\, PLOURAY\, Bretagne\, France
CATEGORIES:Access 1,Access 2,Open 2,Open 3,U17
ORGANIZER;CN="CHASSEURS DE GOURIN (4356096)":MAILTO:clubcyclistegourin@gmail.com
END:VEVENT
BEGIN:VEVENT
DTSTART;VALUE=DATE:20240512
DTEND;VALUE=DATE:20240513
DTSTAMP:20260420T221551
CREATED:20240416T142858Z
LAST-MODIFIED:20240419T131015Z
UID:10002428-1715472000-1715558399@www.cyclisme.bzh
SUMMARY:Brech - Grand prix du Loch - Fête des fleurs
DESCRIPTION:U15 H: \n\ndépart: 13h00\n8 tours x 3.4 km = 27.2 km\nPrix coureurs: 107/10\, 1er 20€\nEngagements: 6.50€\n\n  \nAccess 1-2-3-4 H: \n\n2 départs:\n\n– Access 3-4: 14h30 – 18 tours x 3.4 km =  61.2 km \n– Access 1-2: 16h30 – 21 tours x 3.4 km = 71.4 km \n\nEngagements: 9€\n\n  \nOuverture des engagements: le 16/04/2024 à 18h\, clôture le jeudi 09/05/2024 à 20h \nRenseignements: LE LABOUSSE Alain – e-mail: lelabousse.al@gmail.com / Port: 06.12.85.26.96 \n 
URL:https://www.cyclisme.bzh/epreuve-calendrier/brech-grand-prix-du-loch-fete-des-fleurs/
LOCATION:BRECH\, 56400\, France
CATEGORIES:Access 1,Access 2,Access 3,Access 4,U15
ORGANIZER;CN="AURAY CYCLISME (4356327)":MAILTO:isabelle.aco@orange.fr
END:VEVENT
BEGIN:VEVENT
DTSTART;VALUE=DATE:20240512
DTEND;VALUE=DATE:20240513
DTSTAMP:20260420T221551
CREATED:20240418T121835Z
LAST-MODIFIED:20240418T121835Z
UID:10002430-1715472000-1715558399@www.cyclisme.bzh
SUMMARY:Briec - GP de Briec
DESCRIPTION:Open 1-2-3 + Access 1 H: \n\ndépart: 14h00\n22 tours x 3.9 km = 85.8 km\nPrix coureurs: 351/15\, 1er 70€\nEngagements: 9€\n\n  \nOuverture des engagements: le 18/04/2024 à 18h\, clôture le jeudi 09/05/2024 à 20h \nRenseignements: FAVENNEC Elouan – e-mail: teampaysdebriec@gmail.com / Port: 06.33.22.92.51 \n 
URL:https://www.cyclisme.bzh/epreuve-calendrier/briec-gp-de-briec/
LOCATION:briec\, 29510\, France
CATEGORIES:Access 1,Open 1,Open 2,Open 3
ORGANIZER;CN="TEAM PAYS DE BRIEC":MAILTO:teampaysdebriec@gmail.com
END:VEVENT
BEGIN:VEVENT
DTSTART;VALUE=DATE:20240512
DTEND;VALUE=DATE:20240513
DTSTAMP:20260420T221551
CREATED:20240418T144456Z
LAST-MODIFIED:20240418T144456Z
UID:10002432-1715472000-1715558399@www.cyclisme.bzh
SUMMARY:Mellac - Challenge de Cornouaille Sud
DESCRIPTION:Régularité route – U7 H/F à U13 H/F: \n\ndépart: 13h00\ndistance selon l’âge\nEngagements: 2€\n\n  \nU15 H: \n\ndépart: 14h15\n11 tours x 2.7 km = 29.7 km\nPrix coureurs: 107/10\, 1er 20€\nEngagements: 6.50€\n\n  \nU17 H: \n\ndépart: 15h30\n21 tours x 2.7 km = 56.7 km\nPrix coureurs: 138/10\, 1er 28€\nEngagements: 6.50€\n\n  \nOuverture des engagements: le 18/04/2024 à 18h\, clôture le jeudi 09/05/2024 à 20h \nRenseignements: JEGOU Gwénaël – e-mail: gwenael.jegou434@orange.fr / Port: 06.60.26.78.39
URL:https://www.cyclisme.bzh/epreuve-calendrier/mellac-challenge-de-cornouaille-sud/
LOCATION:MELLAC
CATEGORIES:U11,U13,U15,U17,U7,U9
ORGANIZER;CN="UC QUIMPERLOISE (4329346)":MAILTO:gwenael.jegou434@orange.fr
END:VEVENT
BEGIN:VEVENT
DTSTART;VALUE=DATE:20240512
DTEND;VALUE=DATE:20240513
DTSTAMP:20260420T221551
CREATED:20240429T125716Z
LAST-MODIFIED:20240429T125813Z
UID:10002462-1715472000-1715558399@www.cyclisme.bzh
SUMMARY:Ploumilliau - Grand Prix du Pardon
DESCRIPTION:Access 3-4 H: \n\ndépart: 14h00\n17 tours x 3.4 km = 58 km\nEngagements: 9€\n\n  \nAccess 1-2 H: \n\ndépart: 16h00\n22 tours x 3.4 km = 75 km\nEngagements: 9€\n\n  \nOuverture des engagements: le 29/04/2024 à 18h\, clôture le jeudi 09/05/2024 à 20h \nRenseignements: PERROT Eric – e-mail: eric.ep.perrot@gmail.com / Port: 06.04.15.80.91
URL:https://www.cyclisme.bzh/epreuve-calendrier/ploumilliau-grand-prix-du-pardon-2/
LOCATION:PLOUMILLIAU
CATEGORIES:Access 1,Access 2,Access 3,Access 4
ORGANIZER;CN="VELO SPORT MILLAUTAIS (4322448)":MAILTO:eric.ep.perrot@gmail.com
END:VEVENT
END:VCALENDAR