BEGIN:VCALENDAR
VERSION:2.0
PRODID:-//Comité de Bretagne de Cyclisme - ECPv6.15.20//NONSGML v1.0//EN
CALSCALE:GREGORIAN
METHOD:PUBLISH
X-ORIGINAL-URL:https://www.cyclisme.bzh
X-WR-CALDESC:Évènements pour Comité de Bretagne de Cyclisme
REFRESH-INTERVAL;VALUE=DURATION:PT1H
X-Robots-Tag:noindex
X-PUBLISHED-TTL:PT1H
BEGIN:VTIMEZONE
TZID:Europe/Paris
BEGIN:DAYLIGHT
TZOFFSETFROM:+0100
TZOFFSETTO:+0200
TZNAME:CEST
DTSTART:20230326T010000
END:DAYLIGHT
BEGIN:STANDARD
TZOFFSETFROM:+0200
TZOFFSETTO:+0100
TZNAME:CET
DTSTART:20231029T010000
END:STANDARD
BEGIN:DAYLIGHT
TZOFFSETFROM:+0100
TZOFFSETTO:+0200
TZNAME:CEST
DTSTART:20240331T010000
END:DAYLIGHT
BEGIN:STANDARD
TZOFFSETFROM:+0200
TZOFFSETTO:+0100
TZNAME:CET
DTSTART:20241027T010000
END:STANDARD
BEGIN:DAYLIGHT
TZOFFSETFROM:+0100
TZOFFSETTO:+0200
TZNAME:CEST
DTSTART:20250330T010000
END:DAYLIGHT
BEGIN:STANDARD
TZOFFSETFROM:+0200
TZOFFSETTO:+0100
TZNAME:CET
DTSTART:20251026T010000
END:STANDARD
END:VTIMEZONE
BEGIN:VEVENT
DTSTART;VALUE=DATE:20240504
DTEND;VALUE=DATE:20240505
DTSTAMP:20260420T173337
CREATED:20240306T101744Z
LAST-MODIFIED:20240306T102411Z
UID:10002297-1714780800-1714867199@www.cyclisme.bzh
SUMMARY:Lannilis - Tro Bro Leon Challenge - Rando et Gravel
DESCRIPTION:https://www.trobroleon.com/tbc2024 \nRenseignements: \n\nCORRE Robert – e-mail: corre.robert@orange.fr / Port: 06.78.06.00.79\nMELLOUET Jean-Paul – e-mail: jeanpaul.mellouet@orange.fr / Port: 06.08.27.84.67
URL:https://www.cyclisme.bzh/epreuve-calendrier/lannilis-tro-bro-leon-challenge-rando-et-gravel/
LOCATION:LANNILIS\, LANNILIS\, Bretagne\, France
END:VEVENT
BEGIN:VEVENT
DTSTART;VALUE=DATE:20240504
DTEND;VALUE=DATE:20240505
DTSTAMP:20260420T173337
CREATED:20240313T152712Z
LAST-MODIFIED:20240313T152758Z
UID:10002317-1714780800-1714867199@www.cyclisme.bzh
SUMMARY:Châteaugiron - Randonnée cycliste La Marc Gomez
DESCRIPTION:Lire en plein écranAller au contenu PDF
URL:https://www.cyclisme.bzh/epreuve-calendrier/chateaugiron-randonnee-cycliste-la-marc-gomez/
LOCATION:CHÂTEAUGIRON\, France
ORGANIZER;CN="CLUB CYCLISTE CHATEAUGIRON (4335101)":MAILTO:jeanclaude.madiot1@orange.fr
END:VEVENT
BEGIN:VEVENT
DTSTART;VALUE=DATE:20240504
DTEND;VALUE=DATE:20240505
DTSTAMP:20260420T173337
CREATED:20240416T123714Z
LAST-MODIFIED:20240418T114626Z
UID:10002426-1714780800-1714867199@www.cyclisme.bzh
SUMMARY:St Brieuc - Coupe départementale des Côtes d'Armor de BMX
DESCRIPTION:Ouverture des engagements: le 16/04/2024 à 18h\, clôture le mardi 30/04/2024 à 20h \nRenseignements: LORINQUER Myriam – e-mail: saint.brieuc.bmx@orange.fr / Port: 06.20.59.79.20 \n  \nLire en plein écranAller au contenu PDF
URL:https://www.cyclisme.bzh/epreuve-calendrier/st-brieuc-coupe-departementale-des-cotes-darmor-de-bmx/
LOCATION:ST BRIEUC
CATEGORIES:Access,Elite,Open,U11,U13,U15,U17,U7,U9
ATTACH;FMTTYPE=image/jpeg:https://www.cyclisme.bzh/wp-content/uploads/2024/04/AFFICHE-2024.jpg
ORGANIZER;CN="SAINT BRIEUC BMX (4322540)":MAILTO:saint.brieuc.bmx@orange.fr
END:VEVENT
END:VCALENDAR