BEGIN:VCALENDAR
VERSION:2.0
PRODID:-//Comité de Bretagne de Cyclisme - ECPv6.15.20//NONSGML v1.0//EN
CALSCALE:GREGORIAN
METHOD:PUBLISH
X-ORIGINAL-URL:https://www.cyclisme.bzh
X-WR-CALDESC:Évènements pour Comité de Bretagne de Cyclisme
REFRESH-INTERVAL;VALUE=DURATION:PT1H
X-Robots-Tag:noindex
X-PUBLISHED-TTL:PT1H
BEGIN:VTIMEZONE
TZID:Europe/Paris
BEGIN:DAYLIGHT
TZOFFSETFROM:+0100
TZOFFSETTO:+0200
TZNAME:CEST
DTSTART:20230326T010000
END:DAYLIGHT
BEGIN:STANDARD
TZOFFSETFROM:+0200
TZOFFSETTO:+0100
TZNAME:CET
DTSTART:20231029T010000
END:STANDARD
BEGIN:DAYLIGHT
TZOFFSETFROM:+0100
TZOFFSETTO:+0200
TZNAME:CEST
DTSTART:20240331T010000
END:DAYLIGHT
BEGIN:STANDARD
TZOFFSETFROM:+0200
TZOFFSETTO:+0100
TZNAME:CET
DTSTART:20241027T010000
END:STANDARD
BEGIN:DAYLIGHT
TZOFFSETFROM:+0100
TZOFFSETTO:+0200
TZNAME:CEST
DTSTART:20250330T010000
END:DAYLIGHT
BEGIN:STANDARD
TZOFFSETFROM:+0200
TZOFFSETTO:+0100
TZNAME:CET
DTSTART:20251026T010000
END:STANDARD
END:VTIMEZONE
BEGIN:VEVENT
DTSTART;VALUE=DATE:20240425
DTEND;VALUE=DATE:20240502
DTSTAMP:20260420T173337
CREATED:20240416T113838Z
LAST-MODIFIED:20240416T114121Z
UID:10002424-1714003200-1714607999@www.cyclisme.bzh
SUMMARY:Tour de Bretagne Cycliste
DESCRIPTION:Toutes les infos sur le lien suivant: \nhttps://www.tourdebretagne.bzh/ \n 
URL:https://www.cyclisme.bzh/epreuve-calendrier/tour-de-bretagne-cycliste-2/
LOCATION:LOCMARIA PLOUZANÉ\, LOCMARIA PLOUZANÉ\, Bretagne\, France
ORGANIZER;CN="CC RUBAN GRANITIER BRETON (4322243)":MAILTO:michan.balan@hotmail.fr
END:VEVENT
BEGIN:VEVENT
DTSTART;VALUE=DATE:20240501
DTEND;VALUE=DATE:20240502
DTSTAMP:20260420T173337
CREATED:20240304T140255Z
LAST-MODIFIED:20240304T140255Z
UID:10002291-1714521600-1714607999@www.cyclisme.bzh
SUMMARY:Plurien - Trophée Jacky Lemée Open 2-3 + Access 1-2 (L) et courses U15 H/F + U17 F et U17 H/F
DESCRIPTION:U15 H/F + U17 F: \n\ndépart: 13h00\n8 tours x 3 km = 24 km\nPrix coureurs: 138/10\, 1er 28€\nEngagements: 6.50€\n\n  \nU17 H/F: \n\ndépart: 14h15\n18 tours x 3 km = 54 km\nPrix coureurs: 168/10\, 1er 34€\nEngagements: 6.50€\n\n  \nOpen 2-3 + Access 1-2 H/F – épreuve en ligne + circuit final \n\ndépart: 14h45\n81 km en ligne + 7 x 4.5 km = 112.5 km\nPrix coureurs: 459/20\, 1er 91€\nEngagements: 9€\n\n  \nOuverture des engagements: le 02/04/2024 à 18h\, clôture le samedi 27/04/2024 à 20h \nRenseignements: PERCHE Dominique – e-mail: vcplurien-perche@orange.fr / Port: 06.76.78.78.58
URL:https://www.cyclisme.bzh/epreuve-calendrier/plurien-trophee-jacky-lemee-open-2-3-access-1-2-l-et-courses-u15-h-f-u17-f-et-u17-h-f/
LOCATION:PLURIEN
CATEGORIES:Access 1,Access 2,Open 2,Open 3,U15,U17
ORGANIZER;CN="VC PLURIENNAIS":MAILTO:vcplurien-perche@orange.fr
END:VEVENT
BEGIN:VEVENT
DTSTART;VALUE=DATE:20240501
DTEND;VALUE=DATE:20240502
DTSTAMP:20260420T173337
CREATED:20240307T124709Z
LAST-MODIFIED:20240425T084057Z
UID:10002299-1714521600-1714607999@www.cyclisme.bzh
SUMMARY:Le Sourn - Les Boucles Sournaises - Coupe de Bretagne -Crédit Agricole #3 pour les U17 H
DESCRIPTION:Régularité route – U7 H/F à U13 H/F: \n\ndépart: 13h30\ndistance selon l’âge\nEngagements: 2€\n\n  \nU15 H/F + U17 F: \n\ndépart: 15h05\n4 tours x 6 km = 24 km\nPrix coureurs: 107/10\, 1er 20€\nEngagements: 6.50€\n\n  \nU17 H – Coupe de Bretagne-Crédit Agricole #3 – CLM + épreuve en ligne  \n\nCLM le matin: 1er départ 8h30 – circuit de 5.85 km\n2ème étape: 39.55 km en ligne + 5 tours x 6 km = 69.55 km\nClassement général: 183/10\, 1er 37€\nEngagements: 6.50€ pour l’ensemble CLM + étape\n\n  \nOuverture des engagements: le 07/03/2024 à 18h\, clôture le dimanche 28/04/2024 à 20h \nRenseignements: LE BOTLAN Jean Sébastien – e-mail: vcpontivyen2017@gmail.com \nRESTAURATION SUR PLACE au tarif de 11 euros\, à réserver impérativement auprès :\n=> d’Olivier Philippot \, 06 87 20 39 08\,\nolivier.philippot69@gmail.com  ou\n\n=> de Christian Le Liboux \, 06 89 12 36 39  christian.toit@gmail.com\nFin des réservations le 24/04/2024\n\nLire en plein écranAller au contenu PDF\n 
URL:https://www.cyclisme.bzh/epreuve-calendrier/le-sourn-les-boucles-sournaises-coupe-de-bretagne-credit-agricole-3-pour-les-u17-h/
LOCATION:LE SOURN\, France
CATEGORIES:U11,U13,U15,U17,U7,U9
ATTACH;FMTTYPE=application/pdf:https://www.cyclisme.bzh/wp-content/uploads/2024/03/2024-05-01-22eme-Boucles-Sournaises-affiche.pdf
ORGANIZER;CN="VC PONTIVYEN (4356017)":MAILTO:vcpontivyen2017@gmail.com
END:VEVENT
BEGIN:VEVENT
DTSTART;VALUE=DATE:20240501
DTEND;VALUE=DATE:20240502
DTSTAMP:20260420T173337
CREATED:20240312T132602Z
LAST-MODIFIED:20240429T134404Z
UID:10002311-1714521600-1714607999@www.cyclisme.bzh
SUMMARY:Gouesnou - Le muguet gouesnousien
DESCRIPTION:Le départ sera donné rue Blaise Pascal dans la zone de Penhoat\nGOUESNOU-PLABENNEC \nRégularité route – U7 H/F à U13 H/F: \n\ndépart: 15h00\ndistance selon l’âge\nEngagements: 2€\n\n  \nU15 H/F + U17 F: \n\ndépart: 13h30\n23 tours x 1.5 km = 34.5 km\nPrix coureurs: 107/10\, 1er 20€\nEngagements: 6.50€\n\n  \nU17 H/F – EPREUVE ANNULEE  \n\ndépart: 16h30\n36 tours x 1.5 km = 54 km\nPrix coureurs: 138/10\, 1er 28€\nEngagements: 6.50€\n\n  \nOuverture des engagements: le 12/03/2024 à 18h\, clôture le samedi 27/04/2024 à 20h \nRenseignements: PHELEPP Jean Marc – e-mail: jean-marc.phelepp@orange.fr / Port: 06.86.17.89.40 \n 
URL:https://www.cyclisme.bzh/epreuve-calendrier/gouesnou-le-muguet-gouesnousien-2/
LOCATION:GOUESNOU\, GOUESNOU\, Bretagne\, France
CATEGORIES:U11,U13,U15,U17,U7,U9
ATTACH;FMTTYPE=image/jpeg:https://www.cyclisme.bzh/wp-content/uploads/2024/03/Affiche-Gouesnou-Jeunes-2024.jpg
ORGANIZER;CN="AC Gouesnou":MAILTO:jean-marc.phelepp@orange.fr
END:VEVENT
BEGIN:VEVENT
DTSTART;VALUE=DATE:20240501
DTEND;VALUE=DATE:20240502
DTSTAMP:20260420T173337
CREATED:20240313T143148Z
LAST-MODIFIED:20240313T143709Z
UID:10002316-1714521600-1714607999@www.cyclisme.bzh
SUMMARY:Le Haut Corlay - GP KBA Verandaline U19 et sa course d'attente Open 3 + Access 1-2
DESCRIPTION:Open 3 + Access 1-2: \n\ndépart: 14h00\n19 tours x 4.2 km = 79.8 km\nPrix coureurs: 259/15\, 1er 50€\nEngagements: 9€\n\n  \nGP KBA Verandaline – U19 H (Elite + Open 1-2-3) – CLM + épreuve en ligne \n– CLM le matin:  \n\n1er départ: 9h\ncircuit de 9.4 km\nPrix coureurs: 91/10\, 1er 17€\n\n  \n– 2ème étape en ligne + circuit final: \n\ndépart: 14h15\n111.4 km en ligne + 6 tours x 4.2 km = 136.6 km\nPrix coureurs: 259/15\, 1er 50€\n\n  \nClassement général: 610/20\, 1er 122€ \n  \nOuverture des engagements: le 13/03/2024 à 18h\, clôture le dimanche 28/04/2024 à 20h \nRenseignements: ROBIN Jean-Marc – e-mail: j.robin@cyclisme.bzh / Port: 07.07.62.72.38
URL:https://www.cyclisme.bzh/epreuve-calendrier/le-haut-corlay-gp-kba-verandaline-u19-et-sa-course-dattente-open-3-access-1-2/
LOCATION:LE HAUT CORLAY\, LE HAUT CORLAY\, Bretagne\, France
CATEGORIES:Access 1,Access 2,Elite,Open 1,Open 2,Open 3
END:VEVENT
BEGIN:VEVENT
DTSTART;VALUE=DATE:20240501
DTEND;VALUE=DATE:20240502
DTSTAMP:20260420T173337
CREATED:20240313T154813Z
LAST-MODIFIED:20240415T095414Z
UID:10002318-1714521600-1714607999@www.cyclisme.bzh
SUMMARY:Avessac (44) - Souvenir Robert HEAS
DESCRIPTION:U15 H/F + U17 F: \n\ndépart: 13h00\n6 tours x 4.6 km = 27.6 km\nPrix coureurs: 107/10\, 1er 20€\nEngagements: 6.50€\n\n  \nU17 H/F: \n\ndépart: 13h50\n11 tours x 4.6 km = 50.6 km\nPrix coureurs: 138/10\, 1er 28€\nEngagements: 6.50€\n\n  \nAccess 1-2-3-4 H/F: \n\n2 départs:\n\n– Access 1-2: 15h30 \n– Access 3-4: 15h32 \n\n15 tours x 4.6 km = 69 km\nEngagements: 9€\n\n  \nOuverture des engagements: le 13/03/2024 à 18h\, clôture le dimanche 28/04/2024 à 20h \nRenseignements: GICQUEL Pierre – e-mail: gicquelpierre@orange.fr / Port: 06.83.08.95.83 \n 
URL:https://www.cyclisme.bzh/epreuve-calendrier/avessac-44-souvenir-robert-heas/
LOCATION:AVESSAC\, 44460\, France
CATEGORIES:Access 1,Access 2,Access 3,Access 4,U15,U17
ORGANIZER;CN="REDON OC (4335040)":MAILTO:gicquelpierre@orange.fr
END:VEVENT
BEGIN:VEVENT
DTSTART;VALUE=DATE:20240501
DTEND;VALUE=DATE:20240502
DTSTAMP:20260420T173337
CREATED:20240315T121633Z
LAST-MODIFIED:20240426T072003Z
UID:10002329-1714521600-1714607999@www.cyclisme.bzh
SUMMARY:Guidel - Grand Prix des Commerçants et Artisans
DESCRIPTION:Attention: nouveau circuit situé à La Villeneuve-Ellé (Guidel-Plages) \nOpen 3 + Access 1-2-3-4 H/F: \n\ndépart: 14h30\n25 tours x 3.15 km = 78.75 km\nPrix coureurs: 396/20\, 1er 78€\nPrix spéciaux U19: 76/3\, 1er 38€\nPrix spéciaux Access 3-4: 76/5\, 1er 27€\nEngagements: 9€\n\n  \nOuverture des engagements: le 15/03/2024 à 18h\, clôture le dimanche 28/04/2024 à 19h \nRenseignements: GEORGES Hervé – e-mail: ccguidelbike@gmail.com / Port: 06.62.65.34.86
URL:https://www.cyclisme.bzh/epreuve-calendrier/guidel-grand-prix-des-commercants-et-artisans/
LOCATION:Guidel\, France
CATEGORIES:Access 1,Access 2,Access 3,Access 4,Open 3
ATTACH;FMTTYPE=image/jpeg:https://www.cyclisme.bzh/wp-content/uploads/2024/03/Grand-Prix-Guidel-2024-scaled.jpg
ORGANIZER;CN="CC GUIDELOIS (4356334)":MAILTO:ccguidelbike@gmail.com
END:VEVENT
BEGIN:VEVENT
DTSTART;VALUE=DATE:20240501
DTEND;VALUE=DATE:20240502
DTSTAMP:20260420T173337
CREATED:20240318T121646Z
LAST-MODIFIED:20240318T122550Z
UID:10002332-1714521600-1714607999@www.cyclisme.bzh
SUMMARY:Plémy - Challenge 22 des Ecoles de cyclisme
DESCRIPTION:U7 à U15 H/F: \n\ndépart: 11h00\ndistance selon l’âge\nEngagements: 2€\n\n  \nOuverture des engagements: le 18/03/2024 à 18h\, clôture le dimanche 28/04/2024 à 20h \nRenseignements: LE GAL Jérôme – e-mail: jerome_legal@hotmail.com / Port: 06.78.83.57.21 \n \nLire en plein écranAller au contenu PDF\n 
URL:https://www.cyclisme.bzh/epreuve-calendrier/plemy-challenge-22-des-ecoles-de-cyclisme/
LOCATION:PLEMY\, France
CATEGORIES:U11,U13,U15,U7,U9
ATTACH;FMTTYPE=image/jpeg:https://www.cyclisme.bzh/wp-content/uploads/2024/03/Plemy-1er-mai-2024_Affiche.jpg
END:VEVENT
BEGIN:VEVENT
DTSTART;VALUE=DATE:20240501
DTEND;VALUE=DATE:20240502
DTSTAMP:20260420T173337
CREATED:20240319T140947Z
LAST-MODIFIED:20240404T123228Z
UID:10002339-1714521600-1714607999@www.cyclisme.bzh
SUMMARY:Le Bran (Gaël)
DESCRIPTION:U15 H/F + U17 F: \n\ndépart: 13h30\n10 tours x 3.3 km = 33 km\nEngagements: 6.50€\n\n  \nAccess 1-2-3-4 H/F: \n\n2 départs:\n\n– Access 1-2: 15h15 – 10 tours x 7.8 km = 78 km \n– Access 3-4: 15h17 – 9 tours x 7.8 km = 70.2 km \n\nEngagements: 9€\n\n  \nOuverture des engagements: le 19/03/2024 à 18h\, clôture le dimanche 28/04/2024 à 20h \nRenseignements: \n\nLELIEVRE Emilie – e-mail: jeje35290@hotmail.fr / Port: 06.71.50.99.72\nLEBRETON Christian – e-mail: lebreton-c@orange.fr / Port: 06.73.63.89.03\n\n 
URL:https://www.cyclisme.bzh/epreuve-calendrier/le-bran-gael-2/
LOCATION:LE BRAN GAEL\, France
CATEGORIES:Access 1,Access 2,Access 3,Access 4,U15,U17 F
ATTACH;FMTTYPE=image/jpeg:https://www.cyclisme.bzh/wp-content/uploads/2024/03/Screenshot_20240404-133058_Drive.jpg
END:VEVENT
BEGIN:VEVENT
DTSTART;VALUE=DATE:20240501
DTEND;VALUE=DATE:20240502
DTSTAMP:20260420T173337
CREATED:20240320T125751Z
LAST-MODIFIED:20240320T125751Z
UID:10002346-1714521600-1714607999@www.cyclisme.bzh
SUMMARY:Dingé - Les Boucles Dingéennes (en ligne) - Elite + Open 1-2-3 H/F
DESCRIPTION:Elite + Open 1-2-3 H/F: \n\ndépart: 14h15\n9 tours x 14.8 km = 133.2 km + 1 tour x 4.2 km soit 137.4 km\nPrix coureurs: 762/20\, 1er 155€\nPrix spéciaux Open 2 et 3: 107/5\, 1er 35€\nEngagements: 10€\n\n  \nOuverture des engagements: le 20/03/2024 à 18h\, clôture le dimanche 28/04/2024 à 20h \nRenseignements: CALLET Daniel – e-mail: teamsojasundaniel@free.fr / Port: 06.21.06.66.94
URL:https://www.cyclisme.bzh/epreuve-calendrier/dinge-les-boucles-dingeennes-en-ligne-elite-open-1-2-3-h-f/
LOCATION:DINGÉ\, France
CATEGORIES:Elite,Open 1,Open 2,Open 3
ORGANIZER;CN="TEAM SOJASUN CYCLISME (4335344)":MAILTO:teamsojasunglh@sfr.fr
END:VEVENT
BEGIN:VEVENT
DTSTART;VALUE=DATE:20240501
DTEND;VALUE=DATE:20240502
DTSTAMP:20260420T173337
CREATED:20240402T130412Z
LAST-MODIFIED:20240402T130412Z
UID:10002379-1714521600-1714607999@www.cyclisme.bzh
SUMMARY:Moustoir-Ac - La Ronde des chiens noirs - Trophée Job Morvan #3 (Open) + Circuit Pontcuel (Access)
DESCRIPTION:Access 1-2-3-4 H/F – Circuit Pontcuel \n\n2 départs:\n\n– Access 1-2: 13h00 \n– Access 3-4: 13h02 \n\n8 tours x 6.7 km = 53.6 km\nEngagements: 9€\n\n  \nOpen 1-2-3 H/F – La Ronde des Chiens Noirs – 3ème épreuve du Trophée Job Morvan \n\ndépart: 15h00\n14 tours x 6.7 km = 93.8 km\nPrix coureurs: 518/20\, 1er 102€\nPrix spéciaux Open 3: 107/5\, 1er 25€\nEngagements: 9€\n\n  \nOuverture des engagements: le 02/04/2024 à 18h\, clôture le dimanche 28/04/2024 à 20h \nRenseignements: \n\nLE LOUER Robert – e-mail: robert.lelouer@laposte.net / Port: 07.61.43.14.00\nPour les engagements: ROBIN Arnaud – e-mail: arnaud.robin38@sfr.fr / Tél: 02.97.44.16.39 – 06.09.38.57.94
URL:https://www.cyclisme.bzh/epreuve-calendrier/moustoir-ac-la-ronde-des-chiens-noirs-trophee-job-morvan-3-open-circuit-pontcuel-access/
LOCATION:MOUSTOIR AC\, France
CATEGORIES:Access 1,Access 2,Access 3,Access 4,Open 1,Open 2,Open 3
END:VEVENT
BEGIN:VEVENT
DTSTART;VALUE=DATE:20240501
DTEND;VALUE=DATE:20240502
DTSTAMP:20260420T173337
CREATED:20240403T094932Z
LAST-MODIFIED:20240425T092922Z
UID:10002384-1714521600-1714607999@www.cyclisme.bzh
SUMMARY:Plobannalec Lesconil - Lieu-dit Kerdalae Plonivel - Grand Prix Super U et ses courses d'attente
DESCRIPTION:Régularité route – U7 H/F à U13 H/F: \n\ndépart: 14h00\ndistance selon l’âge\nEngagements: 2€\n\n  \nU17 H/F: \n\ndépart: 12h00\n18 tours x 3 km = 54 km\nPrix coureurs: 138/10\, 1er 28€\nEngagements: 6.50€\n\n  \nOpen 2-3 + Access 1-2 H/F: \n\ndépart: 15h15\n30 tours x 3 km = 90 km\nPrix coureurs: 305/15\, 1er 61€\nPrix spéciaux U19: 91/5\, 1er 29€\nEngagements: 9€\n\n  \nOuverture des engagements: le 03/04/2024 à 18h\, clôture le dimanche 28/04/2024 à 20h \nRenseignements: LE FLOC’H Céline – club.cycliste.bigouden@gmail.com
URL:https://www.cyclisme.bzh/epreuve-calendrier/plobannalec-lesconil-lieu-dit-kerdalae-plonivel-grand-prix-super-u-et-ses-courses-dattente/
LOCATION:PLOBANNALEC-LESCONIL\, PLOBANNALEC-LESCONIL\, Bretagne\, France
CATEGORIES:Access 1,Access 2,Access 3,Access 4,Open 2,Open 3,U11,U13,U17,U7,U9
ORGANIZER;CN="CC BIGOUDEN (4329088)":MAILTO:ccbigouden@gmail.com
END:VEVENT
END:VCALENDAR