BEGIN:VCALENDAR
VERSION:2.0
PRODID:-//Comité de Bretagne de Cyclisme - ECPv6.15.20//NONSGML v1.0//EN
CALSCALE:GREGORIAN
METHOD:PUBLISH
X-ORIGINAL-URL:https://www.cyclisme.bzh
X-WR-CALDESC:Évènements pour Comité de Bretagne de Cyclisme
REFRESH-INTERVAL;VALUE=DURATION:PT1H
X-Robots-Tag:noindex
X-PUBLISHED-TTL:PT1H
BEGIN:VTIMEZONE
TZID:Europe/Paris
BEGIN:DAYLIGHT
TZOFFSETFROM:+0100
TZOFFSETTO:+0200
TZNAME:CEST
DTSTART:20230326T010000
END:DAYLIGHT
BEGIN:STANDARD
TZOFFSETFROM:+0200
TZOFFSETTO:+0100
TZNAME:CET
DTSTART:20231029T010000
END:STANDARD
BEGIN:DAYLIGHT
TZOFFSETFROM:+0100
TZOFFSETTO:+0200
TZNAME:CEST
DTSTART:20240331T010000
END:DAYLIGHT
BEGIN:STANDARD
TZOFFSETFROM:+0200
TZOFFSETTO:+0100
TZNAME:CET
DTSTART:20241027T010000
END:STANDARD
BEGIN:DAYLIGHT
TZOFFSETFROM:+0100
TZOFFSETTO:+0200
TZNAME:CEST
DTSTART:20250330T010000
END:DAYLIGHT
BEGIN:STANDARD
TZOFFSETFROM:+0200
TZOFFSETTO:+0100
TZNAME:CET
DTSTART:20251026T010000
END:STANDARD
END:VTIMEZONE
BEGIN:VEVENT
DTSTART;VALUE=DATE:20240425
DTEND;VALUE=DATE:20240502
DTSTAMP:20260420T234227
CREATED:20240416T113838Z
LAST-MODIFIED:20240416T114121Z
UID:10002424-1714003200-1714607999@www.cyclisme.bzh
SUMMARY:Tour de Bretagne Cycliste
DESCRIPTION:Toutes les infos sur le lien suivant: \nhttps://www.tourdebretagne.bzh/ \n 
URL:https://www.cyclisme.bzh/epreuve-calendrier/tour-de-bretagne-cycliste-2/
LOCATION:LOCMARIA PLOUZANÉ\, LOCMARIA PLOUZANÉ\, Bretagne\, France
ORGANIZER;CN="CC RUBAN GRANITIER BRETON (4322243)":MAILTO:michan.balan@hotmail.fr
END:VEVENT
BEGIN:VEVENT
DTSTART;VALUE=DATE:20240428
DTEND;VALUE=DATE:20240429
DTSTAMP:20260420T234227
CREATED:20240301T104656Z
LAST-MODIFIED:20240418T124159Z
UID:10002285-1714262400-1714348799@www.cyclisme.bzh
SUMMARY:Ergué Gabéric - Trophée Départemental des Ecoles de Cyclisme
DESCRIPTION:U7 H/F à U13 H/F: \n\ndépart: 9h00\ndistance selon l’âge\nEngagements: gratuit et par bulletin d’engagement\n\n  \nOuverture des engagements: le 01/03/2024 à 18h\, clôture le mardi 23/04/2024 à 12h \nRenseignements: CARPON Murielle – e-mail: murielle.carpon@hotmail.fr \n  \nLire en plein écranAller au contenu PDF\nLire en plein écranAller au contenu PDF
URL:https://www.cyclisme.bzh/epreuve-calendrier/ergue-gaberic-trophee-departemental-des-ecoles-de-cyclisme/
LOCATION:Ergué Gabéric\, Ergué Gabéric\, France
CATEGORIES:Ecole de cyclisme
ORGANIZER;CN="CC ERGUE GABERIC (4329232)":MAILTO:julien.carpon@laposte.net
END:VEVENT
BEGIN:VEVENT
DTSTART;VALUE=DATE:20240428
DTEND;VALUE=DATE:20240429
DTSTAMP:20260420T234227
CREATED:20240315T102339Z
LAST-MODIFIED:20240315T102712Z
UID:10002328-1714262400-1714348799@www.cyclisme.bzh
SUMMARY:Plabennec - Open 3 + Access 1-2-3-4 H / Challenge Pen Ar Bed pour les U17 H
DESCRIPTION:U17 H: \n\ndépart: 12h30\n10 tours x 5.68 km = 56.8 km\nPrix coureurs: 138/10\, 1er 28€\nEngagements: 6.50€\n\n  \nOpen 3 + Access 1-2-3-4 H: \n\ndépart: 14h30\n16 tours x 5.68 km = 90.88 km\nPrix coureurs: 183/10\, 1er 37€\nEngagements: 9€\n\n  \nOuverture des engagements: le 15/03/2024 à 18h\, clôture le jeudi 25/04/2024 à 20h \nRenseignements: QUEFFURUS Lionel – e-mail: vspvtt@gmail.com / Port: 06.33.21.11.89 \n  \nLire en plein écranAller au contenu PDF
URL:https://www.cyclisme.bzh/epreuve-calendrier/plabennec-open-3-access-1-2-3-4-h-challenge-pen-ar-bed-pour-les-u17-h/
LOCATION:PLABENNEC\, France
CATEGORIES:Access 1,Access 2,Access 3,Access 4,Open 3,U17
ORGANIZER;CN="VS PLABENNEC (4329033)":MAILTO:vspvtt@gmail.com
END:VEVENT
BEGIN:VEVENT
DTSTART;VALUE=DATE:20240428
DTEND;VALUE=DATE:20240429
DTSTAMP:20260420T234227
CREATED:20240318T104549Z
LAST-MODIFIED:20240318T104721Z
UID:10002331-1714262400-1714348799@www.cyclisme.bzh
SUMMARY:Lamballe - Circuit du Rouet
DESCRIPTION:U15 H: \n\ndépart: 12h15\n9 tours x 2.7 km = 24.3 km\nPrix coureurs: 107/10\, 1er 20€\nEngagements: 6.50€\n\n  \nU17 H: \n\ndépart: 13h30\n18 tours x 2.7 km = 48.6 km\nPrix coureurs: 107/10\, 1er 20€\nEngagements: 6.50€\n\n  \nOpen 2-3 + Access 1-2 H: \n\ndépart: 15h30\n33 tours x 2.7 km = 89.1 km\nPrix coureurs: 259/15\, 1er 50€\nEngagements: 9€\n\n  \nOuverture des engagements: le 18/03/2024 à 18h\, clôture le jeudi 25/04/2024 à 20h \nRenseignements: BREDIN Corinne – e-mail: codebredin@orange.fr / Port: 06.14.10.81.80 \n 
URL:https://www.cyclisme.bzh/epreuve-calendrier/lamballe-circuit-du-rouet-4/
LOCATION:LAMBALLE\, 22400\, France
CATEGORIES:Access 1,Access 2,Open 2,Open 3,U15,U17
END:VEVENT
BEGIN:VEVENT
DTSTART;VALUE=DATE:20240428
DTEND;VALUE=DATE:20240429
DTSTAMP:20260420T234227
CREATED:20240321T101841Z
LAST-MODIFIED:20240327T132741Z
UID:10002352-1714262400-1714348799@www.cyclisme.bzh
SUMMARY:St Méen le Grand - Trophée départemental des Ecoles de Cyclisme d'Ile-et-Vilaine
DESCRIPTION:U9 H/F à U13 H/F: \n\ndépart: 9h00\ndistance selon l’âge\nEngagement gratuit\n\n  \nOuverture des engagements: le 21/03/2024 à 18h\, clôture le jeudi 18/04/2024 à 20h \nRenseignements: LOCHET Annick – e-mail: annicklochet@orange.fr / Port: 06.66.54.16.97
URL:https://www.cyclisme.bzh/epreuve-calendrier/st-meen-le-grand-trophee-departemental-des-ecoles-de-cyclisme-dile-et-vilaine/
LOCATION:ST MEEN LE GRAND\, ST MEEN LE GRAND\, Bretagne\, France
CATEGORIES:U11,U13,U9
ORGANIZER;CN="VC MEVENNAIS (4335001)":MAILTO:simonlaur@wanadoo.fr
END:VEVENT
BEGIN:VEVENT
DTSTART;VALUE=DATE:20240428
DTEND;VALUE=DATE:20240429
DTSTAMP:20260420T234227
CREATED:20240326T125701Z
LAST-MODIFIED:20240326T125701Z
UID:10002368-1714262400-1714348799@www.cyclisme.bzh
SUMMARY:Lanester - Circuit des Jeunes
DESCRIPTION:Régularité route – U7 H/F à U13 H/F: \n\ndépart: 13h00\ndistance selon l’âge\nEngagements: 2€\n\n  \nU15 H: \n\ndépart: 14h15\n14 tours x 2 km = 28 km\nPrix coureurs: 107/10\, 1er 20€\nEngagements: 6.50€\n\n  \nU17 H: \n\ndépart: 15h30\n26 tours x 2 km = 52 km\nPrix coureurs: 138/10\, 1er 28€\nEngagements: 6.50€\n\n  \nOuverture des engagements: le 26/03/2024 à 18h\, clôture le jeudi 25/04/2024 à 20h \nRenseignements: SAGOT Jean-Christophe – e-mail: jeanchristophe.sagot@gmail.com / Port: 06.88.71.39.46
URL:https://www.cyclisme.bzh/epreuve-calendrier/lanester-circuit-des-jeunes-3/
LOCATION:Lanester\, France
CATEGORIES:U11,U13,U15,U17,U7,U9
ORGANIZER;CN="AC LANESTER 56 (4356338)":MAILTO:contact@aclanester56.com
END:VEVENT
BEGIN:VEVENT
DTSTART;VALUE=DATE:20240428
DTEND;VALUE=DATE:20240429
DTSTAMP:20260420T234227
CREATED:20240326T133611Z
LAST-MODIFIED:20240402T081844Z
UID:10002369-1714262400-1714348799@www.cyclisme.bzh
SUMMARY:Kerdéhel en Baud - Circuit des Chênes
DESCRIPTION:Access 1-2-3-4 H: \n\n2 départs:\n\n– Access 1-2: 12h30 – 11 tours x 5.55 km = 61.05 km \n– Access 3-4: 12h30 et 30 s – 10 tours x 5.55 km = 55.5 km \n\nEngagements: 9€\n\n  \nOpen 1-2-3 H: \n\ndépart: 15h00\n16 tours x 5.55 km = 88.8 km\nPrix coureurs: 610/20\, 1er 122€\nPrix spéciaux U19: 91/10\, 1er 17€\nEngagements: 9€\n\n  \nOuverture des engagements: le 26/03/2024 à 18h\, clôture le jeudi 25/04/2024 à 20h \nRenseignements: \n\nCHARRIER Franck – e-mail: franck.charrier@sfr.fr / Port: 06.32.26.71.19\nKERGUEN Emma – e-mail: emmajahier@gmail.com
URL:https://www.cyclisme.bzh/epreuve-calendrier/kerdehel-en-baud-circuit-des-chenes-2/
LOCATION:KERDÉHEL EN BAUD\, France
CATEGORIES:Access 1,Access 2,Access 3,Access 4,Open 1,Open 2,Open 3
ORGANIZER;CN="AC PAYS DE BAUD (4356342)":MAILTO:acpbaud@laposte.net
END:VEVENT
BEGIN:VEVENT
DTSTART;VALUE=DATE:20240428
DTEND;VALUE=DATE:20240429
DTSTAMP:20260420T234227
CREATED:20240327T133837Z
LAST-MODIFIED:20240405T092503Z
UID:10002373-1714262400-1714348799@www.cyclisme.bzh
SUMMARY:Bignan - Coupe de Bretagne VTT XC
DESCRIPTION:U9 H/F à U13 H/F: 7€\nU15 H/F et U17 H/F: 11€\nU19 H\, Femmes 17 ans et +\, Hommes 19 ans et +\, Masters H\, Départementaux H: 12.50€\n\n  \nOuverture des engagements: le 27/03/2024 à 18h\, clôture le jeudi 25/04/2024 à 20h \nRenseignements: CHENIER Guillaume – e-mail: crazywoodvtt@gmail.com / Port: 06.80.45.86.23
URL:https://www.cyclisme.bzh/epreuve-calendrier/bignan-coupe-de-bretagne-vtt-xc/
LOCATION:BIGNAN\, France
CATEGORIES:Access,Elite,Elite Pro,Epreuve de Masse VTT,Open,U11,U13,U15,U17,U9
ORGANIZER;CN="CRAZY WOOD VTT (4356394)":MAILTO:crazywoodvtt@gmail.com
END:VEVENT
BEGIN:VEVENT
DTSTART;VALUE=DATE:20240428
DTEND;VALUE=DATE:20240429
DTSTAMP:20260420T234227
CREATED:20240327T134039Z
LAST-MODIFIED:20240327T134039Z
UID:10002374-1714262400-1714348799@www.cyclisme.bzh
SUMMARY:Bignan - Championnat de Bretagne de VTT DH
DESCRIPTION:U15 H/F et U17 H/F: 14€\n17 ans et + H/F: 15.50€\n\n  \nOuverture des engagements: le 27/03/2024 à 18h\, clôture le jeudi 25/04/2024 à 20h \nRenseignements: CHENIER Guillaume – e-mail: crazywoodvtt@gmail.com / Port: 06.80.45.86.23
URL:https://www.cyclisme.bzh/epreuve-calendrier/bignan-championnat-de-bretagne-de-vtt-dh/
LOCATION:BIGNAN\, France
CATEGORIES:Access,Elite,Elite Pro,Epreuve de Masse VTT,Open,U15,U17
ORGANIZER;CN="CRAZY WOOD VTT (4356394)":MAILTO:crazywoodvtt@gmail.com
END:VEVENT
BEGIN:VEVENT
DTSTART;VALUE=DATE:20240428
DTEND;VALUE=DATE:20240429
DTSTAMP:20260420T234227
CREATED:20240402T121150Z
LAST-MODIFIED:20240402T121150Z
UID:10002378-1714262400-1714348799@www.cyclisme.bzh
SUMMARY:Plounérin gare - Access 1-2-3-4 H
DESCRIPTION:Access 1-2-3-4 H: \n\n2 départs:\n\n– Access 1-2: 15h00 – 16 tours x 4.4 km = 70.4 km \n– Access 3-4: 15h02 – 13 tours x 4.4 km = 57.2 km \n\nEngagements: 9€\n\n  \nOuverture des engagements: le 02/04/2024 à 18h\, clôture le jeudi 25/04/2024 à 20h \nRenseignements: LORINQUER Aurélie – e-mail: alorinquer@yahoo.fr / Port: 06.60.98.56.37
URL:https://www.cyclisme.bzh/epreuve-calendrier/plounerin-gare-access-1-2-3-4-h/
LOCATION:PLOUNERIN GARE\, France
CATEGORIES:Access 1,Access 2,Access 3,Access 4
ORGANIZER;CN="HERMINE CYC. DU TREGOR (4322409)":MAILTO:hct22@laposte.net
END:VEVENT
BEGIN:VEVENT
DTSTART;VALUE=DATE:20240428
DTEND;VALUE=DATE:20240429
DTSTAMP:20260420T234227
CREATED:20240408T142412Z
LAST-MODIFIED:20240424T071633Z
UID:10002395-1714262400-1714348799@www.cyclisme.bzh
SUMMARY:Le Hinglé - Trophée Départemental des Jeunes Cyclistes (22)
DESCRIPTION:U7 H/F à U13 H/F: \n\ndépart: 9h00\ndistance selon l’âge\nEngagements: gratuit\n\n  \nLa participation est obligatoire pour les coureurs du 22 sur cette épreuve et non sur une autre épreuve même dans un autre département \n  \nOuverture des engagements: le 08/04/2024 à 18h\, clôture le jeudi 25/04/2024 à 18h \nRenseignements: COLOMBEL Nicolas – e-mail: colombel.teampaysdinan@outlook.fr / Port: 06.74.42.93.75
URL:https://www.cyclisme.bzh/epreuve-calendrier/le-hingle-trophee-departemental-des-jeunes-cyclistes-22/
LOCATION:LE HINGLE\, LE HINGLE\, Bretagne\, France
CATEGORIES:U11,U13,U7,U9
END:VEVENT
BEGIN:VEVENT
DTSTART;VALUE=DATE:20240428
DTEND;VALUE=DATE:20240429
DTSTAMP:20260420T234227
CREATED:20240410T132841Z
LAST-MODIFIED:20240419T083152Z
UID:10002409-1714262400-1714348799@www.cyclisme.bzh
SUMMARY:Plourin lès Morlaix - Challenge Morlaix Communauté Groupama
DESCRIPTION:U15 F + U17 F: \n\ndépart: 12h30\nU15 F: 8 tours x 5.1 km = 40.8 km\nU17 F: 10 tours x 5.1 km = 51 km\nPrix coureurs U15 F: 47/5\, 1ère 18€\nPrix coureurs U17 F: 107/10\, 1ère 20€\nEngagements: 6.50€\n\n  \nFemmes 17 ans et +: \n\ndépart: 14h30\n15 tours x 5.1 km = 76.5 km\nPrix coureurs: 244/15\, 1er 49€\nPrix spéciaux U19: 107/5\, 1er 35€\nEngagements: 9€\n\n  \nOuverture des engagements: le 10/04/2024 à 18h\, clôture le jeudi 25/04/2024 à 20h \nRenseignements: \n\nDENIEL Katell – e-mail: team.yann.tbfo.tresorerie@gmail.com / Port: 06.16.81.59.29\nDENIEL Loïc – e-mail: team.yann.tbfo@gmail.com / Port: 06.09.41.12.38\nDOUGUET Stéphane – e-mail: douguetstef@yahoo.fr / Port: 06.30.72.19.51
URL:https://www.cyclisme.bzh/epreuve-calendrier/plourin-les-morlaix-challenge-morlaix-communaute-groupama/
LOCATION:PLOURIN LES MORLAIX\, PLOURIN LES MORLAIX\, Bretagne\, France
CATEGORIES:Femmes 17 ans et +,U15 F,U17 F
ORGANIZER;CN="TEAM YANN TBFO":MAILTO:team.yann.tfbo@gmail.com
END:VEVENT
BEGIN:VEVENT
DTSTART;VALUE=DATE:20240428
DTEND;VALUE=DATE:20240429
DTSTAMP:20260420T234227
CREATED:20240411T084332Z
LAST-MODIFIED:20240416T085524Z
UID:10002412-1714262400-1714348799@www.cyclisme.bzh
SUMMARY:Théhillac - Prix des bords de Vilaine
DESCRIPTION:Régularité route – U7 H/F à U13 H/F: \n\ndépart: 13h30\ndistance selon l’âge\nEngagements: 2€\n\n  \nOpen 3 + Access 1-2-3-4 H: \n\n2 départs:\n\n– Open 3 + Access 1-2: 15h30 – 20 tours x 4.2 = 84 km \n– Access 3-4: 15h32 – 18 tours x 4.2 = 75.6 km \n\nEngagements: 9€\n\n  \nOuverture des engagements: le 11/04/2024 à 18h\, clôture le jeudi 25/04/2024 à 20h \nRenseignements: FLEURY Stéphane – e-mail: stephanefleury3@wanadoo.fr / Port: 06.64.82.57.53
URL:https://www.cyclisme.bzh/epreuve-calendrier/thehillac-prix-des-bords-de-vilaine-2/
LOCATION:Théhillac\, France
CATEGORIES:Access 1,Access 2,Access 3,Access 4,Open 3,U11,U13,U7,U9
ORGANIZER;CN="VS RIEUXOIS 56 (4356005)":MAILTO:romainlelievre2011@gmail.com
END:VEVENT
END:VCALENDAR