BEGIN:VCALENDAR
VERSION:2.0
PRODID:-//Comité de Bretagne de Cyclisme - ECPv6.15.20//NONSGML v1.0//EN
CALSCALE:GREGORIAN
METHOD:PUBLISH
X-WR-CALNAME:Comité de Bretagne de Cyclisme
X-ORIGINAL-URL:https://www.cyclisme.bzh
X-WR-CALDESC:Évènements pour Comité de Bretagne de Cyclisme
REFRESH-INTERVAL;VALUE=DURATION:PT1H
X-Robots-Tag:noindex
X-PUBLISHED-TTL:PT1H
BEGIN:VTIMEZONE
TZID:Europe/Paris
BEGIN:DAYLIGHT
TZOFFSETFROM:+0100
TZOFFSETTO:+0200
TZNAME:CEST
DTSTART:20230326T010000
END:DAYLIGHT
BEGIN:STANDARD
TZOFFSETFROM:+0200
TZOFFSETTO:+0100
TZNAME:CET
DTSTART:20231029T010000
END:STANDARD
BEGIN:DAYLIGHT
TZOFFSETFROM:+0100
TZOFFSETTO:+0200
TZNAME:CEST
DTSTART:20240331T010000
END:DAYLIGHT
BEGIN:STANDARD
TZOFFSETFROM:+0200
TZOFFSETTO:+0100
TZNAME:CET
DTSTART:20241027T010000
END:STANDARD
BEGIN:DAYLIGHT
TZOFFSETFROM:+0100
TZOFFSETTO:+0200
TZNAME:CEST
DTSTART:20250330T010000
END:DAYLIGHT
BEGIN:STANDARD
TZOFFSETFROM:+0200
TZOFFSETTO:+0100
TZNAME:CET
DTSTART:20251026T010000
END:STANDARD
END:VTIMEZONE
BEGIN:VEVENT
DTSTART;VALUE=DATE:20240310
DTEND;VALUE=DATE:20240311
DTSTAMP:20260420T232543
CREATED:20240122T144400Z
LAST-MODIFIED:20240220T111819Z
UID:10002211-1710028800-1710115199@www.cyclisme.bzh
SUMMARY:Guipavas - Grand Prix de Lestaridec
DESCRIPTION:U17 H/F: \n\ndépart: 12h30\n10 tours x 5.3 km = 53 km\nPrix coureurs 168/10\, 1er 34€\nEngagements: 6.50€\n\n  \nOpen 2-3 + Access 1/2 H/F: \n\ndépart: 14h30\n18 tours x 5.3 km = 95.4 km\nPrix coureurs: 396/20\, 1er 78€\nEngagements: 9€\n\n  \nOuverture des engagements: le 22/01/2024 à 18h\, clôture le jeudi 07/03/2024 à 20h \nRenseignements: LE ROUX Laurence – e-mail: ucg29@laposte.net / Port: 06.87.14.30.24 \n 
URL:https://www.cyclisme.bzh/epreuve-calendrier/guipavas-grand-prix-de-lestaridec/
LOCATION:Guipavas Lestaridec
CATEGORIES:Access 1,Access 2,Open 2,Open 3,U17
ATTACH;FMTTYPE=image/jpeg:https://www.cyclisme.bzh/wp-content/uploads/2024/01/Affiche-Lestaridec2024jpg-scaled.jpg
ORGANIZER;CN="UC Guipavas":MAILTO:bernard.calvez29@orange.fr
END:VEVENT
BEGIN:VEVENT
DTSTART;VALUE=DATE:20240310
DTEND;VALUE=DATE:20240311
DTSTAMP:20260420T232543
CREATED:20240123T132053Z
LAST-MODIFIED:20240123T132200Z
UID:10002215-1710028800-1710115199@www.cyclisme.bzh
SUMMARY:Javené - Régularité Route / U15 H/F / U17 H/F
DESCRIPTION:Régularité Route U7 H/F à U13 H/F: \n\ndépart: 10h30\ndistance selon l’âge\nEngagements: 2€\n\n  \nU15 H/F: \n\ndépart: 14h00\n5 tours x 5.1 km = 25.5 km\nEngagements: 6.50€\n\n  \nU17 H/F: \n\ndépart: 15h15\n10 tours x 5.1 km = 51 km\nEngagements: 6.50€\n\n  \nOuverture des engagements: le 23/01/2024 à 18h\, clôture le jeudi 07/03/2024 à 20h \nRenseignements: TIENVROT Louis – e-mail: louis.tienvrot35@orange.fr
URL:https://www.cyclisme.bzh/epreuve-calendrier/javene-regularite-route-u15-h-f-u17-h-f/
LOCATION:JAVENÉ
CATEGORIES:U11,U13,U15,U17,U7,U9
ORGANIZER;CN="GO Fougerais":MAILTO:louis.tienvrot35@orange.fr
END:VEVENT
BEGIN:VEVENT
DTSTART;VALUE=DATE:20240310
DTEND;VALUE=DATE:20240311
DTSTAMP:20260420T232543
CREATED:20240123T135438Z
LAST-MODIFIED:20240207T143215Z
UID:10002216-1710028800-1710115199@www.cyclisme.bzh
SUMMARY:Rieux - Grand Prix du Printemps
DESCRIPTION:U17 H/F: \n\ndépart: 13h30\n10 tours x 4.8 km = 48 km\nEngagements: 6.50€\n\n  \nAccess 3-4 H/F:  \n\ndépart: 10h00\n13 tours x 4.8 km = 62.4 km\nEngagements: 9€\n\n  \nOpen 3 + Access 1-2 H/F: \n\ndépart: 15h15\n18 tours x 4.8 km = 87 km\nEngagements: 9€\n\n  \nOuverture des engagements: le 23/01/2024 à 18h\, clôture le jeudi 07/03/2024 à 20h \nRenseignements: FLEURY Stéphane – e-mail: stephanefleury3@wanadoo.fr / Port: 06.64.82.57.53
URL:https://www.cyclisme.bzh/epreuve-calendrier/rieux-grand-prix-du-printemps-2/
LOCATION:RIEUX
CATEGORIES:Access 1,Access 2,Access 3,Access 4,Open 3,U17
ATTACH;FMTTYPE=image/jpeg:https://www.cyclisme.bzh/wp-content/uploads/2024/01/rieux-grand-prix-du-printemps-10-mars-2024-affiche.jpg
ORGANIZER;CN="VS RIEUXOIS 56 (4356005)":MAILTO:romainlelievre2011@gmail.com
END:VEVENT
BEGIN:VEVENT
DTSTART;VALUE=DATE:20240310
DTEND;VALUE=DATE:20240311
DTSTAMP:20260420T232543
CREATED:20240123T141937Z
LAST-MODIFIED:20240202T083716Z
UID:10002217-1710028800-1710115199@www.cyclisme.bzh
SUMMARY:Dolo - Circuit de la Touche
DESCRIPTION:U15 H/F + U17 F: \n\ndépart: 12h15\n5 tours x 4.4 km = 22 km\nPrix coureurs: 107/10\, 1er 20€\nEngagements: 6.50€\n\n  \nU17 H: \n\ndépart: 13h30\n11 tours x 4.4 km = 48.4 km\nPrix coureurs: 107/10\, 1er 20€\nEngagements: 6.50€\n\n  \nOpen 2-3 + Access 1-2 H/F: \n\ndépart: 15h30\n21 tours x 4.4 km = 92.4 km\nPrix coureurs: 259/15\, 1er 50€\nEngagements: 9€\n\n  \nOuverture des engagements: le 23/01/2024 à 18\, clôture le jeudi 07/03/2024 à 20h \nRenseignements: BREDIN Corinne – e-mail: codebredin@orange.fr / Port: 06.14.10.81.80
URL:https://www.cyclisme.bzh/epreuve-calendrier/dolo-circuit-de-la-touche-3/
LOCATION:DOLO\, DOLO\, Bretagne\, France
CATEGORIES:Access 1,Access 2,Open 2,Open 3,U15,U17
END:VEVENT
BEGIN:VEVENT
DTSTART;VALUE=DATE:20240310
DTEND;VALUE=DATE:20240311
DTSTAMP:20260420T232543
CREATED:20240124T095529Z
LAST-MODIFIED:20240222T081924Z
UID:10002222-1710028800-1710115199@www.cyclisme.bzh
SUMMARY:Loudéac - Hippodrome - Challenge Centre Bretagne pour les U15 et U17
DESCRIPTION:Régularité Route – U7  H/F à U13 H/F: \n\ndépart: 13h00\ndistance selon l’âge\nEngagements: 2€\n\n  \nU15 H/F + U17 F – Challenge Centre Bretagne \n\ndépart: 14h30\n7 tours x 3.72 km = 26.04 km\nPrix coureurs: 107/10\, 1er 20€\nEngagements: 6.50€\n\n  \nU17 H + U19 F – Challenge Centre Bretagne pour les U17 H \n\ndépart: 16h00\n13 tours x 3.72 km = 48.36 km\nPrix coureurs: 107/10\, 1er 20€\nEngagements: 6.50€\n\n  \nOuverture des engagements: le 24/01/2024 à 18h\, clôture le jeudi 07/03/2024 à 20h \nRenseignements: HARNOIS Yvon – 06.28.36.69.18 \n  \nLire en plein écranAller au contenu PDF\n 
URL:https://www.cyclisme.bzh/epreuve-calendrier/loudeac-hippodrome-challenge-centre-bretagne-pour-les-u15-et-u17/
LOCATION:Loudéac
CATEGORIES:U11,U13,U15,U17,U19 F,U7,U9
ORGANIZER;CN="VCP Loud%C3%A9ac":MAILTO:secretariatvcpl@orange.fr
END:VEVENT
BEGIN:VEVENT
DTSTART;VALUE=DATE:20240310
DTEND;VALUE=DATE:20240311
DTSTAMP:20260420T232543
CREATED:20240124T150545Z
LAST-MODIFIED:20240306T111104Z
UID:10002227-1710028800-1710115199@www.cyclisme.bzh
SUMMARY:Circuit du Morbihan - Trophée Jean Floc'h - Souvenir Claude Le Grand
DESCRIPTION:Elite + Open 1 H: \nLimité à 10 coureurs par équipe dans un premier temps\, barrière levée le 06/03 \n\nMoréac – Baud\ndépart: 13h30\n71.2 km en ligne + 12 tours x 7.15 km = 157 km\nPrix coureurs: 1372/20\, 1er 272€\nPrix spéciaux Open 1: 274/10\, 1er 55€\nEngagements: 10€\n\n  \nOuverture des engagements: le 26/01/2024 à 18h\, clôture le jeudi 07/03/2024 à 20h \nRenseignements: LE GRAND Patrick – e-mail: patrick.le-grand0852@orange.fr / Port: 06.47.81.55.40
URL:https://www.cyclisme.bzh/epreuve-calendrier/circuit-du-morbihan-trophee-jean-floch-souvenir-claude-le-grand/
LOCATION:MOREAC\, MOREAC\, Bretagne\, France
CATEGORIES:Elite,Open 1
ATTACH;FMTTYPE=image/jpeg:https://www.cyclisme.bzh/wp-content/uploads/2024/01/circuit-du-morbihan-trophee-jean-floc-h-10-mars-2024-affichejpg.jpg
ORGANIZER;CN="MORBIHAN ORG. CYCL. 56 (4356332)":MAILTO:patrick.le-grand0852@orange.fr
END:VEVENT
BEGIN:VEVENT
DTSTART;VALUE=DATE:20240310
DTEND;VALUE=DATE:20240311
DTSTAMP:20260420T232543
CREATED:20240124T151243Z
LAST-MODIFIED:20240206T131707Z
UID:10002228-1710028800-1710115199@www.cyclisme.bzh
SUMMARY:Baud - Course d'attente du Circuit du Morbihan - Trophée Jean Floc'h - Souvenir Claude Le Grand
DESCRIPTION:Open 2-3 + Access 1-2 H/F: \n\ndépart: 12h30\n12 tours x 7.15 km = 85.8 km\nPrix coureurs: 274/15\, 1er 53€\nPrix spéciaux U19: 91/5\, 1er 29€\nEngagements: 9€\n\n  \nOuverture des engagements: le 26/01/2024 à 18h\, clôture le jeudi 07/03/2024 à 20h \nRenseignements: LE GRAND Patrick – e-mail: patrick.le-grand0852@orange.fr / Port: 06.47.81.55.40 \n 
URL:https://www.cyclisme.bzh/epreuve-calendrier/baud-course-dattente-du-circuit-du-morbihan-trophee-jean-floch-souvenir-claude-le-grand/
LOCATION:Baud\, France
CATEGORIES:Access 1,Access 2,Open 2,Open 3
ATTACH;FMTTYPE=image/jpeg:https://www.cyclisme.bzh/wp-content/uploads/2024/01/circuit-du-morbihan-trophee-jean-floc-h-10-mars-2024-affichejpg.jpg
ORGANIZER;CN="MORBIHAN ORG. CYCL. 56 (4356332)":MAILTO:patrick.le-grand0852@orange.fr
END:VEVENT
BEGIN:VEVENT
DTSTART;VALUE=DATE:20240310
DTEND;VALUE=DATE:20240311
DTSTAMP:20260420T232544
CREATED:20240126T095813Z
LAST-MODIFIED:20240206T131106Z
UID:10002231-1710028800-1710115199@www.cyclisme.bzh
SUMMARY:Noyal-Châtillon - Trophée Louison Bobet
DESCRIPTION:Fédérale U19 H: \nLimitée à 6 coureurs par club ou sélection départementale \n\ndépart de Chartres-de-Bretagne à 14h00\n77 km en ligne + 6 tous x 8 km = 125 km\nPrix coureurs: 610/20\, 1er 106€\nEngagements: 10€\n\nPas d’engagement sur la ligne \n  \nOuverture des engagements: le 29/01/2024 à 18h\, clôture le mardi 05/03/2024 à 20h \nRenseignements: HEULOT Alain – e-mail: alain.heulot@orange.fr / Port: 06.81.30.21.03
URL:https://www.cyclisme.bzh/epreuve-calendrier/noyal-chatillon-trophee-louison-bobet-2/
LOCATION:CHARTRES DE BRETAGNE\, CHARTRES DE BRETAGNE\, Bretagne\, France
CATEGORIES:Elite,Open 1,Open 2,Open 3
ATTACH;FMTTYPE=image/jpeg:https://www.cyclisme.bzh/wp-content/uploads/2024/01/trophee-louison-bobet-10-mars-2024-affichejpg.jpg
END:VEVENT
BEGIN:VEVENT
DTSTART;VALUE=DATE:20240310
DTEND;VALUE=DATE:20240311
DTSTAMP:20260420T232544
CREATED:20240215T104403Z
LAST-MODIFIED:20240304T101306Z
UID:10002259-1710028800-1710115199@www.cyclisme.bzh
SUMMARY:Redon - Coupe de Bretagne VTT XC #2
DESCRIPTION:Lieu de l’épreuve: Bois de la ruche – Redon \n\nU9 H/F: 9h15 – engagement: 7€\nU11 H/F: 9h45 – engagement: 7€\nU13 H/F: 10h15 – engagement: 7€\nU15 H/F: 11h00 – engagement: 11€\nMasters\, départementaux H\, Femmes 17 ans et +: 12h00 – engagement: 12.50€\nU17 F: 12h00 – engagement: 11€\nU17 H: 14h00 – engagement: 11€\nU19 H\, Hommes 19 ans et +: 15h30 – engagement: 12.50€\n\n  \nOuverture des engagements: le 15/02/2024 à 18h\, clôture le jeudi 07/03/2024 à 20h \nRenseignements: PICHON Muriel – e-mail: muriel-chris@orange.fr / Port: 06.64.88.05.55 \n 
URL:https://www.cyclisme.bzh/epreuve-calendrier/redon-coupe-de-bretagne-vtt-xc-2/
LOCATION:REDON\, France
CATEGORIES:Access,Elite,Elite Pro,Epreuve de Masse VTT,Femmes 17 ans et +,Open,U11,U13,U15,U17,U19,U9
ATTACH;FMTTYPE=application/pdf:https://www.cyclisme.bzh/wp-content/uploads/2024/02/Affiche_Redon-10-Mars.pdf
ORGANIZER;CN="VTT PAYS DE VILAINE (4335438)":MAILTO:denis.michel35@laposte.net
END:VEVENT
END:VCALENDAR