BEGIN:VCALENDAR
VERSION:2.0
PRODID:-//Comité de Bretagne de Cyclisme - ECPv6.15.20//NONSGML v1.0//EN
CALSCALE:GREGORIAN
METHOD:PUBLISH
X-WR-CALNAME:Comité de Bretagne de Cyclisme
X-ORIGINAL-URL:https://www.cyclisme.bzh
X-WR-CALDESC:Évènements pour Comité de Bretagne de Cyclisme
REFRESH-INTERVAL;VALUE=DURATION:PT1H
X-Robots-Tag:noindex
X-PUBLISHED-TTL:PT1H
BEGIN:VTIMEZONE
TZID:Europe/Paris
BEGIN:DAYLIGHT
TZOFFSETFROM:+0100
TZOFFSETTO:+0200
TZNAME:CEST
DTSTART:20220327T010000
END:DAYLIGHT
BEGIN:STANDARD
TZOFFSETFROM:+0200
TZOFFSETTO:+0100
TZNAME:CET
DTSTART:20221030T010000
END:STANDARD
BEGIN:DAYLIGHT
TZOFFSETFROM:+0100
TZOFFSETTO:+0200
TZNAME:CEST
DTSTART:20230326T010000
END:DAYLIGHT
BEGIN:STANDARD
TZOFFSETFROM:+0200
TZOFFSETTO:+0100
TZNAME:CET
DTSTART:20231029T010000
END:STANDARD
BEGIN:DAYLIGHT
TZOFFSETFROM:+0100
TZOFFSETTO:+0200
TZNAME:CEST
DTSTART:20240331T010000
END:DAYLIGHT
BEGIN:STANDARD
TZOFFSETFROM:+0200
TZOFFSETTO:+0100
TZNAME:CET
DTSTART:20241027T010000
END:STANDARD
END:VTIMEZONE
BEGIN:VEVENT
DTSTART;VALUE=DATE:20231105
DTEND;VALUE=DATE:20231106
DTSTAMP:20260422T023606
CREATED:20231017T075816Z
LAST-MODIFIED:20231103T103353Z
UID:10002171-1699142400-1699228799@www.cyclisme.bzh
SUMMARY:Trégunc - Challenge de Cornouaille Sud
DESCRIPTION:Ecole de cyclisme – U7 H/F à U13 H/F: \n\nDépart: 13h15\nDistance selon l’âge\nEngagements: 2€\n\n  \nU15 H/F: \n\nDépart: 14h45\n20 mn\nEngagements: 6.50€\n\n  \nU17 H/F: \n\nDépart: 15h30\n30 mn\nEngagements: 6.50€\n\n  \nOuverture des engagements: le 17/10/2023 à 18h\, clôture le 02/11/2023 à 20h \nRenseignements: LE RAZAVET Aline – e-mail: associationcyclistedetregunc@gmail.com / Port: 06.71.45.21.72
URL:https://www.cyclisme.bzh/epreuve-calendrier/tregunc-challenge-de-cornouaille-sud-3/
LOCATION:TREGUNC\, TREGUNC\, Bretagne\, France
CATEGORIES:U11,U13,U15,U17,U7,U9
ORGANIZER;CN="AC TREGUNCOISE (4329169)":MAILTO:associationcyclistedetregunc@gmail.com
END:VEVENT
END:VCALENDAR