BEGIN:VCALENDAR
VERSION:2.0
PRODID:-//Comité de Bretagne de Cyclisme - ECPv6.15.20//NONSGML v1.0//EN
CALSCALE:GREGORIAN
METHOD:PUBLISH
X-WR-CALNAME:Comité de Bretagne de Cyclisme
X-ORIGINAL-URL:https://www.cyclisme.bzh
X-WR-CALDESC:Évènements pour Comité de Bretagne de Cyclisme
REFRESH-INTERVAL;VALUE=DURATION:PT1H
X-Robots-Tag:noindex
X-PUBLISHED-TTL:PT1H
BEGIN:VTIMEZONE
TZID:Europe/Paris
BEGIN:DAYLIGHT
TZOFFSETFROM:+0100
TZOFFSETTO:+0200
TZNAME:CEST
DTSTART:20220327T010000
END:DAYLIGHT
BEGIN:STANDARD
TZOFFSETFROM:+0200
TZOFFSETTO:+0100
TZNAME:CET
DTSTART:20221030T010000
END:STANDARD
BEGIN:DAYLIGHT
TZOFFSETFROM:+0100
TZOFFSETTO:+0200
TZNAME:CEST
DTSTART:20230326T010000
END:DAYLIGHT
BEGIN:STANDARD
TZOFFSETFROM:+0200
TZOFFSETTO:+0100
TZNAME:CET
DTSTART:20231029T010000
END:STANDARD
BEGIN:DAYLIGHT
TZOFFSETFROM:+0100
TZOFFSETTO:+0200
TZNAME:CEST
DTSTART:20240331T010000
END:DAYLIGHT
BEGIN:STANDARD
TZOFFSETFROM:+0200
TZOFFSETTO:+0100
TZNAME:CET
DTSTART:20241027T010000
END:STANDARD
END:VTIMEZONE
BEGIN:VEVENT
DTSTART;VALUE=DATE:20231014
DTEND;VALUE=DATE:20231015
DTSTAMP:20260422T091527
CREATED:20230904T122552Z
LAST-MODIFIED:20230904T122552Z
UID:10002138-1697241600-1697327999@www.cyclisme.bzh
SUMMARY:Pipriac - "Les Champions d'hier"
DESCRIPTION:“Les Champions d’hier” – sur invitation \nInauguration de la Rue Raymond Poulidor \n\nDépart: 14h\n30 tours x 1.3 km (39 km)\nRenseignements: OLLIVIER Renée – e-mail: a.r.ollivier@orange.fr / Port: 06.43.54.91.70
URL:https://www.cyclisme.bzh/epreuve-calendrier/pipriac-les-champions-dhier-2/
LOCATION:PIPRIAC\, PIPRIAC\, Bretagne\, France
CATEGORIES:Divers
ORGANIZER;CN="VC RENNAIS (4335044)":MAILTO:a.r.ollivier@orange.fr
END:VEVENT
BEGIN:VEVENT
DTSTART;VALUE=DATE:20231014
DTEND;VALUE=DATE:20231015
DTSTAMP:20260422T091527
CREATED:20230905T112951Z
LAST-MODIFIED:20230921T072132Z
UID:10002139-1697241600-1697327999@www.cyclisme.bzh
SUMMARY:Lamballe (St Sauveur) - TDJV 22
DESCRIPTION:Lire en plein écranAller au contenu PDFRenseignements: HOURDIN Daniel – 06.03.20.46.77
URL:https://www.cyclisme.bzh/epreuve-calendrier/lamballe-st-sauveur-finale-tdjv-22/
LOCATION:LAMBALLE\, 22400\, France
CATEGORIES:U11,U13,U15,U17,U9
ATTACH;FMTTYPE=image/jpeg:https://www.cyclisme.bzh/wp-content/uploads/2023/09/AFFICHE-TDJV-LAMBALLE-SAMEDI-14-OCTOBRE-2023-scaled.jpg
END:VEVENT
BEGIN:VEVENT
DTSTART;VALUE=DATE:20231014
DTEND;VALUE=DATE:20231015
DTSTAMP:20260422T091527
CREATED:20230908T091346Z
LAST-MODIFIED:20230928T121554Z
UID:10002143-1697241600-1697327999@www.cyclisme.bzh
SUMMARY:Gouézec - Cyclo-cross
DESCRIPTION:Ecole de cyclisme – U7 H/F à U13 H/F: \n\nDépart: 13h00\nDistance selon l’âge\nEngagements: 2€\n\n  \nU15 H/F: \n\nDépart: 14h30\n20 mn\nEngagements: 6.50€\n\n  \nU17 H/F: \n\nDépart: 15h00\n30 mn\nEngagements: 6.50€\n\n  \nU19 H: \n\nDépart: 15h00\n40 mn\nEngagements: 8.50€\n\n  \nFemmes 17 ans et +: \n\nDépart: 15h00\n40 mn\nEngagements: 8.50€\n\n  \nU23 H + SENIORS H: \n\nDépart: 16h00\n50 mn\nPrix coureurs: 259/15\, 1er 50€\nEngagements: 8.50€\n\n  \nOuverture des engagements: le 08/09/2023 à 18h\, clôture le 11/10/2023 à 20h \nRenseignements: PORHEL Alain – e-mail: sylvie.porhel@orange.fr / Port: 06.17.97.23.25
URL:https://www.cyclisme.bzh/epreuve-calendrier/gouezec-cyclo-cross/
LOCATION:GOUÉZEC
CATEGORIES:Access,Elite,Elite Pro,Femmes 17 ans et +,Open,U11,U13,U15,U17,U7,U9
ORGANIZER;CN="AULNE OLYMPIQUE CYCLISTE (4329222)":MAILTO:clubaoc.pleyben@gmail.com
END:VEVENT
BEGIN:VEVENT
DTSTART;VALUE=DATE:20231014
DTEND;VALUE=DATE:20231015
DTSTAMP:20260422T091527
CREATED:20230919T114205Z
LAST-MODIFIED:20230919T114252Z
UID:10002149-1697241600-1697327999@www.cyclisme.bzh
SUMMARY:Plumieux - Gentleman La Cordon Ragot
DESCRIPTION:PLUMIEUX – GENTLEMAN LA CORDON RAGOT\n\nNous vous attendons nombreux le 14 octobre 2023 pour La Cordon Ragot à Plumieux! \nParcours: \n9\,6 kms \nTarifs: \n15€ par duo \nHoraires: \n12H00 : Tour d’honneur enfants avec champions présents \n13H00 : Départs premiers concurrents \n18H00 : Podiums et remises des récompenses \n18H30 : Jambon à l’os et soirée dansante 13 euros adultes / 7 euros enfants \nInscriptions et parcours : https://sportsnconnect.lequipe.fr/calendrier-evenements/view/19394/la-cordon-ragot
URL:https://www.cyclisme.bzh/epreuve-calendrier/plumieux-gentleman-la-cordon-ragot-2/
LOCATION:PLUMIEUX\, PLUMIEUX\, Bretagne\, France
CATEGORIES:Divers
ATTACH;FMTTYPE=image/jpeg:https://www.cyclisme.bzh/wp-content/uploads/2023/09/Affiche-gentleman.jpg
ORGANIZER;CN="VCP Loud%C3%A9ac":MAILTO:secretariatvcpl@orange.fr
END:VEVENT
END:VCALENDAR