BEGIN:VCALENDAR
VERSION:2.0
PRODID:-//Comité de Bretagne de Cyclisme - ECPv6.15.20//NONSGML v1.0//EN
CALSCALE:GREGORIAN
METHOD:PUBLISH
X-WR-CALNAME:Comité de Bretagne de Cyclisme
X-ORIGINAL-URL:https://www.cyclisme.bzh
X-WR-CALDESC:Évènements pour Comité de Bretagne de Cyclisme
REFRESH-INTERVAL;VALUE=DURATION:PT1H
X-Robots-Tag:noindex
X-PUBLISHED-TTL:PT1H
BEGIN:VTIMEZONE
TZID:Europe/Paris
BEGIN:DAYLIGHT
TZOFFSETFROM:+0100
TZOFFSETTO:+0200
TZNAME:CEST
DTSTART:20220327T010000
END:DAYLIGHT
BEGIN:STANDARD
TZOFFSETFROM:+0200
TZOFFSETTO:+0100
TZNAME:CET
DTSTART:20221030T010000
END:STANDARD
BEGIN:DAYLIGHT
TZOFFSETFROM:+0100
TZOFFSETTO:+0200
TZNAME:CEST
DTSTART:20230326T010000
END:DAYLIGHT
BEGIN:STANDARD
TZOFFSETFROM:+0200
TZOFFSETTO:+0100
TZNAME:CET
DTSTART:20231029T010000
END:STANDARD
BEGIN:DAYLIGHT
TZOFFSETFROM:+0100
TZOFFSETTO:+0200
TZNAME:CEST
DTSTART:20240331T010000
END:DAYLIGHT
BEGIN:STANDARD
TZOFFSETFROM:+0200
TZOFFSETTO:+0100
TZNAME:CET
DTSTART:20241027T010000
END:STANDARD
END:VTIMEZONE
BEGIN:VEVENT
DTSTART;VALUE=DATE:20230909
DTEND;VALUE=DATE:20230910
DTSTAMP:20260422T011201
CREATED:20230719T115825Z
LAST-MODIFIED:20230719T115825Z
UID:10002071-1694217600-1694303999@www.cyclisme.bzh
SUMMARY:Pacé - U17 H/F et Access 1-2-3-4 H/F
DESCRIPTION:U17 H/F: \n\nDépart: 13h15\n11 tours x 5 km (55 km)\nEngagements: 6.50€\n\n  \nAccess 1-2-3-4 H/F: \n\n2 départs:\n\n– Access 1-2: 15h30 – 14 tours x 5 km (70 km) \n– Access 3-4: 15h32 – 11 tours x 5 km (55 km) \n\nEngagements: 8.50€\n\n  \nOuverture des engagements: le 19/07/2023 à 18h\, clôture le 06/09/2023 à 20h \nRenseignements: RENAULT André – e-mail: andre.renault0869@orange.fr
URL:https://www.cyclisme.bzh/epreuve-calendrier/pace-u17-h-f-et-access-1-2-3-4-h-f/
LOCATION:PACE\, France
CATEGORIES:Access 1,Access 2,Access 3,Access 4,U17
ORGANIZER;CN="ASPTT RENNES CYCLISME (4335114)":MAILTO:aspttrennescycling@gmail.com
END:VEVENT
BEGIN:VEVENT
DTSTART;VALUE=DATE:20230909
DTEND;VALUE=DATE:20230910
DTSTAMP:20260422T011201
CREATED:20230719T121353Z
LAST-MODIFIED:20230719T121353Z
UID:10002072-1694217600-1694303999@www.cyclisme.bzh
SUMMARY:Parigné
DESCRIPTION:Régularité route – U7 H/F à U13 H/F: \n\nDépart: 14h\nDistance selon l’âge\nEngagements: 2€\n\n  \nU15 H/F + U17 F: \n\nDépart: 15h30\n11 tours x 2.8 km (30.8 km)\nEngagements: 6.50€\n\n  \nOuverture des engagements: le 19/07/2023 à 18h\, clôture le 06/09/2023 à 20h \nRenseignements: TIENVROT Louis – e-mail: louis.tienvrot35@orange.fr / Port: 06.84.99.54.85
URL:https://www.cyclisme.bzh/epreuve-calendrier/parigne-4/
LOCATION:PARIGNE\, PARIGNE\, Bretagne\, France
CATEGORIES:U11,U13,U15,U17 F,U7,U9
ORGANIZER;CN="GO Fougerais":MAILTO:louis.tienvrot35@orange.fr
END:VEVENT
BEGIN:VEVENT
DTSTART;VALUE=DATE:20230909
DTEND;VALUE=DATE:20230910
DTSTAMP:20260422T011201
CREATED:20230725T092836Z
LAST-MODIFIED:20230725T092836Z
UID:10002086-1694217600-1694303999@www.cyclisme.bzh
SUMMARY:St Evarzec - Championnat de Bretagne des élus et anciens élus 2023
DESCRIPTION:Lire en plein écranAller au contenu PDF
URL:https://www.cyclisme.bzh/epreuve-calendrier/st-evarzec-championnat-de-bretagne-des-elus-et-anciens-elus-2023/
LOCATION:TROYALACH ST EVARZEC
CATEGORIES:Divers
ORGANIZER;CN="KERFEUNTEUN AS (4329264)":MAILTO:edith.debelhoir@wanadoo.fr
END:VEVENT
BEGIN:VEVENT
DTSTART;VALUE=DATE:20230909
DTEND;VALUE=DATE:20230910
DTSTAMP:20260422T011201
CREATED:20230731T081544Z
LAST-MODIFIED:20230731T081613Z
UID:10002094-1694217600-1694303999@www.cyclisme.bzh
SUMMARY:Lorient Lanveur - Elite + Open 1-2-3 H/F
DESCRIPTION:Elite + Open 1-2-3 H/F: \n\nDépart: 15h\n55 tours x 1.55 km (85.25 km)\nPrix coureurs: 610/20\, 1er 122€\nEngagements: 8.50€\n\n  \nOuverture des engagements: le 31/07/2023 à 18h\, clôture le 07/09/2023 à 21h \nRenseignements: AUFFRET Guy – e-mail: guy-auffret@wanadoo.fr / Port: 06.17.45.39.26
URL:https://www.cyclisme.bzh/epreuve-calendrier/lorient-lanveur-elite-open-1-2-3-h-f/
END:VEVENT
BEGIN:VEVENT
DTSTART;VALUE=DATE:20230909
DTEND;VALUE=DATE:20230910
DTSTAMP:20260422T011201
CREATED:20230824T142452Z
LAST-MODIFIED:20230824T142452Z
UID:10002124-1694217600-1694303999@www.cyclisme.bzh
SUMMARY:Landaul - "La landaulaise"
DESCRIPTION:U15 H/F + U17 F: \n\nDépart: 15h00\n6 tours x 4.7 km (28.2 km)\nEngagements: 6.50€\n\n  \nAccess 1-2-3-4 H/F: \n\nDépart: 16h30\n13 tours x 4.7 km (61.1 km)\nEngagements: 8.50€\n\n  \nOuverture des engagements: le 23/08/2023 à 16h\, clôture le 07/09/2023 à 18h \nRenseignements: LE FALHER Jean-Pierre – e-mail: organisations@uc-auray.com / Port: 06.98.77.81.14
URL:https://www.cyclisme.bzh/epreuve-calendrier/landaul-la-landaulaise-3/
LOCATION:LANDAUL\, LANDAUL\, Bretagne\, France
CATEGORIES:Access 1,Access 2,Access 3,Access 4,U15,U17 F
END:VEVENT
BEGIN:VEVENT
DTSTART;VALUE=DATE:20230909
DTEND;VALUE=DATE:20230910
DTSTAMP:20260422T011201
CREATED:20230828T111640Z
LAST-MODIFIED:20230828T111640Z
UID:10002130-1694217600-1694303999@www.cyclisme.bzh
SUMMARY:Vannes - Vélodrome de Kermesquel - Manche de la Coupe du conseil départemental "Souvenir Joël Bourvellec" + Chpt 56 Keirin et Américaine U17 H et 17 ans et + H/F
DESCRIPTION:Lire en plein écranAller au contenu PDF
URL:https://www.cyclisme.bzh/epreuve-calendrier/vannes-velodrome-de-kermesquel-manche-de-la-coupe-du-conseil-departemental-souvenir-joel-bourvellec-chpt-56-keirin-et-americaine-u17-h-et-17-ans-et-h-f/
LOCATION:VANNES\, France
CATEGORIES:Access,Elite,Elite Pro,Open,U15,U17
END:VEVENT
BEGIN:VEVENT
DTSTART;VALUE=DATE:20230909
DTEND;VALUE=DATE:20230911
DTSTAMP:20260422T011201
CREATED:20230719T131213Z
LAST-MODIFIED:20230828T072041Z
UID:10002074-1694217600-1694390399@www.cyclisme.bzh
SUMMARY:La Route du Roc - Louvigné du Désert
DESCRIPTION:Open 2-3 + Access 1-2: \nRéservée aux équipes de 5 coureurs \n\n1ère étape: Course en ligne + circuit final\n\n– Départ: 14h15 \n– 74 km en ligne + 4 tours x 8.4 km = 107.6 km \n– Prix coureurs: 122/10\, 1er 24€ \n  \n\n2ème étape: CLM par équipe\n\n– 1er départ: 9h \n– Distance: 12.41 km \n– Prix coureurs: 122/10\, 1er 24€ \n  \n\n3ème étape: Course en ligne + circuit final\n\n– Départ: 14h30 \n– 70.5 km en ligne + 4 tours x 7.9 km = 102.1 km \n– Prix coureurs: 122/10\, 1er 24€ \n  \nClassement général: 305/15\, 1er 61€ \n  \nPossibilité de repas pour le dimanche midi – Réservation jusqu’au 01/09/2023 – Prix unitaire: 15€ \n  \nOuverture des engagements: le 19/07/2023 à 18h\, clôture le 06/09/2023 à 20h \nRenseignements: DENOUAL Damien – e-mail: goldwin85@hotmail.fr / Port: 06.33.14.85.66 \n 
URL:https://www.cyclisme.bzh/epreuve-calendrier/la-route-du-roc-louvigne-du-desert-2/
LOCATION:LOUVIGNE DU DESERT\, LOUVIGNE DU DESERT\, Bretagne\, France
ORGANIZER;CN="VCS LOUVIGNEEN":MAILTO:engagementsvcsl@outlook.fr
END:VEVENT
BEGIN:VEVENT
DTSTART;VALUE=DATE:20230909
DTEND;VALUE=DATE:20230911
DTSTAMP:20260422T011201
CREATED:20230824T142758Z
LAST-MODIFIED:20230824T142758Z
UID:10002125-1694217600-1694390399@www.cyclisme.bzh
SUMMARY:Landaul - "La Landaulaise" - Trophée David FRANEK
DESCRIPTION:Lire en plein écranAller au contenu PDF
URL:https://www.cyclisme.bzh/epreuve-calendrier/landaul-la-landaulaise-trophee-david-franek/
LOCATION:LANDAUL\, LANDAUL\, Bretagne\, France
CATEGORIES:Handisport
END:VEVENT
END:VCALENDAR